BEGIN:VCALENDAR
VERSION:2.0
PRODID:-//Reenacting Schedule - ECPv6.15.20//NONSGML v1.0//EN
CALSCALE:GREGORIAN
METHOD:PUBLISH
X-ORIGINAL-URL:https://reenactingschedule.org
X-WR-CALDESC:Events for Reenacting Schedule
REFRESH-INTERVAL;VALUE=DURATION:PT1H
X-Robots-Tag:noindex
X-PUBLISHED-TTL:PT1H
BEGIN:VTIMEZONE
TZID:America/Kentucky/Louisville
BEGIN:DAYLIGHT
TZOFFSETFROM:-0500
TZOFFSETTO:-0400
TZNAME:EDT
DTSTART:20250309T070000
END:DAYLIGHT
BEGIN:STANDARD
TZOFFSETFROM:-0400
TZOFFSETTO:-0500
TZNAME:EST
DTSTART:20251102T060000
END:STANDARD
BEGIN:DAYLIGHT
TZOFFSETFROM:-0500
TZOFFSETTO:-0400
TZNAME:EDT
DTSTART:20260308T070000
END:DAYLIGHT
BEGIN:STANDARD
TZOFFSETFROM:-0400
TZOFFSETTO:-0500
TZNAME:EST
DTSTART:20261101T060000
END:STANDARD
BEGIN:DAYLIGHT
TZOFFSETFROM:-0500
TZOFFSETTO:-0400
TZNAME:EDT
DTSTART:20270314T070000
END:DAYLIGHT
BEGIN:STANDARD
TZOFFSETFROM:-0400
TZOFFSETTO:-0500
TZNAME:EST
DTSTART:20271107T060000
END:STANDARD
END:VTIMEZONE
BEGIN:VEVENT
DTSTART;TZID=America/Kentucky/Louisville:20260321T170000
DTEND;TZID=America/Kentucky/Louisville:20260411T170000
DTSTAMP:20260423T140431
CREATED:20260118T214147Z
LAST-MODIFIED:20260123T225650Z
UID:10003223-1774112400-1775926800@reenactingschedule.org
SUMMARY:Colonial Field Tavern @ Battle of St George Island
DESCRIPTION:Immersive 18th Century Tavern Experience  \nOutside the church\, the tavern was the most important institution in most towns.  Taverns were used as meeting places for political assemblies (like the militia or the courts).   When people needed to conduct business meetings or hold markets\, their choices were generally the church or the tavern.  Since the Colonial Legislatures often offered inducements to tavern owners\, they saw these businesses as “operating for the common good\,” which ultimately meant that tavern meeting rooms could be appropriated for government business like courts\, polls\, and meetings of the militia. People relied on taverns as the primary means of spreading news and ideas.  Newspapers and stories were often shared by travelers in taverns.  As conflicts erupted between the Crown and her colonies in the 1760’s\, it was in the taverns that men discussed their responses and ultimate aims.  It was in the colonial tavern that the revolutionary spirit launched our nation.  Without taverns\, it is likely that the various colonies would have remained separate and subjugated to the greater British Empire. \n“To drink at a table without drinking to the health of someone special\, should be considered drinking on the Sly\, and as an act of incivility.”   – Poor Richard \nPatrons are invited to an evening of storytelling and merriment during which they can enjoy and 18th Century tavern experience complete with period beer\, cocktails\, competitive toasts\, various entertainments\, and maybe even a rousting political debate.  We will not serve food nor will be perform music but can assist the site in contracting of musicians\, food\, and other aspects of the tavern experience which will complete the evening.
URL:https://reenactingschedule.org/event/colonial-field-tavern-battle-of-st-george-island/
LOCATION:St George Island\, Crownsville\, MD\, 21032\, United States
ORGANIZER;CN="Regimental Brewmeister":MAILTO:Colonialbrewer@gmail.com
END:VEVENT
END:VCALENDAR