BEGIN:VCALENDAR
VERSION:2.0
PRODID:-//Reenacting Schedule - ECPv6.15.18//NONSGML v1.0//EN
CALSCALE:GREGORIAN
METHOD:PUBLISH
X-WR-CALNAME:Reenacting Schedule
X-ORIGINAL-URL:https://reenactingschedule.org
X-WR-CALDESC:Events for Reenacting Schedule
REFRESH-INTERVAL;VALUE=DURATION:PT1H
X-Robots-Tag:noindex
X-PUBLISHED-TTL:PT1H
BEGIN:VTIMEZONE
TZID:America/Kentucky/Louisville
BEGIN:DAYLIGHT
TZOFFSETFROM:-0500
TZOFFSETTO:-0400
TZNAME:EDT
DTSTART:20250309T070000
END:DAYLIGHT
BEGIN:STANDARD
TZOFFSETFROM:-0400
TZOFFSETTO:-0500
TZNAME:EST
DTSTART:20251102T060000
END:STANDARD
BEGIN:DAYLIGHT
TZOFFSETFROM:-0500
TZOFFSETTO:-0400
TZNAME:EDT
DTSTART:20260308T070000
END:DAYLIGHT
BEGIN:STANDARD
TZOFFSETFROM:-0400
TZOFFSETTO:-0500
TZNAME:EST
DTSTART:20261101T060000
END:STANDARD
BEGIN:DAYLIGHT
TZOFFSETFROM:-0500
TZOFFSETTO:-0400
TZNAME:EDT
DTSTART:20270314T070000
END:DAYLIGHT
BEGIN:STANDARD
TZOFFSETFROM:-0400
TZOFFSETTO:-0500
TZNAME:EST
DTSTART:20271107T060000
END:STANDARD
END:VTIMEZONE
BEGIN:VEVENT
DTSTART;VALUE=DATE:20260424
DTEND;VALUE=DATE:20260427
DTSTAMP:20260420T112235
CREATED:20260217T003158Z
LAST-MODIFIED:20260217T003158Z
UID:10003247-1776988800-1777247999@reenactingschedule.org
SUMMARY:Mary Ingles in the Kanawha Valley
DESCRIPTION:Mary Ingles Trail Associates (MITA) in the Kanawha Valley!MITA will present our Encampment and Living History Event at Kanawha State Forest in Log Town Hollow\, April 24-26\, 2026.\n\nWhile named and centered around the life of Mary Draper Ingles\, what we present is ALL life skills which Mary\, her family\, friends\, and neighbors would need to survive in the 18th Century. We will focus this event on various trade scenarios among the various groups living in the Kanawha Valley.\n\nIf you are a historical reenactor or demonstrator\, let’s chat! We are always open to new demonstrators\, whether you are new to the craft or “well-seasoned” … as long as you have a love for education and accuracy\, we’d love to get to know you.
URL:https://reenactingschedule.org/event/mary-ingles-in-the-kanawha-valley/
LOCATION:Kanawha State Forest\, 7949 Kanawha State Forest Dr\, Hernshaw\, WV\, 25107\, United States
CATEGORIES:Historic Demonstration,Reenactment
END:VEVENT
END:VCALENDAR