BEGIN:VCALENDAR
VERSION:2.0
PRODID:-//Reenacting Schedule - ECPv6.15.20//NONSGML v1.0//EN
CALSCALE:GREGORIAN
METHOD:PUBLISH
X-WR-CALNAME:Reenacting Schedule
X-ORIGINAL-URL:https://reenactingschedule.org
X-WR-CALDESC:Events for Reenacting Schedule
REFRESH-INTERVAL;VALUE=DURATION:PT1H
X-Robots-Tag:noindex
X-PUBLISHED-TTL:PT1H
BEGIN:VTIMEZONE
TZID:America/Kentucky/Louisville
BEGIN:DAYLIGHT
TZOFFSETFROM:-0500
TZOFFSETTO:-0400
TZNAME:EDT
DTSTART:20210314T070000
END:DAYLIGHT
BEGIN:STANDARD
TZOFFSETFROM:-0400
TZOFFSETTO:-0500
TZNAME:EST
DTSTART:20211107T060000
END:STANDARD
BEGIN:DAYLIGHT
TZOFFSETFROM:-0500
TZOFFSETTO:-0400
TZNAME:EDT
DTSTART:20220313T070000
END:DAYLIGHT
BEGIN:STANDARD
TZOFFSETFROM:-0400
TZOFFSETTO:-0500
TZNAME:EST
DTSTART:20221106T060000
END:STANDARD
BEGIN:DAYLIGHT
TZOFFSETFROM:-0500
TZOFFSETTO:-0400
TZNAME:EDT
DTSTART:20230312T070000
END:DAYLIGHT
BEGIN:STANDARD
TZOFFSETFROM:-0400
TZOFFSETTO:-0500
TZNAME:EST
DTSTART:20231105T060000
END:STANDARD
END:VTIMEZONE
BEGIN:VEVENT
DTSTART;TZID=America/Kentucky/Louisville:20221103T120000
DTEND;TZID=America/Kentucky/Louisville:20221106T120000
DTSTAMP:20260425T231055
CREATED:20220228T170932Z
LAST-MODIFIED:20220316T031559Z
UID:10000181-1667476800-1667736000@reenactingschedule.org
SUMMARY:PATHWAYS WOMEN'S GATHERING
DESCRIPTION:Open to participants only\, Pathways Women’s Gathering is a full 3-day\, women-only\, event that focuses on learning\, fellowship\, renewal\, competitions\, etc.\nPre-registration is strongly encouraged if you would like indoor lodging (otherwise you will need to bring canvas). You may arrive as early as noon on Thursday\, 11/3/22. \nFor more information and updates\, please request membership to our private Facebook page.  https://www.facebook.com/groups/777477168965740 \nPathways is open to all women of Living History – from beginner to seasoned veteran. Time period is pre-1840. This is a judgement free event.
URL:https://reenactingschedule.org/event/pathways-womens-gathering/
LOCATION:Fort La Buse (private property)\, 7238 Shaffer Road\, Bellville\, OH\, United States
CATEGORIES:Reenactor Only Event,Seminar
ATTACH;FMTTYPE=image/png:https://reenactingschedule.org/wp-content/uploads/2022/02/2022-flyer-7dcf704538cb3c302acff229d1ac9f36.png
END:VEVENT
END:VCALENDAR