BEGIN:VCALENDAR
VERSION:2.0
PRODID:-//Reenacting Schedule - ECPv6.15.20//NONSGML v1.0//EN
CALSCALE:GREGORIAN
METHOD:PUBLISH
X-WR-CALNAME:Reenacting Schedule
X-ORIGINAL-URL:https://reenactingschedule.org
X-WR-CALDESC:Events for Reenacting Schedule
REFRESH-INTERVAL;VALUE=DURATION:PT1H
X-Robots-Tag:noindex
X-PUBLISHED-TTL:PT1H
BEGIN:VTIMEZONE
TZID:America/Kentucky/Louisville
BEGIN:DAYLIGHT
TZOFFSETFROM:-0500
TZOFFSETTO:-0400
TZNAME:EDT
DTSTART:20250309T070000
END:DAYLIGHT
BEGIN:STANDARD
TZOFFSETFROM:-0400
TZOFFSETTO:-0500
TZNAME:EST
DTSTART:20251102T060000
END:STANDARD
BEGIN:DAYLIGHT
TZOFFSETFROM:-0500
TZOFFSETTO:-0400
TZNAME:EDT
DTSTART:20260308T070000
END:DAYLIGHT
BEGIN:STANDARD
TZOFFSETFROM:-0400
TZOFFSETTO:-0500
TZNAME:EST
DTSTART:20261101T060000
END:STANDARD
BEGIN:DAYLIGHT
TZOFFSETFROM:-0500
TZOFFSETTO:-0400
TZNAME:EDT
DTSTART:20270314T070000
END:DAYLIGHT
BEGIN:STANDARD
TZOFFSETFROM:-0400
TZOFFSETTO:-0500
TZNAME:EST
DTSTART:20271107T060000
END:STANDARD
END:VTIMEZONE
BEGIN:VEVENT
DTSTART;TZID=America/Kentucky/Louisville:20261009T120000
DTEND;TZID=America/Kentucky/Louisville:20261009T180000
DTSTAMP:20260423T195009
CREATED:20260422T185841Z
LAST-MODIFIED:20260422T185841Z
UID:10003270-1791547200-1791568800@reenactingschedule.org
SUMMARY:Log Cabin Shop's 18th Annual Early American Trades Fair
DESCRIPTION:Meet with & learn from skilled artisans as they work\, Many handcrafted items on display for sale and trade. Admission is free and open to the public.
URL:https://reenactingschedule.org/event/log-cabin-shops-18th-annual-early-american-trades-fair/2026-10-09/
LOCATION:Log Cabin Shop\, 8010 Lafayette Road\, Lodi\, 44254\, United States
CATEGORIES:Outdoor Trade Fair
ATTACH;FMTTYPE=image/jpeg:https://reenactingschedule.org/wp-content/uploads/2026/04/postcard2026-1.jpg
ORGANIZER;CN="Log Cabin Shop":MAILTO:logcabin@logcabinshop.com
END:VEVENT
BEGIN:VEVENT
DTSTART;TZID=America/Kentucky/Louisville:20261010T090000
DTEND;TZID=America/Kentucky/Louisville:20261011T170000
DTSTAMP:20260423T195009
CREATED:20260422T185841Z
LAST-MODIFIED:20260422T185841Z
UID:10003271-1791622800-1791738000@reenactingschedule.org
SUMMARY:Log Cabin Shop's 18th Annual Early American Trades Fair
DESCRIPTION:Meet with & learn from skilled artisans as they work\, Many handcrafted items on display for sale and trade. Admission is free and open to the public.
URL:https://reenactingschedule.org/event/log-cabin-shops-18th-annual-early-american-trades-fair/2026-10-10/
LOCATION:Log Cabin Shop\, 8010 Lafayette Road\, Lodi\, 44254\, United States
CATEGORIES:Outdoor Trade Fair
ATTACH;FMTTYPE=image/jpeg:https://reenactingschedule.org/wp-content/uploads/2026/04/postcard2026-1.jpg
ORGANIZER;CN="Log Cabin Shop":MAILTO:logcabin@logcabinshop.com
END:VEVENT
END:VCALENDAR