BEGIN:VCALENDAR
VERSION:2.0
PRODID:-//Reenacting Schedule - ECPv6.15.20//NONSGML v1.0//EN
CALSCALE:GREGORIAN
METHOD:PUBLISH
X-ORIGINAL-URL:https://reenactingschedule.org
X-WR-CALDESC:Events for Reenacting Schedule
REFRESH-INTERVAL;VALUE=DURATION:PT1H
X-Robots-Tag:noindex
X-PUBLISHED-TTL:PT1H
BEGIN:VTIMEZONE
TZID:America/Indiana/Knox
BEGIN:DAYLIGHT
TZOFFSETFROM:-0600
TZOFFSETTO:-0500
TZNAME:CDT
DTSTART:20250309T080000
END:DAYLIGHT
BEGIN:STANDARD
TZOFFSETFROM:-0500
TZOFFSETTO:-0600
TZNAME:CST
DTSTART:20251102T070000
END:STANDARD
BEGIN:DAYLIGHT
TZOFFSETFROM:-0600
TZOFFSETTO:-0500
TZNAME:CDT
DTSTART:20260308T080000
END:DAYLIGHT
BEGIN:STANDARD
TZOFFSETFROM:-0500
TZOFFSETTO:-0600
TZNAME:CST
DTSTART:20261101T070000
END:STANDARD
BEGIN:DAYLIGHT
TZOFFSETFROM:-0600
TZOFFSETTO:-0500
TZNAME:CDT
DTSTART:20270314T080000
END:DAYLIGHT
BEGIN:STANDARD
TZOFFSETFROM:-0500
TZOFFSETTO:-0600
TZNAME:CST
DTSTART:20271107T070000
END:STANDARD
END:VTIMEZONE
BEGIN:VTIMEZONE
TZID:America/Kentucky/Louisville
BEGIN:DAYLIGHT
TZOFFSETFROM:-0500
TZOFFSETTO:-0400
TZNAME:EDT
DTSTART:20250309T070000
END:DAYLIGHT
BEGIN:STANDARD
TZOFFSETFROM:-0400
TZOFFSETTO:-0500
TZNAME:EST
DTSTART:20251102T060000
END:STANDARD
BEGIN:DAYLIGHT
TZOFFSETFROM:-0500
TZOFFSETTO:-0400
TZNAME:EDT
DTSTART:20260308T070000
END:DAYLIGHT
BEGIN:STANDARD
TZOFFSETFROM:-0400
TZOFFSETTO:-0500
TZNAME:EST
DTSTART:20261101T060000
END:STANDARD
BEGIN:DAYLIGHT
TZOFFSETFROM:-0500
TZOFFSETTO:-0400
TZNAME:EDT
DTSTART:20270314T070000
END:DAYLIGHT
BEGIN:STANDARD
TZOFFSETFROM:-0400
TZOFFSETTO:-0500
TZNAME:EST
DTSTART:20271107T060000
END:STANDARD
END:VTIMEZONE
BEGIN:VEVENT
DTSTART;TZID=America/Indiana/Knox:20260109T130000
DTEND;TZID=America/Indiana/Knox:20260111T140000
DTSTAMP:20260423T141211
CREATED:20250911T005059Z
LAST-MODIFIED:20251126T222308Z
UID:10003117-1767963600-1768140000@reenactingschedule.org
SUMMARY:Battle of The Village: Reenactment 2026
DESCRIPTION:245th Anniversary Event\nThis event will take place January 9 to 11\, 2026 at the Historic Blakeley State Park. \nHistoric Context:\nAfter the loss of Mobile to the Spanish in 1780\, British General John Campbell launched a counter attack on Mobile.  On the morning of January 7\, 1781\, the British forces arrived to siege a palisade fort constructed by the Spanish on the far side of the bay; this was located near a settlement called “French Village” or “The Village.”  The British forces\, led by Colonel Johann von Hanxleden\, fell into disarray and were repelled after the sudden death of their commander during the battle. \nReenactor Packet: \nCLICK HERE to download the Reenactor Packet (official schedule\, safety policies\, clothing standards\, etc.) for the event. \nPlease connect with us on Facebook! \nReenactor Registration: \nCLICK HERE to register yourself or your living history organization.  You will be contacted by e-mail after submitting this form to confirm your registration.  You must receive e-mail confirmation to participate–random walk-ins will NOT be accepted.
URL:https://reenactingschedule.org/event/battle-of-the-village-reenactment-2026/
LOCATION:Historic Blakeley State Park\, 34745 AL-225\, Spanish Fort\, AL\, 36527\, United States
CATEGORIES:Reenactment
ATTACH;FMTTYPE=image/jpeg:https://reenactingschedule.org/wp-content/uploads/2025/09/Battleofthevillage.jpg
ORGANIZER;CN="Kyle Dunigan":MAILTO:jdun64@gmail.com
END:VEVENT
BEGIN:VEVENT
DTSTART;TZID=America/Kentucky/Louisville:20260117T120000
DTEND;TZID=America/Kentucky/Louisville:20260117T160000
DTSTAMP:20260423T141211
CREATED:20260118T030406Z
LAST-MODIFIED:20260118T030406Z
UID:10003160-1768651200-1768665600@reenactingschedule.org
SUMMARY:History Matters @ INHP
DESCRIPTION:Come to Independence National Historic Park and hear the Philadelphia Tour Guides Association tell the under-emphasized history and the history that the Trump Adminstration hopes to censor.  We are telling the stories of black patriots\, Jewish patriots\, women patriots\, and others who made our nation great.
URL:https://reenactingschedule.org/event/history-matters-inhp/2026-01-17/
ORGANIZER;CN="Regimental Brewmeister":MAILTO:Colonialbrewer@gmail.com
END:VEVENT
BEGIN:VEVENT
DTSTART;TZID=America/Kentucky/Louisville:20260128T180000
DTEND;TZID=America/Kentucky/Louisville:20260128T220000
DTSTAMP:20260423T141211
CREATED:20260118T214926Z
LAST-MODIFIED:20260118T214926Z
UID:10003226-1769623200-1769637600@reenactingschedule.org
SUMMARY:Talk on Importance of Taverns in Colonial America
DESCRIPTION:The Importance of Taverns in America – The Tavern Act ensured that public houses were constructed along England’s (and her colony’s) major highways and at her ports. This was done principally to support commerce but since these were often the largest and most accessible buildings in many communities\, taverns took a major role in keeping communities together\, sharing news\, and ensuring that the government functioned. Taverns hosted militia musters\, court proceedings\, polls\, and post offices. The tavern was where people gathered to share news and engage in trade. These institutions were far more than just bars and hotels\, they were the heart of many communities\, second only to the church. The Admiral of the Blue Apron discusses how the tavern was instrumental in both preventing anarchy and driving revolution in the American colonies.
URL:https://reenactingschedule.org/event/talk-on-importance-of-taverns-in-colonial-america-3/
LOCATION:Blue Ball Barn\, 1 St. Rocco Way\,\, Wilmington\, DE\, 19802\, United States
ORGANIZER;CN="Regimental Brewmeister":MAILTO:Colonialbrewer@gmail.com
END:VEVENT
END:VCALENDAR