BEGIN:VCALENDAR
VERSION:2.0
PRODID:-//Reenacting Schedule - ECPv6.15.20//NONSGML v1.0//EN
CALSCALE:GREGORIAN
METHOD:PUBLISH
X-ORIGINAL-URL:https://reenactingschedule.org
X-WR-CALDESC:Events for Reenacting Schedule
REFRESH-INTERVAL;VALUE=DURATION:PT1H
X-Robots-Tag:noindex
X-PUBLISHED-TTL:PT1H
BEGIN:VTIMEZONE
TZID:America/Kentucky/Louisville
BEGIN:DAYLIGHT
TZOFFSETFROM:-0500
TZOFFSETTO:-0400
TZNAME:EDT
DTSTART:20250309T070000
END:DAYLIGHT
BEGIN:STANDARD
TZOFFSETFROM:-0400
TZOFFSETTO:-0500
TZNAME:EST
DTSTART:20251102T060000
END:STANDARD
BEGIN:DAYLIGHT
TZOFFSETFROM:-0500
TZOFFSETTO:-0400
TZNAME:EDT
DTSTART:20260308T070000
END:DAYLIGHT
BEGIN:STANDARD
TZOFFSETFROM:-0400
TZOFFSETTO:-0500
TZNAME:EST
DTSTART:20261101T060000
END:STANDARD
BEGIN:DAYLIGHT
TZOFFSETFROM:-0500
TZOFFSETTO:-0400
TZNAME:EDT
DTSTART:20270314T070000
END:DAYLIGHT
BEGIN:STANDARD
TZOFFSETFROM:-0400
TZOFFSETTO:-0500
TZNAME:EST
DTSTART:20271107T060000
END:STANDARD
END:VTIMEZONE
BEGIN:VEVENT
DTSTART;TZID=America/Kentucky/Louisville:20260815T120000
DTEND;TZID=America/Kentucky/Louisville:20260815T160000
DTSTAMP:20260424T042929
CREATED:20260118T030406Z
LAST-MODIFIED:20260118T030406Z
UID:10003167-1786795200-1786809600@reenactingschedule.org
SUMMARY:History Matters @ INHP
DESCRIPTION:Come to Independence National Historic Park and hear the Philadelphia Tour Guides Association tell the under-emphasized history and the history that the Trump Adminstration hopes to censor.  We are telling the stories of black patriots\, Jewish patriots\, women patriots\, and others who made our nation great.
URL:https://reenactingschedule.org/event/history-matters-inhp/2026-08-15/
ORGANIZER;CN="Regimental Brewmeister":MAILTO:Colonialbrewer@gmail.com
END:VEVENT
BEGIN:VEVENT
DTSTART;VALUE=DATE:20260816
DTEND;VALUE=DATE:20260820
DTSTAMP:20260424T042929
CREATED:20260423T215530Z
LAST-MODIFIED:20260423T215649Z
UID:10003358-1786838400-1787183999@reenactingschedule.org
SUMMARY:Michilimackinac Reenactment
DESCRIPTION:Reenactment of Pontiac rebellion.  4-day encampment.
URL:https://reenactingschedule.org/event/michilimackinac-reenactment-2/2026-08-16/
CATEGORIES:Encampment,Historic Demonstration,Reenactment
ORGANIZER;CN="Fort Micilimackinaw Renactment Committee":MAILTO:sniderconst@centurylink.net
END:VEVENT
BEGIN:VEVENT
DTSTART;VALUE=DATE:20260817
DTEND;VALUE=DATE:20260821
DTSTAMP:20260424T042929
CREATED:20260423T215530Z
LAST-MODIFIED:20260423T215649Z
UID:10003359-1786924800-1787270399@reenactingschedule.org
SUMMARY:Michilimackinac Reenactment
DESCRIPTION:Reenactment of Pontiac rebellion.  4-day encampment.
URL:https://reenactingschedule.org/event/michilimackinac-reenactment-2/2026-08-17/
CATEGORIES:Encampment,Historic Demonstration,Reenactment
ORGANIZER;CN="Fort Micilimackinaw Renactment Committee":MAILTO:sniderconst@centurylink.net
END:VEVENT
BEGIN:VEVENT
DTSTART;VALUE=DATE:20260818
DTEND;VALUE=DATE:20260822
DTSTAMP:20260424T042929
CREATED:20260423T215530Z
LAST-MODIFIED:20260423T215649Z
UID:10003360-1787011200-1787356799@reenactingschedule.org
SUMMARY:Michilimackinac Reenactment
DESCRIPTION:Reenactment of Pontiac rebellion.  4-day encampment.
URL:https://reenactingschedule.org/event/michilimackinac-reenactment-2/2026-08-18/
CATEGORIES:Encampment,Historic Demonstration,Reenactment
ORGANIZER;CN="Fort Micilimackinaw Renactment Committee":MAILTO:sniderconst@centurylink.net
END:VEVENT
BEGIN:VEVENT
DTSTART;VALUE=DATE:20260819
DTEND;VALUE=DATE:20260823
DTSTAMP:20260424T042929
CREATED:20260423T215530Z
LAST-MODIFIED:20260423T215649Z
UID:10003361-1787097600-1787443199@reenactingschedule.org
SUMMARY:Michilimackinac Reenactment
DESCRIPTION:Reenactment of Pontiac rebellion.  4-day encampment.
URL:https://reenactingschedule.org/event/michilimackinac-reenactment-2/2026-08-19/
CATEGORIES:Encampment,Historic Demonstration,Reenactment
ORGANIZER;CN="Fort Micilimackinaw Renactment Committee":MAILTO:sniderconst@centurylink.net
END:VEVENT
BEGIN:VEVENT
DTSTART;VALUE=DATE:20260820
DTEND;VALUE=DATE:20260824
DTSTAMP:20260424T042929
CREATED:20260423T215530Z
LAST-MODIFIED:20260423T215649Z
UID:10003362-1787184000-1787529599@reenactingschedule.org
SUMMARY:Michilimackinac Reenactment
DESCRIPTION:Reenactment of Pontiac rebellion.  4-day encampment.
URL:https://reenactingschedule.org/event/michilimackinac-reenactment-2/2026-08-20/
CATEGORIES:Encampment,Historic Demonstration,Reenactment
ORGANIZER;CN="Fort Micilimackinaw Renactment Committee":MAILTO:sniderconst@centurylink.net
END:VEVENT
BEGIN:VEVENT
DTSTART;VALUE=DATE:20260821
DTEND;VALUE=DATE:20260825
DTSTAMP:20260424T042929
CREATED:20260423T215530Z
LAST-MODIFIED:20260423T215649Z
UID:10003363-1787270400-1787615999@reenactingschedule.org
SUMMARY:Michilimackinac Reenactment
DESCRIPTION:Reenactment of Pontiac rebellion.  4-day encampment.
URL:https://reenactingschedule.org/event/michilimackinac-reenactment-2/2026-08-21/
CATEGORIES:Encampment,Historic Demonstration,Reenactment
ORGANIZER;CN="Fort Micilimackinaw Renactment Committee":MAILTO:sniderconst@centurylink.net
END:VEVENT
BEGIN:VEVENT
DTSTART;VALUE=DATE:20260822
DTEND;VALUE=DATE:20260826
DTSTAMP:20260424T042929
CREATED:20260423T215530Z
LAST-MODIFIED:20260423T215649Z
UID:10003364-1787356800-1787702399@reenactingschedule.org
SUMMARY:Michilimackinac Reenactment
DESCRIPTION:Reenactment of Pontiac rebellion.  4-day encampment.
URL:https://reenactingschedule.org/event/michilimackinac-reenactment-2/2026-08-22/
CATEGORIES:Encampment,Historic Demonstration,Reenactment
ORGANIZER;CN="Fort Micilimackinaw Renactment Committee":MAILTO:sniderconst@centurylink.net
END:VEVENT
BEGIN:VEVENT
DTSTART;TZID=America/Kentucky/Louisville:20260822T093000
DTEND;TZID=America/Kentucky/Louisville:20260823T170000
DTSTAMP:20260424T042929
CREATED:20240322T183011Z
LAST-MODIFIED:20260109T155616Z
UID:10002191-1787391000-1787504400@reenactingschedule.org
SUMMARY:60 Years war for Ohio: American Revolution
DESCRIPTION:Fort Meigs hosts the North West Territory Alliance. Immerse yourself in the sights and sounds of the American Revolution in this exciting living history event featuring; military & battle demonstrations\, an interactive ambush\, live fife and drum concerts\, an 18th century duel\, hands on activities for kids and more!
URL:https://reenactingschedule.org/event/60-years-war-for-ohio-american-revolution-grand-encampment/
LOCATION:Fort Meigs Historic Site\, 29100 West River Road\, Perrysburg\, OH\, 43551\, United States
CATEGORIES:Reenactment
ATTACH;FMTTYPE=image/jpeg:https://reenactingschedule.org/wp-content/uploads/2024/03/Screenshot-2023-03-24-153110.jpg
ORGANIZER;CN="Fort Meigs Historic Site":MAILTO:jthompson@fortmeigs.org
END:VEVENT
BEGIN:VEVENT
DTSTART;VALUE=DATE:20260823
DTEND;VALUE=DATE:20260827
DTSTAMP:20260424T042929
CREATED:20260423T215530Z
LAST-MODIFIED:20260423T215649Z
UID:10003365-1787443200-1787788799@reenactingschedule.org
SUMMARY:Michilimackinac Reenactment
DESCRIPTION:Reenactment of Pontiac rebellion.  4-day encampment.
URL:https://reenactingschedule.org/event/michilimackinac-reenactment-2/2026-08-23/
CATEGORIES:Encampment,Historic Demonstration,Reenactment
ORGANIZER;CN="Fort Micilimackinaw Renactment Committee":MAILTO:sniderconst@centurylink.net
END:VEVENT
BEGIN:VEVENT
DTSTART;VALUE=DATE:20260824
DTEND;VALUE=DATE:20260828
DTSTAMP:20260424T042929
CREATED:20260423T215530Z
LAST-MODIFIED:20260423T215649Z
UID:10003366-1787529600-1787875199@reenactingschedule.org
SUMMARY:Michilimackinac Reenactment
DESCRIPTION:Reenactment of Pontiac rebellion.  4-day encampment.
URL:https://reenactingschedule.org/event/michilimackinac-reenactment-2/2026-08-24/
CATEGORIES:Encampment,Historic Demonstration,Reenactment
ORGANIZER;CN="Fort Micilimackinaw Renactment Committee":MAILTO:sniderconst@centurylink.net
END:VEVENT
BEGIN:VEVENT
DTSTART;VALUE=DATE:20260825
DTEND;VALUE=DATE:20260829
DTSTAMP:20260424T042929
CREATED:20260423T215530Z
LAST-MODIFIED:20260423T215649Z
UID:10003367-1787616000-1787961599@reenactingschedule.org
SUMMARY:Michilimackinac Reenactment
DESCRIPTION:Reenactment of Pontiac rebellion.  4-day encampment.
URL:https://reenactingschedule.org/event/michilimackinac-reenactment-2/2026-08-25/
CATEGORIES:Encampment,Historic Demonstration,Reenactment
ORGANIZER;CN="Fort Micilimackinaw Renactment Committee":MAILTO:sniderconst@centurylink.net
END:VEVENT
BEGIN:VEVENT
DTSTART;VALUE=DATE:20260826
DTEND;VALUE=DATE:20260830
DTSTAMP:20260424T042929
CREATED:20260423T215530Z
LAST-MODIFIED:20260423T215649Z
UID:10003368-1787702400-1788047999@reenactingschedule.org
SUMMARY:Michilimackinac Reenactment
DESCRIPTION:Reenactment of Pontiac rebellion.  4-day encampment.
URL:https://reenactingschedule.org/event/michilimackinac-reenactment-2/2026-08-26/
CATEGORIES:Encampment,Historic Demonstration,Reenactment
ORGANIZER;CN="Fort Micilimackinaw Renactment Committee":MAILTO:sniderconst@centurylink.net
END:VEVENT
BEGIN:VEVENT
DTSTART;VALUE=DATE:20260827
DTEND;VALUE=DATE:20260831
DTSTAMP:20260424T042929
CREATED:20260423T215530Z
LAST-MODIFIED:20260423T215649Z
UID:10003369-1787788800-1788134399@reenactingschedule.org
SUMMARY:Michilimackinac Reenactment
DESCRIPTION:Reenactment of Pontiac rebellion.  4-day encampment.
URL:https://reenactingschedule.org/event/michilimackinac-reenactment-2/2026-08-27/
CATEGORIES:Encampment,Historic Demonstration,Reenactment
ORGANIZER;CN="Fort Micilimackinaw Renactment Committee":MAILTO:sniderconst@centurylink.net
END:VEVENT
BEGIN:VEVENT
DTSTART;VALUE=DATE:20260828
DTEND;VALUE=DATE:20260901
DTSTAMP:20260424T042929
CREATED:20260423T215530Z
LAST-MODIFIED:20260423T215649Z
UID:10003370-1787875200-1788220799@reenactingschedule.org
SUMMARY:Michilimackinac Reenactment
DESCRIPTION:Reenactment of Pontiac rebellion.  4-day encampment.
URL:https://reenactingschedule.org/event/michilimackinac-reenactment-2/2026-08-28/
CATEGORIES:Encampment,Historic Demonstration,Reenactment
ORGANIZER;CN="Fort Micilimackinaw Renactment Committee":MAILTO:sniderconst@centurylink.net
END:VEVENT
BEGIN:VEVENT
DTSTART;VALUE=DATE:20260829
DTEND;VALUE=DATE:20260902
DTSTAMP:20260424T042929
CREATED:20260423T215530Z
LAST-MODIFIED:20260423T215649Z
UID:10003371-1787961600-1788307199@reenactingschedule.org
SUMMARY:Michilimackinac Reenactment
DESCRIPTION:Reenactment of Pontiac rebellion.  4-day encampment.
URL:https://reenactingschedule.org/event/michilimackinac-reenactment-2/2026-08-29/
CATEGORIES:Encampment,Historic Demonstration,Reenactment
ORGANIZER;CN="Fort Micilimackinaw Renactment Committee":MAILTO:sniderconst@centurylink.net
END:VEVENT
BEGIN:VEVENT
DTSTART;VALUE=DATE:20260830
DTEND;VALUE=DATE:20260903
DTSTAMP:20260424T042929
CREATED:20260423T215530Z
LAST-MODIFIED:20260423T215649Z
UID:10003372-1788048000-1788393599@reenactingschedule.org
SUMMARY:Michilimackinac Reenactment
DESCRIPTION:Reenactment of Pontiac rebellion.  4-day encampment.
URL:https://reenactingschedule.org/event/michilimackinac-reenactment-2/2026-08-30/
CATEGORIES:Encampment,Historic Demonstration,Reenactment
ORGANIZER;CN="Fort Micilimackinaw Renactment Committee":MAILTO:sniderconst@centurylink.net
END:VEVENT
BEGIN:VEVENT
DTSTART;VALUE=DATE:20260831
DTEND;VALUE=DATE:20260904
DTSTAMP:20260424T042929
CREATED:20260423T215530Z
LAST-MODIFIED:20260423T215649Z
UID:10003373-1788134400-1788479999@reenactingschedule.org
SUMMARY:Michilimackinac Reenactment
DESCRIPTION:Reenactment of Pontiac rebellion.  4-day encampment.
URL:https://reenactingschedule.org/event/michilimackinac-reenactment-2/2026-08-31/
CATEGORIES:Encampment,Historic Demonstration,Reenactment
ORGANIZER;CN="Fort Micilimackinaw Renactment Committee":MAILTO:sniderconst@centurylink.net
END:VEVENT
BEGIN:VEVENT
DTSTART;VALUE=DATE:20260901
DTEND;VALUE=DATE:20260905
DTSTAMP:20260424T042929
CREATED:20260423T215530Z
LAST-MODIFIED:20260423T215649Z
UID:10003374-1788220800-1788566399@reenactingschedule.org
SUMMARY:Michilimackinac Reenactment
DESCRIPTION:Reenactment of Pontiac rebellion.  4-day encampment.
URL:https://reenactingschedule.org/event/michilimackinac-reenactment-2/2026-09-01/
CATEGORIES:Encampment,Historic Demonstration,Reenactment
ORGANIZER;CN="Fort Micilimackinaw Renactment Committee":MAILTO:sniderconst@centurylink.net
END:VEVENT
BEGIN:VEVENT
DTSTART;VALUE=DATE:20260902
DTEND;VALUE=DATE:20260906
DTSTAMP:20260424T042929
CREATED:20260423T215530Z
LAST-MODIFIED:20260423T215649Z
UID:10003375-1788307200-1788652799@reenactingschedule.org
SUMMARY:Michilimackinac Reenactment
DESCRIPTION:Reenactment of Pontiac rebellion.  4-day encampment.
URL:https://reenactingschedule.org/event/michilimackinac-reenactment-2/2026-09-02/
CATEGORIES:Encampment,Historic Demonstration,Reenactment
ORGANIZER;CN="Fort Micilimackinaw Renactment Committee":MAILTO:sniderconst@centurylink.net
END:VEVENT
BEGIN:VEVENT
DTSTART;VALUE=DATE:20260903
DTEND;VALUE=DATE:20260907
DTSTAMP:20260424T042929
CREATED:20260423T215530Z
LAST-MODIFIED:20260423T215649Z
UID:10003376-1788393600-1788739199@reenactingschedule.org
SUMMARY:Michilimackinac Reenactment
DESCRIPTION:Reenactment of Pontiac rebellion.  4-day encampment.
URL:https://reenactingschedule.org/event/michilimackinac-reenactment-2/2026-09-03/
CATEGORIES:Encampment,Historic Demonstration,Reenactment
ORGANIZER;CN="Fort Micilimackinaw Renactment Committee":MAILTO:sniderconst@centurylink.net
END:VEVENT
BEGIN:VEVENT
DTSTART;VALUE=DATE:20260904
DTEND;VALUE=DATE:20260908
DTSTAMP:20260424T042929
CREATED:20260423T215530Z
LAST-MODIFIED:20260423T215649Z
UID:10003377-1788480000-1788825599@reenactingschedule.org
SUMMARY:Michilimackinac Reenactment
DESCRIPTION:Reenactment of Pontiac rebellion.  4-day encampment.
URL:https://reenactingschedule.org/event/michilimackinac-reenactment-2/2026-09-04/
CATEGORIES:Encampment,Historic Demonstration,Reenactment
ORGANIZER;CN="Fort Micilimackinaw Renactment Committee":MAILTO:sniderconst@centurylink.net
END:VEVENT
BEGIN:VEVENT
DTSTART;VALUE=DATE:20260905
DTEND;VALUE=DATE:20260909
DTSTAMP:20260424T042929
CREATED:20260423T215530Z
LAST-MODIFIED:20260423T215649Z
UID:10003378-1788566400-1788911999@reenactingschedule.org
SUMMARY:Michilimackinac Reenactment
DESCRIPTION:Reenactment of Pontiac rebellion.  4-day encampment.
URL:https://reenactingschedule.org/event/michilimackinac-reenactment-2/2026-09-05/
CATEGORIES:Encampment,Historic Demonstration,Reenactment
ORGANIZER;CN="Fort Micilimackinaw Renactment Committee":MAILTO:sniderconst@centurylink.net
END:VEVENT
BEGIN:VEVENT
DTSTART;VALUE=DATE:20260906
DTEND;VALUE=DATE:20260910
DTSTAMP:20260424T042929
CREATED:20260423T215530Z
LAST-MODIFIED:20260423T215649Z
UID:10003379-1788652800-1788998399@reenactingschedule.org
SUMMARY:Michilimackinac Reenactment
DESCRIPTION:Reenactment of Pontiac rebellion.  4-day encampment.
URL:https://reenactingschedule.org/event/michilimackinac-reenactment-2/2026-09-06/
CATEGORIES:Encampment,Historic Demonstration,Reenactment
ORGANIZER;CN="Fort Micilimackinaw Renactment Committee":MAILTO:sniderconst@centurylink.net
END:VEVENT
BEGIN:VEVENT
DTSTART;VALUE=DATE:20260907
DTEND;VALUE=DATE:20260911
DTSTAMP:20260424T042929
CREATED:20260423T215530Z
LAST-MODIFIED:20260423T215649Z
UID:10003380-1788739200-1789084799@reenactingschedule.org
SUMMARY:Michilimackinac Reenactment
DESCRIPTION:Reenactment of Pontiac rebellion.  4-day encampment.
URL:https://reenactingschedule.org/event/michilimackinac-reenactment-2/2026-09-07/
CATEGORIES:Encampment,Historic Demonstration,Reenactment
ORGANIZER;CN="Fort Micilimackinaw Renactment Committee":MAILTO:sniderconst@centurylink.net
END:VEVENT
BEGIN:VEVENT
DTSTART;VALUE=DATE:20260908
DTEND;VALUE=DATE:20260912
DTSTAMP:20260424T042929
CREATED:20260423T215530Z
LAST-MODIFIED:20260423T215649Z
UID:10003381-1788825600-1789171199@reenactingschedule.org
SUMMARY:Michilimackinac Reenactment
DESCRIPTION:Reenactment of Pontiac rebellion.  4-day encampment.
URL:https://reenactingschedule.org/event/michilimackinac-reenactment-2/2026-09-08/
CATEGORIES:Encampment,Historic Demonstration,Reenactment
ORGANIZER;CN="Fort Micilimackinaw Renactment Committee":MAILTO:sniderconst@centurylink.net
END:VEVENT
BEGIN:VEVENT
DTSTART;VALUE=DATE:20260909
DTEND;VALUE=DATE:20260913
DTSTAMP:20260424T042929
CREATED:20260423T215530Z
LAST-MODIFIED:20260423T215649Z
UID:10003382-1788912000-1789257599@reenactingschedule.org
SUMMARY:Michilimackinac Reenactment
DESCRIPTION:Reenactment of Pontiac rebellion.  4-day encampment.
URL:https://reenactingschedule.org/event/michilimackinac-reenactment-2/2026-09-09/
CATEGORIES:Encampment,Historic Demonstration,Reenactment
ORGANIZER;CN="Fort Micilimackinaw Renactment Committee":MAILTO:sniderconst@centurylink.net
END:VEVENT
BEGIN:VEVENT
DTSTART;VALUE=DATE:20260910
DTEND;VALUE=DATE:20260914
DTSTAMP:20260424T042929
CREATED:20260423T215530Z
LAST-MODIFIED:20260423T215649Z
UID:10003383-1788998400-1789343999@reenactingschedule.org
SUMMARY:Michilimackinac Reenactment
DESCRIPTION:Reenactment of Pontiac rebellion.  4-day encampment.
URL:https://reenactingschedule.org/event/michilimackinac-reenactment-2/2026-09-10/
CATEGORIES:Encampment,Historic Demonstration,Reenactment
ORGANIZER;CN="Fort Micilimackinaw Renactment Committee":MAILTO:sniderconst@centurylink.net
END:VEVENT
BEGIN:VEVENT
DTSTART;VALUE=DATE:20260911
DTEND;VALUE=DATE:20260915
DTSTAMP:20260424T042929
CREATED:20260423T215530Z
LAST-MODIFIED:20260423T215649Z
UID:10003384-1789084800-1789430399@reenactingschedule.org
SUMMARY:Michilimackinac Reenactment
DESCRIPTION:Reenactment of Pontiac rebellion.  4-day encampment.
URL:https://reenactingschedule.org/event/michilimackinac-reenactment-2/2026-09-11/
CATEGORIES:Encampment,Historic Demonstration,Reenactment
ORGANIZER;CN="Fort Micilimackinaw Renactment Committee":MAILTO:sniderconst@centurylink.net
END:VEVENT
BEGIN:VEVENT
DTSTART;TZID=America/Kentucky/Louisville:20260911T100000
DTEND;TZID=America/Kentucky/Louisville:20260913T160000
DTSTAMP:20260424T042929
CREATED:20260115T140727Z
LAST-MODIFIED:20260115T140727Z
UID:10003151-1789120800-1789315200@reenactingschedule.org
SUMMARY:“A Walk in Their Boots” Military Timeline – Living History event
DESCRIPTION:Our “A Walk in Their Boots” Living History Group has another exciting Military Timeline event planned for our 3rd year at Camp Davy Crockett in 2026! This event showcases an extensive array of military and civilian displays from various historical periods. The event will feature military encampments\, equipment\, weapons\, vehicles\, and more. Throughout the day\, attendees can witness weapons demonstrations and battle reenactments\, as well as military vehicles on parade. This year’s event will once again showcase several armored vehicles\, including a World War II German “Tiger” tank\, Cold War era British “Scorpion” tank\, and “Abbott” Self-Propelled Gun. Additionally\, a US Vietnam War era “Gun Truck” known as the “Ace of Spades”\, WWII US M 20 and Cold War era British “Ferret” Armored Cars\, multiple jeeps\, military trucks\, motorcycles\, and other vehicles will be on display. These machines are truly remarkable and witnessing them in action is an astounding experience. As always\, the event is free and open to the public. We cordially invite you to attend and step back through history to experience a day in the life of a soldier in the field!
URL:https://reenactingschedule.org/event/a-walk-in-their-boots-military-timeline-living-history-event-2/2026-09-11/
LOCATION:Camp Davy Crockett\, 142 Scout Camp Rd\, Whitesburg\, TN\, 37891\, United States
CATEGORIES:Encampment,Historic Demonstration,Reenactment,Timeline
ATTACH;FMTTYPE=image/jpeg:https://reenactingschedule.org/wp-content/uploads/2026/01/2026-WITB-DC-sign.jpg
ORGANIZER;CN="A Walk in Their Boots Living History Group":MAILTO:events@militarywalk.us
END:VEVENT
END:VCALENDAR