BEGIN:VCALENDAR
VERSION:2.0
PRODID:-//Reenacting Schedule - ECPv6.15.20//NONSGML v1.0//EN
CALSCALE:GREGORIAN
METHOD:PUBLISH
X-ORIGINAL-URL:https://reenactingschedule.org
X-WR-CALDESC:Events for Reenacting Schedule
REFRESH-INTERVAL;VALUE=DURATION:PT1H
X-Robots-Tag:noindex
X-PUBLISHED-TTL:PT1H
BEGIN:VTIMEZONE
TZID:America/Kentucky/Louisville
BEGIN:DAYLIGHT
TZOFFSETFROM:-0500
TZOFFSETTO:-0400
TZNAME:EDT
DTSTART:20260308T070000
END:DAYLIGHT
BEGIN:STANDARD
TZOFFSETFROM:-0400
TZOFFSETTO:-0500
TZNAME:EST
DTSTART:20261101T060000
END:STANDARD
BEGIN:DAYLIGHT
TZOFFSETFROM:-0500
TZOFFSETTO:-0400
TZNAME:EDT
DTSTART:20270314T070000
END:DAYLIGHT
BEGIN:STANDARD
TZOFFSETFROM:-0400
TZOFFSETTO:-0500
TZNAME:EST
DTSTART:20271107T060000
END:STANDARD
BEGIN:DAYLIGHT
TZOFFSETFROM:-0500
TZOFFSETTO:-0400
TZNAME:EDT
DTSTART:20280312T070000
END:DAYLIGHT
BEGIN:STANDARD
TZOFFSETFROM:-0400
TZOFFSETTO:-0500
TZNAME:EST
DTSTART:20281105T060000
END:STANDARD
BEGIN:DAYLIGHT
TZOFFSETFROM:-0500
TZOFFSETTO:-0400
TZNAME:EDT
DTSTART:20290311T070000
END:DAYLIGHT
BEGIN:STANDARD
TZOFFSETFROM:-0400
TZOFFSETTO:-0500
TZNAME:EST
DTSTART:20291104T060000
END:STANDARD
END:VTIMEZONE
BEGIN:VEVENT
DTSTART;VALUE=DATE:20270515
DTEND;VALUE=DATE:20270519
DTSTAMP:20260425T103235
CREATED:20260423T215530Z
LAST-MODIFIED:20260423T215649Z
UID:10003630-1810339200-1810684799@reenactingschedule.org
SUMMARY:Michilimackinac Reenactment
DESCRIPTION:Reenactment of Pontiac rebellion.  4-day encampment.
URL:https://reenactingschedule.org/event/michilimackinac-reenactment-2/2027-05-15/
CATEGORIES:Encampment,Historic Demonstration,Reenactment
ORGANIZER;CN="Fort Micilimackinaw Renactment Committee":MAILTO:sniderconst@centurylink.net
END:VEVENT
BEGIN:VEVENT
DTSTART;TZID=America/Kentucky/Louisville:20270515T120000
DTEND;TZID=America/Kentucky/Louisville:20270515T160000
DTSTAMP:20260425T103235
CREATED:20260118T030406Z
LAST-MODIFIED:20260118T030406Z
UID:10003176-1810382400-1810396800@reenactingschedule.org
SUMMARY:History Matters @ INHP
DESCRIPTION:Come to Independence National Historic Park and hear the Philadelphia Tour Guides Association tell the under-emphasized history and the history that the Trump Adminstration hopes to censor.  We are telling the stories of black patriots\, Jewish patriots\, women patriots\, and others who made our nation great.
URL:https://reenactingschedule.org/event/history-matters-inhp/2027-05-15/
ORGANIZER;CN="Regimental Brewmeister":MAILTO:Colonialbrewer@gmail.com
END:VEVENT
BEGIN:VEVENT
DTSTART;VALUE=DATE:20270516
DTEND;VALUE=DATE:20270520
DTSTAMP:20260425T103235
CREATED:20260423T215530Z
LAST-MODIFIED:20260423T215649Z
UID:10003631-1810425600-1810771199@reenactingschedule.org
SUMMARY:Michilimackinac Reenactment
DESCRIPTION:Reenactment of Pontiac rebellion.  4-day encampment.
URL:https://reenactingschedule.org/event/michilimackinac-reenactment-2/2027-05-16/
CATEGORIES:Encampment,Historic Demonstration,Reenactment
ORGANIZER;CN="Fort Micilimackinaw Renactment Committee":MAILTO:sniderconst@centurylink.net
END:VEVENT
BEGIN:VEVENT
DTSTART;VALUE=DATE:20270517
DTEND;VALUE=DATE:20270521
DTSTAMP:20260425T103235
CREATED:20260423T215530Z
LAST-MODIFIED:20260423T215649Z
UID:10003632-1810512000-1810857599@reenactingschedule.org
SUMMARY:Michilimackinac Reenactment
DESCRIPTION:Reenactment of Pontiac rebellion.  4-day encampment.
URL:https://reenactingschedule.org/event/michilimackinac-reenactment-2/2027-05-17/
CATEGORIES:Encampment,Historic Demonstration,Reenactment
ORGANIZER;CN="Fort Micilimackinaw Renactment Committee":MAILTO:sniderconst@centurylink.net
END:VEVENT
BEGIN:VEVENT
DTSTART;VALUE=DATE:20270518
DTEND;VALUE=DATE:20270522
DTSTAMP:20260425T103235
CREATED:20260423T215530Z
LAST-MODIFIED:20260423T215649Z
UID:10003633-1810598400-1810943999@reenactingschedule.org
SUMMARY:Michilimackinac Reenactment
DESCRIPTION:Reenactment of Pontiac rebellion.  4-day encampment.
URL:https://reenactingschedule.org/event/michilimackinac-reenactment-2/2027-05-18/
CATEGORIES:Encampment,Historic Demonstration,Reenactment
ORGANIZER;CN="Fort Micilimackinaw Renactment Committee":MAILTO:sniderconst@centurylink.net
END:VEVENT
BEGIN:VEVENT
DTSTART;VALUE=DATE:20270519
DTEND;VALUE=DATE:20270523
DTSTAMP:20260425T103235
CREATED:20260423T215530Z
LAST-MODIFIED:20260423T215649Z
UID:10003634-1810684800-1811030399@reenactingschedule.org
SUMMARY:Michilimackinac Reenactment
DESCRIPTION:Reenactment of Pontiac rebellion.  4-day encampment.
URL:https://reenactingschedule.org/event/michilimackinac-reenactment-2/2027-05-19/
CATEGORIES:Encampment,Historic Demonstration,Reenactment
ORGANIZER;CN="Fort Micilimackinaw Renactment Committee":MAILTO:sniderconst@centurylink.net
END:VEVENT
BEGIN:VEVENT
DTSTART;VALUE=DATE:20270520
DTEND;VALUE=DATE:20270524
DTSTAMP:20260425T103235
CREATED:20260423T215530Z
LAST-MODIFIED:20260423T215649Z
UID:10003635-1810771200-1811116799@reenactingschedule.org
SUMMARY:Michilimackinac Reenactment
DESCRIPTION:Reenactment of Pontiac rebellion.  4-day encampment.
URL:https://reenactingschedule.org/event/michilimackinac-reenactment-2/2027-05-20/
CATEGORIES:Encampment,Historic Demonstration,Reenactment
ORGANIZER;CN="Fort Micilimackinaw Renactment Committee":MAILTO:sniderconst@centurylink.net
END:VEVENT
BEGIN:VEVENT
DTSTART;VALUE=DATE:20270521
DTEND;VALUE=DATE:20270525
DTSTAMP:20260425T103235
CREATED:20260423T215530Z
LAST-MODIFIED:20260423T215649Z
UID:10003636-1810857600-1811203199@reenactingschedule.org
SUMMARY:Michilimackinac Reenactment
DESCRIPTION:Reenactment of Pontiac rebellion.  4-day encampment.
URL:https://reenactingschedule.org/event/michilimackinac-reenactment-2/2027-05-21/
CATEGORIES:Encampment,Historic Demonstration,Reenactment
ORGANIZER;CN="Fort Micilimackinaw Renactment Committee":MAILTO:sniderconst@centurylink.net
END:VEVENT
BEGIN:VEVENT
DTSTART;VALUE=DATE:20270522
DTEND;VALUE=DATE:20270526
DTSTAMP:20260425T103235
CREATED:20260423T215530Z
LAST-MODIFIED:20260423T215649Z
UID:10003637-1810944000-1811289599@reenactingschedule.org
SUMMARY:Michilimackinac Reenactment
DESCRIPTION:Reenactment of Pontiac rebellion.  4-day encampment.
URL:https://reenactingschedule.org/event/michilimackinac-reenactment-2/2027-05-22/
CATEGORIES:Encampment,Historic Demonstration,Reenactment
ORGANIZER;CN="Fort Micilimackinaw Renactment Committee":MAILTO:sniderconst@centurylink.net
END:VEVENT
BEGIN:VEVENT
DTSTART;VALUE=DATE:20270523
DTEND;VALUE=DATE:20270527
DTSTAMP:20260425T103235
CREATED:20260423T215530Z
LAST-MODIFIED:20260423T215649Z
UID:10003638-1811030400-1811375999@reenactingschedule.org
SUMMARY:Michilimackinac Reenactment
DESCRIPTION:Reenactment of Pontiac rebellion.  4-day encampment.
URL:https://reenactingschedule.org/event/michilimackinac-reenactment-2/2027-05-23/
CATEGORIES:Encampment,Historic Demonstration,Reenactment
ORGANIZER;CN="Fort Micilimackinaw Renactment Committee":MAILTO:sniderconst@centurylink.net
END:VEVENT
BEGIN:VEVENT
DTSTART;VALUE=DATE:20270524
DTEND;VALUE=DATE:20270528
DTSTAMP:20260425T103235
CREATED:20260423T215530Z
LAST-MODIFIED:20260423T215649Z
UID:10003639-1811116800-1811462399@reenactingschedule.org
SUMMARY:Michilimackinac Reenactment
DESCRIPTION:Reenactment of Pontiac rebellion.  4-day encampment.
URL:https://reenactingschedule.org/event/michilimackinac-reenactment-2/2027-05-24/
CATEGORIES:Encampment,Historic Demonstration,Reenactment
ORGANIZER;CN="Fort Micilimackinaw Renactment Committee":MAILTO:sniderconst@centurylink.net
END:VEVENT
BEGIN:VEVENT
DTSTART;TZID=America/Kentucky/Louisville:20270619T120000
DTEND;TZID=America/Kentucky/Louisville:20270619T160000
DTSTAMP:20260425T103235
CREATED:20260118T030406Z
LAST-MODIFIED:20260118T030406Z
UID:10003177-1813406400-1813420800@reenactingschedule.org
SUMMARY:History Matters @ INHP
DESCRIPTION:Come to Independence National Historic Park and hear the Philadelphia Tour Guides Association tell the under-emphasized history and the history that the Trump Adminstration hopes to censor.  We are telling the stories of black patriots\, Jewish patriots\, women patriots\, and others who made our nation great.
URL:https://reenactingschedule.org/event/history-matters-inhp/2027-06-19/
ORGANIZER;CN="Regimental Brewmeister":MAILTO:Colonialbrewer@gmail.com
END:VEVENT
BEGIN:VEVENT
DTSTART;TZID=America/Kentucky/Louisville:20270717T120000
DTEND;TZID=America/Kentucky/Louisville:20270717T160000
DTSTAMP:20260425T103235
CREATED:20260118T030406Z
LAST-MODIFIED:20260118T030406Z
UID:10003178-1815825600-1815840000@reenactingschedule.org
SUMMARY:History Matters @ INHP
DESCRIPTION:Come to Independence National Historic Park and hear the Philadelphia Tour Guides Association tell the under-emphasized history and the history that the Trump Adminstration hopes to censor.  We are telling the stories of black patriots\, Jewish patriots\, women patriots\, and others who made our nation great.
URL:https://reenactingschedule.org/event/history-matters-inhp/2027-07-17/
ORGANIZER;CN="Regimental Brewmeister":MAILTO:Colonialbrewer@gmail.com
END:VEVENT
BEGIN:VEVENT
DTSTART;TZID=America/Kentucky/Louisville:20270821T120000
DTEND;TZID=America/Kentucky/Louisville:20270821T160000
DTSTAMP:20260425T103235
CREATED:20260118T030406Z
LAST-MODIFIED:20260118T030406Z
UID:10003179-1818849600-1818864000@reenactingschedule.org
SUMMARY:History Matters @ INHP
DESCRIPTION:Come to Independence National Historic Park and hear the Philadelphia Tour Guides Association tell the under-emphasized history and the history that the Trump Adminstration hopes to censor.  We are telling the stories of black patriots\, Jewish patriots\, women patriots\, and others who made our nation great.
URL:https://reenactingschedule.org/event/history-matters-inhp/2027-08-21/
ORGANIZER;CN="Regimental Brewmeister":MAILTO:Colonialbrewer@gmail.com
END:VEVENT
BEGIN:VEVENT
DTSTART;TZID=America/Kentucky/Louisville:20270910T100000
DTEND;TZID=America/Kentucky/Louisville:20270912T160000
DTSTAMP:20260425T103235
CREATED:20260115T140727Z
LAST-MODIFIED:20260115T140727Z
UID:10003152-1820570400-1820764800@reenactingschedule.org
SUMMARY:“A Walk in Their Boots” Military Timeline – Living History event
DESCRIPTION:Our “A Walk in Their Boots” Living History Group has another exciting Military Timeline event planned for our 3rd year at Camp Davy Crockett in 2026! This event showcases an extensive array of military and civilian displays from various historical periods. The event will feature military encampments\, equipment\, weapons\, vehicles\, and more. Throughout the day\, attendees can witness weapons demonstrations and battle reenactments\, as well as military vehicles on parade. This year’s event will once again showcase several armored vehicles\, including a World War II German “Tiger” tank\, Cold War era British “Scorpion” tank\, and “Abbott” Self-Propelled Gun. Additionally\, a US Vietnam War era “Gun Truck” known as the “Ace of Spades”\, WWII US M 20 and Cold War era British “Ferret” Armored Cars\, multiple jeeps\, military trucks\, motorcycles\, and other vehicles will be on display. These machines are truly remarkable and witnessing them in action is an astounding experience. As always\, the event is free and open to the public. We cordially invite you to attend and step back through history to experience a day in the life of a soldier in the field!
URL:https://reenactingschedule.org/event/a-walk-in-their-boots-military-timeline-living-history-event-2/2027-09-10/
LOCATION:Camp Davy Crockett\, 142 Scout Camp Rd\, Whitesburg\, TN\, 37891\, United States
CATEGORIES:Encampment,Historic Demonstration,Reenactment,Timeline
ATTACH;FMTTYPE=image/jpeg:https://reenactingschedule.org/wp-content/uploads/2026/01/2026-WITB-DC-sign.jpg
ORGANIZER;CN="A Walk in Their Boots Living History Group":MAILTO:events@militarywalk.us
END:VEVENT
BEGIN:VEVENT
DTSTART;TZID=America/Kentucky/Louisville:20270918T120000
DTEND;TZID=America/Kentucky/Louisville:20270918T160000
DTSTAMP:20260425T103235
CREATED:20260118T030406Z
LAST-MODIFIED:20260118T030406Z
UID:10003180-1821268800-1821283200@reenactingschedule.org
SUMMARY:History Matters @ INHP
DESCRIPTION:Come to Independence National Historic Park and hear the Philadelphia Tour Guides Association tell the under-emphasized history and the history that the Trump Adminstration hopes to censor.  We are telling the stories of black patriots\, Jewish patriots\, women patriots\, and others who made our nation great.
URL:https://reenactingschedule.org/event/history-matters-inhp/2027-09-18/
ORGANIZER;CN="Regimental Brewmeister":MAILTO:Colonialbrewer@gmail.com
END:VEVENT
BEGIN:VEVENT
DTSTART;TZID=America/Kentucky/Louisville:20270925T080000
DTEND;TZID=America/Kentucky/Louisville:20270926T150000
DTSTAMP:20260425T103235
CREATED:20260318T192928Z
LAST-MODIFIED:20260318T192928Z
UID:10003262-1821859200-1821970800@reenactingschedule.org
SUMMARY:Soldiering Throught the Ages (STA) - "A Military Timeline Event!"
DESCRIPTION:Soldiering Through The Ages (STA) – “A Military Timeline Event!” is living history brought to life at the Maryland Veterans Museum at Patriot Park in Newburg\, Maryland. With living history/reenactors from all periods from early to modern day.
URL:https://reenactingschedule.org/event/soldiering-throught-the-ages-sta-a-military-timeline-event/2027-09-25/
LOCATION:Maryland Veterans Museum\, 11000 Crain Highway\, Newburg\, MD\, 20664\, United States
CATEGORIES:Encampment,Historic Demonstration,Museum Event,Reenactment,Timeline
ATTACH;FMTTYPE=image/jpeg:https://reenactingschedule.org/wp-content/uploads/2026/03/2026-STA-Flyer.jpg
ORGANIZER;CN="Jason Posey":MAILTO:jhposey617@yahoo.com
END:VEVENT
BEGIN:VEVENT
DTSTART;TZID=America/Kentucky/Louisville:20271016T100000
DTEND;TZID=America/Kentucky/Louisville:20271017T235900
DTSTAMP:20260425T103235
CREATED:20220414T151731Z
LAST-MODIFIED:20250302T015839Z
UID:10003042-1823680800-1823817540@reenactingschedule.org
SUMMARY:Historic Fall Trade Fair at Fort Piqua
DESCRIPTION:Living History time line from 1742-1865 sponsored by Wayne’s Legion of Fort Piqua. Held at the historic Johnston Farm and Indian Agency in Piqua\, Ohio. The timeline focuses on Ohio History from 1742-1865 specifically the area around the Johnston Farm. We have everything from Indian Agents\, blacksmiths\, various military groups\, weavers\, cannons\, soap makers\, oxen demonstrations\, and so much more. \nThis is a juried event. Registration by August 1 is required.
URL:https://reenactingschedule.org/event/history-alive-at-fort-piqua/2027-10-16/
LOCATION:Johnston Farm and Indian Agency\, 9845 N. Hardin Road\, Piqua\, OH\, 45356\, United States
CATEGORIES:Encampment,Historic Demonstration,Museum Event,Outdoor Trade Fair,Reenactment,Timeline
ATTACH;FMTTYPE=image/jpeg:https://reenactingschedule.org/wp-content/uploads/2022/04/FB_IMG_1627593877382.jpg
ORGANIZER;CN="Wayne's Legion of Fort Piqua":MAILTO:wayneslegionofgreenville@gmail.com
END:VEVENT
BEGIN:VEVENT
DTSTART;TZID=America/Kentucky/Louisville:20271016T120000
DTEND;TZID=America/Kentucky/Louisville:20271016T160000
DTSTAMP:20260425T103235
CREATED:20260118T030406Z
LAST-MODIFIED:20260118T030406Z
UID:10003181-1823688000-1823702400@reenactingschedule.org
SUMMARY:History Matters @ INHP
DESCRIPTION:Come to Independence National Historic Park and hear the Philadelphia Tour Guides Association tell the under-emphasized history and the history that the Trump Adminstration hopes to censor.  We are telling the stories of black patriots\, Jewish patriots\, women patriots\, and others who made our nation great.
URL:https://reenactingschedule.org/event/history-matters-inhp/2027-10-16/
ORGANIZER;CN="Regimental Brewmeister":MAILTO:Colonialbrewer@gmail.com
END:VEVENT
BEGIN:VEVENT
DTSTART;TZID=America/Kentucky/Louisville:20271120T120000
DTEND;TZID=America/Kentucky/Louisville:20271120T160000
DTSTAMP:20260425T103235
CREATED:20260118T030406Z
LAST-MODIFIED:20260118T030406Z
UID:10003182-1826712000-1826726400@reenactingschedule.org
SUMMARY:History Matters @ INHP
DESCRIPTION:Come to Independence National Historic Park and hear the Philadelphia Tour Guides Association tell the under-emphasized history and the history that the Trump Adminstration hopes to censor.  We are telling the stories of black patriots\, Jewish patriots\, women patriots\, and others who made our nation great.
URL:https://reenactingschedule.org/event/history-matters-inhp/2027-11-20/
ORGANIZER;CN="Regimental Brewmeister":MAILTO:Colonialbrewer@gmail.com
END:VEVENT
BEGIN:VEVENT
DTSTART;TZID=America/Kentucky/Louisville:20271218T120000
DTEND;TZID=America/Kentucky/Louisville:20271218T160000
DTSTAMP:20260425T103235
CREATED:20260118T030406Z
LAST-MODIFIED:20260118T030406Z
UID:10003183-1829131200-1829145600@reenactingschedule.org
SUMMARY:History Matters @ INHP
DESCRIPTION:Come to Independence National Historic Park and hear the Philadelphia Tour Guides Association tell the under-emphasized history and the history that the Trump Adminstration hopes to censor.  We are telling the stories of black patriots\, Jewish patriots\, women patriots\, and others who made our nation great.
URL:https://reenactingschedule.org/event/history-matters-inhp/2027-12-18/
ORGANIZER;CN="Regimental Brewmeister":MAILTO:Colonialbrewer@gmail.com
END:VEVENT
BEGIN:VEVENT
DTSTART;TZID=America/Kentucky/Louisville:20280115T120000
DTEND;TZID=America/Kentucky/Louisville:20280115T160000
DTSTAMP:20260425T103235
CREATED:20260118T030406Z
LAST-MODIFIED:20260118T030406Z
UID:10003184-1831550400-1831564800@reenactingschedule.org
SUMMARY:History Matters @ INHP
DESCRIPTION:Come to Independence National Historic Park and hear the Philadelphia Tour Guides Association tell the under-emphasized history and the history that the Trump Adminstration hopes to censor.  We are telling the stories of black patriots\, Jewish patriots\, women patriots\, and others who made our nation great.
URL:https://reenactingschedule.org/event/history-matters-inhp/2028-01-15/
ORGANIZER;CN="Regimental Brewmeister":MAILTO:Colonialbrewer@gmail.com
END:VEVENT
BEGIN:VEVENT
DTSTART;TZID=America/Kentucky/Louisville:20280219T120000
DTEND;TZID=America/Kentucky/Louisville:20280219T160000
DTSTAMP:20260425T103235
CREATED:20260118T030406Z
LAST-MODIFIED:20260118T030406Z
UID:10003185-1834574400-1834588800@reenactingschedule.org
SUMMARY:History Matters @ INHP
DESCRIPTION:Come to Independence National Historic Park and hear the Philadelphia Tour Guides Association tell the under-emphasized history and the history that the Trump Adminstration hopes to censor.  We are telling the stories of black patriots\, Jewish patriots\, women patriots\, and others who made our nation great.
URL:https://reenactingschedule.org/event/history-matters-inhp/2028-02-19/
ORGANIZER;CN="Regimental Brewmeister":MAILTO:Colonialbrewer@gmail.com
END:VEVENT
BEGIN:VEVENT
DTSTART;TZID=America/Kentucky/Louisville:20280318T120000
DTEND;TZID=America/Kentucky/Louisville:20280318T160000
DTSTAMP:20260425T103235
CREATED:20260118T030406Z
LAST-MODIFIED:20260118T030406Z
UID:10003186-1836993600-1837008000@reenactingschedule.org
SUMMARY:History Matters @ INHP
DESCRIPTION:Come to Independence National Historic Park and hear the Philadelphia Tour Guides Association tell the under-emphasized history and the history that the Trump Adminstration hopes to censor.  We are telling the stories of black patriots\, Jewish patriots\, women patriots\, and others who made our nation great.
URL:https://reenactingschedule.org/event/history-matters-inhp/2028-03-18/
ORGANIZER;CN="Regimental Brewmeister":MAILTO:Colonialbrewer@gmail.com
END:VEVENT
BEGIN:VEVENT
DTSTART;TZID=America/Kentucky/Louisville:20280415T120000
DTEND;TZID=America/Kentucky/Louisville:20280415T160000
DTSTAMP:20260425T103235
CREATED:20260118T030406Z
LAST-MODIFIED:20260118T030406Z
UID:10003187-1839412800-1839427200@reenactingschedule.org
SUMMARY:History Matters @ INHP
DESCRIPTION:Come to Independence National Historic Park and hear the Philadelphia Tour Guides Association tell the under-emphasized history and the history that the Trump Adminstration hopes to censor.  We are telling the stories of black patriots\, Jewish patriots\, women patriots\, and others who made our nation great.
URL:https://reenactingschedule.org/event/history-matters-inhp/2028-04-15/
ORGANIZER;CN="Regimental Brewmeister":MAILTO:Colonialbrewer@gmail.com
END:VEVENT
BEGIN:VEVENT
DTSTART;VALUE=DATE:20280428
DTEND;VALUE=DATE:20280501
DTSTAMP:20260425T103235
CREATED:20250421T214112Z
LAST-MODIFIED:20260315T214731Z
UID:10003085-1840492800-1840751999@reenactingschedule.org
SUMMARY:Buchanan Civil War Days April 25-27
DESCRIPTION:Buchanan Civil War Days April 25-27
URL:https://reenactingschedule.org/event/buchanan-civil-war-days-april-25-27/2028-04-28/
LOCATION:Buchanan Town Park\, 485 Lowe St\, Buchanan\, VA\, 24066\, United States
ATTACH;FMTTYPE=image/jpeg:https://reenactingschedule.org/wp-content/uploads/2025/04/491745636_718436690531348_2502101278831726740_n.jpg
END:VEVENT
BEGIN:VEVENT
DTSTART;VALUE=DATE:20280429
DTEND;VALUE=DATE:20280501
DTSTAMP:20260425T103235
CREATED:20240309T014619Z
LAST-MODIFIED:20240309T014619Z
UID:10002173-1840579200-1840751999@reenactingschedule.org
SUMMARY:Ashville Ohio Reenactment Timeline/Grove of Heroes
DESCRIPTION:Held in conjunction with the Ashville Viking Festival\, this event spans all history. All eras are accepted. From the legions of ancient Rome to the colorful mercenaries of the Holy Roman Empire and beyond\, history awaits. Our reenactors look forward to explaining life throughout the ages. Visit our Grove of Heroes and learn how weapons developed and what maneuvers carry forward to today’s soldiers. Discover what foods were eaten\, how medicine and clothes developed\, and what people did for fun. The encampment is adjacent to the Saxon Market which features shopping\, food\, and entertainment. Held every year starting the last Saturday of April. A donation to help the local food pantry is appreciated. Contact vikingfestival@gmail.com for more information and to register your group.
URL:https://reenactingschedule.org/event/ashville-ohio-reenactment-timeline-grove-of-heroes/2028-04-29/
LOCATION:Ashville Ohio Village Park\, 165 Walnut Street\, Ashville\, OH\, 43103\, United States
CATEGORIES:Encampment,Festival,Historic Demonstration,Reenactment,Timeline
ATTACH;FMTTYPE=image/png:https://reenactingschedule.org/wp-content/uploads/2024/03/cover.png
ORGANIZER;CN="Roger Bechtel":MAILTO:vikingfestival@gmail.com
END:VEVENT
BEGIN:VEVENT
DTSTART;TZID=America/Kentucky/Louisville:20280520T120000
DTEND;TZID=America/Kentucky/Louisville:20280520T160000
DTSTAMP:20260425T103235
CREATED:20260118T030406Z
LAST-MODIFIED:20260118T030406Z
UID:10003188-1842436800-1842451200@reenactingschedule.org
SUMMARY:History Matters @ INHP
DESCRIPTION:Come to Independence National Historic Park and hear the Philadelphia Tour Guides Association tell the under-emphasized history and the history that the Trump Adminstration hopes to censor.  We are telling the stories of black patriots\, Jewish patriots\, women patriots\, and others who made our nation great.
URL:https://reenactingschedule.org/event/history-matters-inhp/2028-05-20/
ORGANIZER;CN="Regimental Brewmeister":MAILTO:Colonialbrewer@gmail.com
END:VEVENT
BEGIN:VEVENT
DTSTART;TZID=America/Kentucky/Louisville:20280617T120000
DTEND;TZID=America/Kentucky/Louisville:20280617T160000
DTSTAMP:20260425T103235
CREATED:20260118T030406Z
LAST-MODIFIED:20260118T030406Z
UID:10003189-1844856000-1844870400@reenactingschedule.org
SUMMARY:History Matters @ INHP
DESCRIPTION:Come to Independence National Historic Park and hear the Philadelphia Tour Guides Association tell the under-emphasized history and the history that the Trump Adminstration hopes to censor.  We are telling the stories of black patriots\, Jewish patriots\, women patriots\, and others who made our nation great.
URL:https://reenactingschedule.org/event/history-matters-inhp/2028-06-17/
ORGANIZER;CN="Regimental Brewmeister":MAILTO:Colonialbrewer@gmail.com
END:VEVENT
BEGIN:VEVENT
DTSTART;TZID=America/Kentucky/Louisville:20280715T120000
DTEND;TZID=America/Kentucky/Louisville:20280715T160000
DTSTAMP:20260425T103235
CREATED:20260118T030406Z
LAST-MODIFIED:20260118T030406Z
UID:10003190-1847275200-1847289600@reenactingschedule.org
SUMMARY:History Matters @ INHP
DESCRIPTION:Come to Independence National Historic Park and hear the Philadelphia Tour Guides Association tell the under-emphasized history and the history that the Trump Adminstration hopes to censor.  We are telling the stories of black patriots\, Jewish patriots\, women patriots\, and others who made our nation great.
URL:https://reenactingschedule.org/event/history-matters-inhp/2028-07-15/
ORGANIZER;CN="Regimental Brewmeister":MAILTO:Colonialbrewer@gmail.com
END:VEVENT
END:VCALENDAR