BEGIN:VCALENDAR
VERSION:2.0
PRODID:-//Reenacting Schedule - ECPv6.15.20//NONSGML v1.0//EN
CALSCALE:GREGORIAN
METHOD:PUBLISH
X-WR-CALNAME:Reenacting Schedule
X-ORIGINAL-URL:https://reenactingschedule.org
X-WR-CALDESC:Events for Reenacting Schedule
REFRESH-INTERVAL;VALUE=DURATION:PT1H
X-Robots-Tag:noindex
X-PUBLISHED-TTL:PT1H
BEGIN:VTIMEZONE
TZID:America/Kentucky/Louisville
BEGIN:DAYLIGHT
TZOFFSETFROM:-0500
TZOFFSETTO:-0400
TZNAME:EDT
DTSTART:20260308T070000
END:DAYLIGHT
BEGIN:STANDARD
TZOFFSETFROM:-0400
TZOFFSETTO:-0500
TZNAME:EST
DTSTART:20261101T060000
END:STANDARD
BEGIN:DAYLIGHT
TZOFFSETFROM:-0500
TZOFFSETTO:-0400
TZNAME:EDT
DTSTART:20270314T070000
END:DAYLIGHT
BEGIN:STANDARD
TZOFFSETFROM:-0400
TZOFFSETTO:-0500
TZNAME:EST
DTSTART:20271107T060000
END:STANDARD
BEGIN:DAYLIGHT
TZOFFSETFROM:-0500
TZOFFSETTO:-0400
TZNAME:EDT
DTSTART:20280312T070000
END:DAYLIGHT
BEGIN:STANDARD
TZOFFSETFROM:-0400
TZOFFSETTO:-0500
TZNAME:EST
DTSTART:20281105T060000
END:STANDARD
END:VTIMEZONE
BEGIN:VEVENT
DTSTART;VALUE=DATE:20270326
DTEND;VALUE=DATE:20270330
DTSTAMP:20260424T105416
CREATED:20260423T215530Z
LAST-MODIFIED:20260423T215649Z
UID:10003580-1806019200-1806364799@reenactingschedule.org
SUMMARY:Michilimackinac Reenactment
DESCRIPTION:Reenactment of Pontiac rebellion.  4-day encampment.
URL:https://reenactingschedule.org/event/michilimackinac-reenactment-2/2027-03-26/
CATEGORIES:Encampment,Historic Demonstration,Reenactment
ORGANIZER;CN="Fort Micilimackinaw Renactment Committee":MAILTO:sniderconst@centurylink.net
END:VEVENT
BEGIN:VEVENT
DTSTART;VALUE=DATE:20270327
DTEND;VALUE=DATE:20270331
DTSTAMP:20260424T105416
CREATED:20260423T215530Z
LAST-MODIFIED:20260423T215649Z
UID:10003581-1806105600-1806451199@reenactingschedule.org
SUMMARY:Michilimackinac Reenactment
DESCRIPTION:Reenactment of Pontiac rebellion.  4-day encampment.
URL:https://reenactingschedule.org/event/michilimackinac-reenactment-2/2027-03-27/
CATEGORIES:Encampment,Historic Demonstration,Reenactment
ORGANIZER;CN="Fort Micilimackinaw Renactment Committee":MAILTO:sniderconst@centurylink.net
END:VEVENT
BEGIN:VEVENT
DTSTART;VALUE=DATE:20270328
DTEND;VALUE=DATE:20270401
DTSTAMP:20260424T105416
CREATED:20260423T215530Z
LAST-MODIFIED:20260423T215649Z
UID:10003582-1806192000-1806537599@reenactingschedule.org
SUMMARY:Michilimackinac Reenactment
DESCRIPTION:Reenactment of Pontiac rebellion.  4-day encampment.
URL:https://reenactingschedule.org/event/michilimackinac-reenactment-2/2027-03-28/
CATEGORIES:Encampment,Historic Demonstration,Reenactment
ORGANIZER;CN="Fort Micilimackinaw Renactment Committee":MAILTO:sniderconst@centurylink.net
END:VEVENT
BEGIN:VEVENT
DTSTART;VALUE=DATE:20270329
DTEND;VALUE=DATE:20270402
DTSTAMP:20260424T105416
CREATED:20260423T215530Z
LAST-MODIFIED:20260423T215649Z
UID:10003583-1806278400-1806623999@reenactingschedule.org
SUMMARY:Michilimackinac Reenactment
DESCRIPTION:Reenactment of Pontiac rebellion.  4-day encampment.
URL:https://reenactingschedule.org/event/michilimackinac-reenactment-2/2027-03-29/
CATEGORIES:Encampment,Historic Demonstration,Reenactment
ORGANIZER;CN="Fort Micilimackinaw Renactment Committee":MAILTO:sniderconst@centurylink.net
END:VEVENT
BEGIN:VEVENT
DTSTART;VALUE=DATE:20270330
DTEND;VALUE=DATE:20270403
DTSTAMP:20260424T105416
CREATED:20260423T215530Z
LAST-MODIFIED:20260423T215649Z
UID:10003584-1806364800-1806710399@reenactingschedule.org
SUMMARY:Michilimackinac Reenactment
DESCRIPTION:Reenactment of Pontiac rebellion.  4-day encampment.
URL:https://reenactingschedule.org/event/michilimackinac-reenactment-2/2027-03-30/
CATEGORIES:Encampment,Historic Demonstration,Reenactment
ORGANIZER;CN="Fort Micilimackinaw Renactment Committee":MAILTO:sniderconst@centurylink.net
END:VEVENT
BEGIN:VEVENT
DTSTART;VALUE=DATE:20270331
DTEND;VALUE=DATE:20270404
DTSTAMP:20260424T105416
CREATED:20260423T215530Z
LAST-MODIFIED:20260423T215649Z
UID:10003585-1806451200-1806796799@reenactingschedule.org
SUMMARY:Michilimackinac Reenactment
DESCRIPTION:Reenactment of Pontiac rebellion.  4-day encampment.
URL:https://reenactingschedule.org/event/michilimackinac-reenactment-2/2027-03-31/
CATEGORIES:Encampment,Historic Demonstration,Reenactment
ORGANIZER;CN="Fort Micilimackinaw Renactment Committee":MAILTO:sniderconst@centurylink.net
END:VEVENT
BEGIN:VEVENT
DTSTART;VALUE=DATE:20270401
DTEND;VALUE=DATE:20270405
DTSTAMP:20260424T105416
CREATED:20260423T215530Z
LAST-MODIFIED:20260423T215649Z
UID:10003586-1806537600-1806883199@reenactingschedule.org
SUMMARY:Michilimackinac Reenactment
DESCRIPTION:Reenactment of Pontiac rebellion.  4-day encampment.
URL:https://reenactingschedule.org/event/michilimackinac-reenactment-2/2027-04-01/
CATEGORIES:Encampment,Historic Demonstration,Reenactment
ORGANIZER;CN="Fort Micilimackinaw Renactment Committee":MAILTO:sniderconst@centurylink.net
END:VEVENT
BEGIN:VEVENT
DTSTART;VALUE=DATE:20270402
DTEND;VALUE=DATE:20270406
DTSTAMP:20260424T105416
CREATED:20260423T215530Z
LAST-MODIFIED:20260423T215649Z
UID:10003587-1806624000-1806969599@reenactingschedule.org
SUMMARY:Michilimackinac Reenactment
DESCRIPTION:Reenactment of Pontiac rebellion.  4-day encampment.
URL:https://reenactingschedule.org/event/michilimackinac-reenactment-2/2027-04-02/
CATEGORIES:Encampment,Historic Demonstration,Reenactment
ORGANIZER;CN="Fort Micilimackinaw Renactment Committee":MAILTO:sniderconst@centurylink.net
END:VEVENT
BEGIN:VEVENT
DTSTART;VALUE=DATE:20270403
DTEND;VALUE=DATE:20270407
DTSTAMP:20260424T105416
CREATED:20260423T215530Z
LAST-MODIFIED:20260423T215649Z
UID:10003588-1806710400-1807055999@reenactingschedule.org
SUMMARY:Michilimackinac Reenactment
DESCRIPTION:Reenactment of Pontiac rebellion.  4-day encampment.
URL:https://reenactingschedule.org/event/michilimackinac-reenactment-2/2027-04-03/
CATEGORIES:Encampment,Historic Demonstration,Reenactment
ORGANIZER;CN="Fort Micilimackinaw Renactment Committee":MAILTO:sniderconst@centurylink.net
END:VEVENT
BEGIN:VEVENT
DTSTART;VALUE=DATE:20270404
DTEND;VALUE=DATE:20270408
DTSTAMP:20260424T105416
CREATED:20260423T215530Z
LAST-MODIFIED:20260423T215649Z
UID:10003589-1806796800-1807142399@reenactingschedule.org
SUMMARY:Michilimackinac Reenactment
DESCRIPTION:Reenactment of Pontiac rebellion.  4-day encampment.
URL:https://reenactingschedule.org/event/michilimackinac-reenactment-2/2027-04-04/
CATEGORIES:Encampment,Historic Demonstration,Reenactment
ORGANIZER;CN="Fort Micilimackinaw Renactment Committee":MAILTO:sniderconst@centurylink.net
END:VEVENT
BEGIN:VEVENT
DTSTART;VALUE=DATE:20270405
DTEND;VALUE=DATE:20270409
DTSTAMP:20260424T105416
CREATED:20260423T215530Z
LAST-MODIFIED:20260423T215649Z
UID:10003590-1806883200-1807228799@reenactingschedule.org
SUMMARY:Michilimackinac Reenactment
DESCRIPTION:Reenactment of Pontiac rebellion.  4-day encampment.
URL:https://reenactingschedule.org/event/michilimackinac-reenactment-2/2027-04-05/
CATEGORIES:Encampment,Historic Demonstration,Reenactment
ORGANIZER;CN="Fort Micilimackinaw Renactment Committee":MAILTO:sniderconst@centurylink.net
END:VEVENT
BEGIN:VEVENT
DTSTART;VALUE=DATE:20270406
DTEND;VALUE=DATE:20270410
DTSTAMP:20260424T105416
CREATED:20260423T215530Z
LAST-MODIFIED:20260423T215649Z
UID:10003591-1806969600-1807315199@reenactingschedule.org
SUMMARY:Michilimackinac Reenactment
DESCRIPTION:Reenactment of Pontiac rebellion.  4-day encampment.
URL:https://reenactingschedule.org/event/michilimackinac-reenactment-2/2027-04-06/
CATEGORIES:Encampment,Historic Demonstration,Reenactment
ORGANIZER;CN="Fort Micilimackinaw Renactment Committee":MAILTO:sniderconst@centurylink.net
END:VEVENT
BEGIN:VEVENT
DTSTART;VALUE=DATE:20270407
DTEND;VALUE=DATE:20270411
DTSTAMP:20260424T105416
CREATED:20260423T215530Z
LAST-MODIFIED:20260423T215649Z
UID:10003592-1807056000-1807401599@reenactingschedule.org
SUMMARY:Michilimackinac Reenactment
DESCRIPTION:Reenactment of Pontiac rebellion.  4-day encampment.
URL:https://reenactingschedule.org/event/michilimackinac-reenactment-2/2027-04-07/
CATEGORIES:Encampment,Historic Demonstration,Reenactment
ORGANIZER;CN="Fort Micilimackinaw Renactment Committee":MAILTO:sniderconst@centurylink.net
END:VEVENT
BEGIN:VEVENT
DTSTART;VALUE=DATE:20270408
DTEND;VALUE=DATE:20270412
DTSTAMP:20260424T105416
CREATED:20260423T215530Z
LAST-MODIFIED:20260423T215649Z
UID:10003593-1807142400-1807487999@reenactingschedule.org
SUMMARY:Michilimackinac Reenactment
DESCRIPTION:Reenactment of Pontiac rebellion.  4-day encampment.
URL:https://reenactingschedule.org/event/michilimackinac-reenactment-2/2027-04-08/
CATEGORIES:Encampment,Historic Demonstration,Reenactment
ORGANIZER;CN="Fort Micilimackinaw Renactment Committee":MAILTO:sniderconst@centurylink.net
END:VEVENT
BEGIN:VEVENT
DTSTART;VALUE=DATE:20270409
DTEND;VALUE=DATE:20270413
DTSTAMP:20260424T105416
CREATED:20260423T215530Z
LAST-MODIFIED:20260423T215649Z
UID:10003594-1807228800-1807574399@reenactingschedule.org
SUMMARY:Michilimackinac Reenactment
DESCRIPTION:Reenactment of Pontiac rebellion.  4-day encampment.
URL:https://reenactingschedule.org/event/michilimackinac-reenactment-2/2027-04-09/
CATEGORIES:Encampment,Historic Demonstration,Reenactment
ORGANIZER;CN="Fort Micilimackinaw Renactment Committee":MAILTO:sniderconst@centurylink.net
END:VEVENT
BEGIN:VEVENT
DTSTART;VALUE=DATE:20270410
DTEND;VALUE=DATE:20270414
DTSTAMP:20260424T105416
CREATED:20260423T215530Z
LAST-MODIFIED:20260423T215649Z
UID:10003595-1807315200-1807660799@reenactingschedule.org
SUMMARY:Michilimackinac Reenactment
DESCRIPTION:Reenactment of Pontiac rebellion.  4-day encampment.
URL:https://reenactingschedule.org/event/michilimackinac-reenactment-2/2027-04-10/
CATEGORIES:Encampment,Historic Demonstration,Reenactment
ORGANIZER;CN="Fort Micilimackinaw Renactment Committee":MAILTO:sniderconst@centurylink.net
END:VEVENT
BEGIN:VEVENT
DTSTART;VALUE=DATE:20270411
DTEND;VALUE=DATE:20270415
DTSTAMP:20260424T105416
CREATED:20260423T215530Z
LAST-MODIFIED:20260423T215649Z
UID:10003596-1807401600-1807747199@reenactingschedule.org
SUMMARY:Michilimackinac Reenactment
DESCRIPTION:Reenactment of Pontiac rebellion.  4-day encampment.
URL:https://reenactingschedule.org/event/michilimackinac-reenactment-2/2027-04-11/
CATEGORIES:Encampment,Historic Demonstration,Reenactment
ORGANIZER;CN="Fort Micilimackinaw Renactment Committee":MAILTO:sniderconst@centurylink.net
END:VEVENT
BEGIN:VEVENT
DTSTART;VALUE=DATE:20270412
DTEND;VALUE=DATE:20270416
DTSTAMP:20260424T105416
CREATED:20260423T215530Z
LAST-MODIFIED:20260423T215649Z
UID:10003597-1807488000-1807833599@reenactingschedule.org
SUMMARY:Michilimackinac Reenactment
DESCRIPTION:Reenactment of Pontiac rebellion.  4-day encampment.
URL:https://reenactingschedule.org/event/michilimackinac-reenactment-2/2027-04-12/
CATEGORIES:Encampment,Historic Demonstration,Reenactment
ORGANIZER;CN="Fort Micilimackinaw Renactment Committee":MAILTO:sniderconst@centurylink.net
END:VEVENT
BEGIN:VEVENT
DTSTART;VALUE=DATE:20270413
DTEND;VALUE=DATE:20270417
DTSTAMP:20260424T105416
CREATED:20260423T215530Z
LAST-MODIFIED:20260423T215649Z
UID:10003598-1807574400-1807919999@reenactingschedule.org
SUMMARY:Michilimackinac Reenactment
DESCRIPTION:Reenactment of Pontiac rebellion.  4-day encampment.
URL:https://reenactingschedule.org/event/michilimackinac-reenactment-2/2027-04-13/
CATEGORIES:Encampment,Historic Demonstration,Reenactment
ORGANIZER;CN="Fort Micilimackinaw Renactment Committee":MAILTO:sniderconst@centurylink.net
END:VEVENT
BEGIN:VEVENT
DTSTART;VALUE=DATE:20270414
DTEND;VALUE=DATE:20270418
DTSTAMP:20260424T105416
CREATED:20260423T215530Z
LAST-MODIFIED:20260423T215649Z
UID:10003599-1807660800-1808006399@reenactingschedule.org
SUMMARY:Michilimackinac Reenactment
DESCRIPTION:Reenactment of Pontiac rebellion.  4-day encampment.
URL:https://reenactingschedule.org/event/michilimackinac-reenactment-2/2027-04-14/
CATEGORIES:Encampment,Historic Demonstration,Reenactment
ORGANIZER;CN="Fort Micilimackinaw Renactment Committee":MAILTO:sniderconst@centurylink.net
END:VEVENT
BEGIN:VEVENT
DTSTART;VALUE=DATE:20270415
DTEND;VALUE=DATE:20270419
DTSTAMP:20260424T105416
CREATED:20260423T215530Z
LAST-MODIFIED:20260423T215649Z
UID:10003600-1807747200-1808092799@reenactingschedule.org
SUMMARY:Michilimackinac Reenactment
DESCRIPTION:Reenactment of Pontiac rebellion.  4-day encampment.
URL:https://reenactingschedule.org/event/michilimackinac-reenactment-2/2027-04-15/
CATEGORIES:Encampment,Historic Demonstration,Reenactment
ORGANIZER;CN="Fort Micilimackinaw Renactment Committee":MAILTO:sniderconst@centurylink.net
END:VEVENT
BEGIN:VEVENT
DTSTART;VALUE=DATE:20270416
DTEND;VALUE=DATE:20270420
DTSTAMP:20260424T105416
CREATED:20260423T215530Z
LAST-MODIFIED:20260423T215649Z
UID:10003601-1807833600-1808179199@reenactingschedule.org
SUMMARY:Michilimackinac Reenactment
DESCRIPTION:Reenactment of Pontiac rebellion.  4-day encampment.
URL:https://reenactingschedule.org/event/michilimackinac-reenactment-2/2027-04-16/
CATEGORIES:Encampment,Historic Demonstration,Reenactment
ORGANIZER;CN="Fort Micilimackinaw Renactment Committee":MAILTO:sniderconst@centurylink.net
END:VEVENT
BEGIN:VEVENT
DTSTART;VALUE=DATE:20270417
DTEND;VALUE=DATE:20270421
DTSTAMP:20260424T105416
CREATED:20260423T215530Z
LAST-MODIFIED:20260423T215649Z
UID:10003602-1807920000-1808265599@reenactingschedule.org
SUMMARY:Michilimackinac Reenactment
DESCRIPTION:Reenactment of Pontiac rebellion.  4-day encampment.
URL:https://reenactingschedule.org/event/michilimackinac-reenactment-2/2027-04-17/
CATEGORIES:Encampment,Historic Demonstration,Reenactment
ORGANIZER;CN="Fort Micilimackinaw Renactment Committee":MAILTO:sniderconst@centurylink.net
END:VEVENT
BEGIN:VEVENT
DTSTART;TZID=America/Kentucky/Louisville:20270417T120000
DTEND;TZID=America/Kentucky/Louisville:20270417T160000
DTSTAMP:20260424T105416
CREATED:20260118T030406Z
LAST-MODIFIED:20260118T030406Z
UID:10003175-1807963200-1807977600@reenactingschedule.org
SUMMARY:History Matters @ INHP
DESCRIPTION:Come to Independence National Historic Park and hear the Philadelphia Tour Guides Association tell the under-emphasized history and the history that the Trump Adminstration hopes to censor.  We are telling the stories of black patriots\, Jewish patriots\, women patriots\, and others who made our nation great.
URL:https://reenactingschedule.org/event/history-matters-inhp/2027-04-17/
ORGANIZER;CN="Regimental Brewmeister":MAILTO:Colonialbrewer@gmail.com
END:VEVENT
BEGIN:VEVENT
DTSTART;VALUE=DATE:20270418
DTEND;VALUE=DATE:20270422
DTSTAMP:20260424T105416
CREATED:20260423T215530Z
LAST-MODIFIED:20260423T215649Z
UID:10003603-1808006400-1808351999@reenactingschedule.org
SUMMARY:Michilimackinac Reenactment
DESCRIPTION:Reenactment of Pontiac rebellion.  4-day encampment.
URL:https://reenactingschedule.org/event/michilimackinac-reenactment-2/2027-04-18/
CATEGORIES:Encampment,Historic Demonstration,Reenactment
ORGANIZER;CN="Fort Micilimackinaw Renactment Committee":MAILTO:sniderconst@centurylink.net
END:VEVENT
BEGIN:VEVENT
DTSTART;VALUE=DATE:20270419
DTEND;VALUE=DATE:20270423
DTSTAMP:20260424T105416
CREATED:20260423T215530Z
LAST-MODIFIED:20260423T215649Z
UID:10003604-1808092800-1808438399@reenactingschedule.org
SUMMARY:Michilimackinac Reenactment
DESCRIPTION:Reenactment of Pontiac rebellion.  4-day encampment.
URL:https://reenactingschedule.org/event/michilimackinac-reenactment-2/2027-04-19/
CATEGORIES:Encampment,Historic Demonstration,Reenactment
ORGANIZER;CN="Fort Micilimackinaw Renactment Committee":MAILTO:sniderconst@centurylink.net
END:VEVENT
BEGIN:VEVENT
DTSTART;VALUE=DATE:20270420
DTEND;VALUE=DATE:20270424
DTSTAMP:20260424T105416
CREATED:20260423T215530Z
LAST-MODIFIED:20260423T215649Z
UID:10003605-1808179200-1808524799@reenactingschedule.org
SUMMARY:Michilimackinac Reenactment
DESCRIPTION:Reenactment of Pontiac rebellion.  4-day encampment.
URL:https://reenactingschedule.org/event/michilimackinac-reenactment-2/2027-04-20/
CATEGORIES:Encampment,Historic Demonstration,Reenactment
ORGANIZER;CN="Fort Micilimackinaw Renactment Committee":MAILTO:sniderconst@centurylink.net
END:VEVENT
BEGIN:VEVENT
DTSTART;VALUE=DATE:20270421
DTEND;VALUE=DATE:20270425
DTSTAMP:20260424T105416
CREATED:20260423T215530Z
LAST-MODIFIED:20260423T215649Z
UID:10003606-1808265600-1808611199@reenactingschedule.org
SUMMARY:Michilimackinac Reenactment
DESCRIPTION:Reenactment of Pontiac rebellion.  4-day encampment.
URL:https://reenactingschedule.org/event/michilimackinac-reenactment-2/2027-04-21/
CATEGORIES:Encampment,Historic Demonstration,Reenactment
ORGANIZER;CN="Fort Micilimackinaw Renactment Committee":MAILTO:sniderconst@centurylink.net
END:VEVENT
BEGIN:VEVENT
DTSTART;VALUE=DATE:20270422
DTEND;VALUE=DATE:20270426
DTSTAMP:20260424T105416
CREATED:20260423T215530Z
LAST-MODIFIED:20260423T215649Z
UID:10003607-1808352000-1808697599@reenactingschedule.org
SUMMARY:Michilimackinac Reenactment
DESCRIPTION:Reenactment of Pontiac rebellion.  4-day encampment.
URL:https://reenactingschedule.org/event/michilimackinac-reenactment-2/2027-04-22/
CATEGORIES:Encampment,Historic Demonstration,Reenactment
ORGANIZER;CN="Fort Micilimackinaw Renactment Committee":MAILTO:sniderconst@centurylink.net
END:VEVENT
BEGIN:VEVENT
DTSTART;VALUE=DATE:20270423
DTEND;VALUE=DATE:20270426
DTSTAMP:20260424T105416
CREATED:20250421T214112Z
LAST-MODIFIED:20260315T214731Z
UID:10003084-1808438400-1808697599@reenactingschedule.org
SUMMARY:Buchanan Civil War Days April 25-27
DESCRIPTION:Buchanan Civil War Days April 25-27
URL:https://reenactingschedule.org/event/buchanan-civil-war-days-april-25-27/2027-04-23/
LOCATION:Buchanan Town Park\, 485 Lowe St\, Buchanan\, VA\, 24066\, United States
ATTACH;FMTTYPE=image/jpeg:https://reenactingschedule.org/wp-content/uploads/2025/04/491745636_718436690531348_2502101278831726740_n.jpg
END:VEVENT
END:VCALENDAR