BEGIN:VCALENDAR
VERSION:2.0
PRODID:-//Reenacting Schedule - ECPv6.15.20//NONSGML v1.0//EN
CALSCALE:GREGORIAN
METHOD:PUBLISH
X-ORIGINAL-URL:https://reenactingschedule.org
X-WR-CALDESC:Events for Reenacting Schedule
REFRESH-INTERVAL;VALUE=DURATION:PT1H
X-Robots-Tag:noindex
X-PUBLISHED-TTL:PT1H
BEGIN:VTIMEZONE
TZID:America/Kentucky/Louisville
BEGIN:DAYLIGHT
TZOFFSETFROM:-0500
TZOFFSETTO:-0400
TZNAME:EDT
DTSTART:20290311T070000
END:DAYLIGHT
BEGIN:STANDARD
TZOFFSETFROM:-0400
TZOFFSETTO:-0500
TZNAME:EST
DTSTART:20291104T060000
END:STANDARD
BEGIN:DAYLIGHT
TZOFFSETFROM:-0500
TZOFFSETTO:-0400
TZNAME:EDT
DTSTART:20300310T070000
END:DAYLIGHT
BEGIN:STANDARD
TZOFFSETFROM:-0400
TZOFFSETTO:-0500
TZNAME:EST
DTSTART:20301103T060000
END:STANDARD
BEGIN:DAYLIGHT
TZOFFSETFROM:-0500
TZOFFSETTO:-0400
TZNAME:EDT
DTSTART:20310309T070000
END:DAYLIGHT
BEGIN:STANDARD
TZOFFSETFROM:-0400
TZOFFSETTO:-0500
TZNAME:EST
DTSTART:20311102T060000
END:STANDARD
END:VTIMEZONE
BEGIN:VEVENT
DTSTART;TZID=America/Kentucky/Louisville:20301019T120000
DTEND;TZID=America/Kentucky/Louisville:20301019T160000
DTSTAMP:20260425T085101
CREATED:20260118T030406Z
LAST-MODIFIED:20260118T030406Z
UID:10003217-1918641600-1918656000@reenactingschedule.org
SUMMARY:History Matters @ INHP
DESCRIPTION:Come to Independence National Historic Park and hear the Philadelphia Tour Guides Association tell the under-emphasized history and the history that the Trump Adminstration hopes to censor.  We are telling the stories of black patriots\, Jewish patriots\, women patriots\, and others who made our nation great.
URL:https://reenactingschedule.org/event/history-matters-inhp/2030-10-19/
ORGANIZER;CN="Regimental Brewmeister":MAILTO:Colonialbrewer@gmail.com
END:VEVENT
BEGIN:VEVENT
DTSTART;TZID=America/Kentucky/Louisville:20301116T120000
DTEND;TZID=America/Kentucky/Louisville:20301116T160000
DTSTAMP:20260425T085101
CREATED:20260118T030406Z
LAST-MODIFIED:20260118T030406Z
UID:10003218-1921060800-1921075200@reenactingschedule.org
SUMMARY:History Matters @ INHP
DESCRIPTION:Come to Independence National Historic Park and hear the Philadelphia Tour Guides Association tell the under-emphasized history and the history that the Trump Adminstration hopes to censor.  We are telling the stories of black patriots\, Jewish patriots\, women patriots\, and others who made our nation great.
URL:https://reenactingschedule.org/event/history-matters-inhp/2030-11-16/
ORGANIZER;CN="Regimental Brewmeister":MAILTO:Colonialbrewer@gmail.com
END:VEVENT
BEGIN:VEVENT
DTSTART;TZID=America/Kentucky/Louisville:20301221T120000
DTEND;TZID=America/Kentucky/Louisville:20301221T160000
DTSTAMP:20260425T085101
CREATED:20260118T030406Z
LAST-MODIFIED:20260118T030406Z
UID:10003219-1924084800-1924099200@reenactingschedule.org
SUMMARY:History Matters @ INHP
DESCRIPTION:Come to Independence National Historic Park and hear the Philadelphia Tour Guides Association tell the under-emphasized history and the history that the Trump Adminstration hopes to censor.  We are telling the stories of black patriots\, Jewish patriots\, women patriots\, and others who made our nation great.
URL:https://reenactingschedule.org/event/history-matters-inhp/2030-12-21/
ORGANIZER;CN="Regimental Brewmeister":MAILTO:Colonialbrewer@gmail.com
END:VEVENT
END:VCALENDAR