BEGIN:VCALENDAR
VERSION:2.0
PRODID:-//Reenacting Schedule - ECPv6.15.20//NONSGML v1.0//EN
CALSCALE:GREGORIAN
METHOD:PUBLISH
X-WR-CALNAME:Reenacting Schedule
X-ORIGINAL-URL:https://reenactingschedule.org
X-WR-CALDESC:Events for Reenacting Schedule
REFRESH-INTERVAL;VALUE=DURATION:PT1H
X-Robots-Tag:noindex
X-PUBLISHED-TTL:PT1H
BEGIN:VTIMEZONE
TZID:America/Kentucky/Louisville
BEGIN:DAYLIGHT
TZOFFSETFROM:-0500
TZOFFSETTO:-0400
TZNAME:EDT
DTSTART:20250309T070000
END:DAYLIGHT
BEGIN:STANDARD
TZOFFSETFROM:-0400
TZOFFSETTO:-0500
TZNAME:EST
DTSTART:20251102T060000
END:STANDARD
BEGIN:DAYLIGHT
TZOFFSETFROM:-0500
TZOFFSETTO:-0400
TZNAME:EDT
DTSTART:20260308T070000
END:DAYLIGHT
BEGIN:STANDARD
TZOFFSETFROM:-0400
TZOFFSETTO:-0500
TZNAME:EST
DTSTART:20261101T060000
END:STANDARD
BEGIN:DAYLIGHT
TZOFFSETFROM:-0500
TZOFFSETTO:-0400
TZNAME:EDT
DTSTART:20270314T070000
END:DAYLIGHT
BEGIN:STANDARD
TZOFFSETFROM:-0400
TZOFFSETTO:-0500
TZNAME:EST
DTSTART:20271107T060000
END:STANDARD
END:VTIMEZONE
BEGIN:VEVENT
DTSTART;VALUE=DATE:20260801
DTEND;VALUE=DATE:20260805
DTSTAMP:20260424T052327
CREATED:20260423T215530Z
LAST-MODIFIED:20260423T215649Z
UID:10003343-1785542400-1785887999@reenactingschedule.org
SUMMARY:Michilimackinac Reenactment
DESCRIPTION:Reenactment of Pontiac rebellion.  4-day encampment.
URL:https://reenactingschedule.org/event/michilimackinac-reenactment-2/2026-08-01/
CATEGORIES:Encampment,Historic Demonstration,Reenactment
ORGANIZER;CN="Fort Micilimackinaw Renactment Committee":MAILTO:sniderconst@centurylink.net
END:VEVENT
BEGIN:VEVENT
DTSTART;VALUE=DATE:20260802
DTEND;VALUE=DATE:20260806
DTSTAMP:20260424T052327
CREATED:20260423T215530Z
LAST-MODIFIED:20260423T215649Z
UID:10003344-1785628800-1785974399@reenactingschedule.org
SUMMARY:Michilimackinac Reenactment
DESCRIPTION:Reenactment of Pontiac rebellion.  4-day encampment.
URL:https://reenactingschedule.org/event/michilimackinac-reenactment-2/2026-08-02/
CATEGORIES:Encampment,Historic Demonstration,Reenactment
ORGANIZER;CN="Fort Micilimackinaw Renactment Committee":MAILTO:sniderconst@centurylink.net
END:VEVENT
BEGIN:VEVENT
DTSTART;VALUE=DATE:20260803
DTEND;VALUE=DATE:20260807
DTSTAMP:20260424T052327
CREATED:20260423T215530Z
LAST-MODIFIED:20260423T215649Z
UID:10003345-1785715200-1786060799@reenactingschedule.org
SUMMARY:Michilimackinac Reenactment
DESCRIPTION:Reenactment of Pontiac rebellion.  4-day encampment.
URL:https://reenactingschedule.org/event/michilimackinac-reenactment-2/2026-08-03/
CATEGORIES:Encampment,Historic Demonstration,Reenactment
ORGANIZER;CN="Fort Micilimackinaw Renactment Committee":MAILTO:sniderconst@centurylink.net
END:VEVENT
BEGIN:VEVENT
DTSTART;VALUE=DATE:20260804
DTEND;VALUE=DATE:20260808
DTSTAMP:20260424T052327
CREATED:20260423T215530Z
LAST-MODIFIED:20260423T215649Z
UID:10003346-1785801600-1786147199@reenactingschedule.org
SUMMARY:Michilimackinac Reenactment
DESCRIPTION:Reenactment of Pontiac rebellion.  4-day encampment.
URL:https://reenactingschedule.org/event/michilimackinac-reenactment-2/2026-08-04/
CATEGORIES:Encampment,Historic Demonstration,Reenactment
ORGANIZER;CN="Fort Micilimackinaw Renactment Committee":MAILTO:sniderconst@centurylink.net
END:VEVENT
BEGIN:VEVENT
DTSTART;VALUE=DATE:20260805
DTEND;VALUE=DATE:20260809
DTSTAMP:20260424T052327
CREATED:20260423T215530Z
LAST-MODIFIED:20260423T215649Z
UID:10003347-1785888000-1786233599@reenactingschedule.org
SUMMARY:Michilimackinac Reenactment
DESCRIPTION:Reenactment of Pontiac rebellion.  4-day encampment.
URL:https://reenactingschedule.org/event/michilimackinac-reenactment-2/2026-08-05/
CATEGORIES:Encampment,Historic Demonstration,Reenactment
ORGANIZER;CN="Fort Micilimackinaw Renactment Committee":MAILTO:sniderconst@centurylink.net
END:VEVENT
BEGIN:VEVENT
DTSTART;VALUE=DATE:20260805
DTEND;VALUE=DATE:20260810
DTSTAMP:20260424T052327
CREATED:20260311T234454Z
LAST-MODIFIED:20260311T234454Z
UID:10003253-1785888000-1786319999@reenactingschedule.org
SUMMARY:18th century mackinaw trade fair and living history experience
DESCRIPTION:32 annual event. 1700 to 1800 Living history experience in the trade center of the region. Demos\, entertainment\, street battle\, live auction\, lots of great traders.  Come and Immerse you self in history.
URL:https://reenactingschedule.org/event/18th-century-mackinaw-trade-fair-and-living-history-experience/
ATTACH;FMTTYPE=image/jpeg:https://reenactingschedule.org/wp-content/uploads/2026/03/Messenger_creation_9098A063-A2F3-4A42-B125-DF4AA339CA5B-2.jpeg
ORGANIZER;CN="Fort Micilimackinaw Renactment Committee":MAILTO:sniderconst@centurylink.net
END:VEVENT
BEGIN:VEVENT
DTSTART;VALUE=DATE:20260806
DTEND;VALUE=DATE:20260810
DTSTAMP:20260424T052327
CREATED:20260423T215530Z
LAST-MODIFIED:20260423T215649Z
UID:10003348-1785974400-1786319999@reenactingschedule.org
SUMMARY:Michilimackinac Reenactment
DESCRIPTION:Reenactment of Pontiac rebellion.  4-day encampment.
URL:https://reenactingschedule.org/event/michilimackinac-reenactment-2/2026-08-06/
CATEGORIES:Encampment,Historic Demonstration,Reenactment
ORGANIZER;CN="Fort Micilimackinaw Renactment Committee":MAILTO:sniderconst@centurylink.net
END:VEVENT
BEGIN:VEVENT
DTSTART;VALUE=DATE:20260807
DTEND;VALUE=DATE:20260811
DTSTAMP:20260424T052327
CREATED:20260423T215530Z
LAST-MODIFIED:20260423T215649Z
UID:10003349-1786060800-1786406399@reenactingschedule.org
SUMMARY:Michilimackinac Reenactment
DESCRIPTION:Reenactment of Pontiac rebellion.  4-day encampment.
URL:https://reenactingschedule.org/event/michilimackinac-reenactment-2/2026-08-07/
CATEGORIES:Encampment,Historic Demonstration,Reenactment
ORGANIZER;CN="Fort Micilimackinaw Renactment Committee":MAILTO:sniderconst@centurylink.net
END:VEVENT
BEGIN:VEVENT
DTSTART;VALUE=DATE:20260808
DTEND;VALUE=DATE:20260812
DTSTAMP:20260424T052327
CREATED:20260423T215530Z
LAST-MODIFIED:20260423T215649Z
UID:10003350-1786147200-1786492799@reenactingschedule.org
SUMMARY:Michilimackinac Reenactment
DESCRIPTION:Reenactment of Pontiac rebellion.  4-day encampment.
URL:https://reenactingschedule.org/event/michilimackinac-reenactment-2/2026-08-08/
CATEGORIES:Encampment,Historic Demonstration,Reenactment
ORGANIZER;CN="Fort Micilimackinaw Renactment Committee":MAILTO:sniderconst@centurylink.net
END:VEVENT
BEGIN:VEVENT
DTSTART;VALUE=DATE:20260809
DTEND;VALUE=DATE:20260813
DTSTAMP:20260424T052327
CREATED:20260423T215530Z
LAST-MODIFIED:20260423T215649Z
UID:10003351-1786233600-1786579199@reenactingschedule.org
SUMMARY:Michilimackinac Reenactment
DESCRIPTION:Reenactment of Pontiac rebellion.  4-day encampment.
URL:https://reenactingschedule.org/event/michilimackinac-reenactment-2/2026-08-09/
CATEGORIES:Encampment,Historic Demonstration,Reenactment
ORGANIZER;CN="Fort Micilimackinaw Renactment Committee":MAILTO:sniderconst@centurylink.net
END:VEVENT
BEGIN:VEVENT
DTSTART;TZID=America/Kentucky/Louisville:20260809T080000
DTEND;TZID=America/Kentucky/Louisville:20260809T080000
DTSTAMP:20260424T052327
CREATED:20260118T220519Z
LAST-MODIFIED:20260118T220519Z
UID:10003232-1786262400-1786262400@reenactingschedule.org
SUMMARY:Colonial brewing with Regimental Brewmeister
DESCRIPTION:Long before the American Revolutionary War\, the British Army in North America learned from the French the importance of spruce beer for treating and preventing scurvy and keeping their soldiers “fit for service.”  John Knox\, an officer in the 43rd Regiment of Foot\, insisted that his troops at Louisburg (1745) be supplied with spruce beer\, “this liquor being thought necessary for the preservation of the health of our men.” When British troops were again involved in a campaign against the French in Nova Scotia in 1757\, their commander\, the Earl of Loudoun\, insisted on an allowance of two quarts of spruce beer per man each day.  General Jeffrey Amherst\, chief of British forces in North America\, insisted that the troops be well supplied with spruce beer\, “for the health and convenience of the troops.” A brewery was set up at the head of Lake George with each regiment donating one man to help with the brewing.  When Amherst’s troops moved north to capture the French Fort Carillon\, subsequently renamed Fort Ticonderoga\, each regiment took with it eight barrels of spruce beer.  Following the British lead\, George Washington quickly adopted the use of spruce beer in order to keep his troops fit for service.  “The following is the Ration of Provisions allowed by the Continental Congress unto each Soldier. …One quart of Spruce Beer per man\, pr diem\,…” \nThe Regimental Brewmeister is my interpretation of what a brewer in HM 43rd would be. It is an amalgamation of Captain Jonathan Gilford from Thomas Fleming’s Liberty Tavern (1976)\, and my portrayal of a Private in HM 43rd Regiment of Foot.  The Regimental Brewmeister presents as a retired British soldier who is now a middle-class journeyman brewer.  I dress well\, and I want to present myself in a manner that shows that while I am not a Gentleman\, I am not a common laborer either. You will find military service has made a distinct impression upon the Regimental Brewmeister\, and he is not apolitical.  Despite his loyalist roots\, he is a stanch supporter of republican ideals but can argue both sides of the conflict. \nThe equipment I use is very basic.  The beer I brew is my own recipe\, derived but not copied from 18th Century sources.  Like brewers of the era\, I do all my work without instrumentation\, relying upon my basic senses of sight\, smell\, hearing\, taste\, and touch to do the work modern brewers have instrumentation like clocks\, scales\, hydrometers\, and thermometers for.  My aim is to recreate the methods\, brews\, and experience of a brewer from 1778 while telling stories of the American Revolution.
URL:https://reenactingschedule.org/event/colonial-brewing-with-regimental-brewmeister-4/
LOCATION:Historic Eastfield Village\, 104 Mud Pond Rd\,\, East Nassau\, NY\, 12062\, United States
ORGANIZER;CN="Regimental Brewmeister":MAILTO:Colonialbrewer@gmail.com
END:VEVENT
BEGIN:VEVENT
DTSTART;TZID=America/Kentucky/Louisville:20260809T080000
DTEND;TZID=America/Kentucky/Louisville:20260809T080000
DTSTAMP:20260424T052327
CREATED:20260118T220637Z
LAST-MODIFIED:20260118T220637Z
UID:10003233-1786262400-1786262400@reenactingschedule.org
SUMMARY:Colonial brewing with Regimental Brewmeister
DESCRIPTION:Long before the American Revolutionary War\, the British Army in North America learned from the French the importance of spruce beer for treating and preventing scurvy and keeping their soldiers “fit for service.”  John Knox\, an officer in the 43rd Regiment of Foot\, insisted that his troops at Louisburg (1745) be supplied with spruce beer\, “this liquor being thought necessary for the preservation of the health of our men.” When British troops were again involved in a campaign against the French in Nova Scotia in 1757\, their commander\, the Earl of Loudoun\, insisted on an allowance of two quarts of spruce beer per man each day.  General Jeffrey Amherst\, chief of British forces in North America\, insisted that the troops be well supplied with spruce beer\, “for the health and convenience of the troops.” A brewery was set up at the head of Lake George with each regiment donating one man to help with the brewing.  When Amherst’s troops moved north to capture the French Fort Carillon\, subsequently renamed Fort Ticonderoga\, each regiment took with it eight barrels of spruce beer.  Following the British lead\, George Washington quickly adopted the use of spruce beer in order to keep his troops fit for service.  “The following is the Ration of Provisions allowed by the Continental Congress unto each Soldier. …One quart of Spruce Beer per man\, pr diem\,…” \nThe Regimental Brewmeister is my interpretation of what a brewer in HM 43rd would be. It is an amalgamation of Captain Jonathan Gilford from Thomas Fleming’s Liberty Tavern (1976)\, and my portrayal of a Private in HM 43rd Regiment of Foot.  The Regimental Brewmeister presents as a retired British soldier who is now a middle-class journeyman brewer.  I dress well\, and I want to present myself in a manner that shows that while I am not a Gentleman\, I am not a common laborer either. You will find military service has made a distinct impression upon the Regimental Brewmeister\, and he is not apolitical.  Despite his loyalist roots\, he is a stanch supporter of republican ideals but can argue both sides of the conflict. \nThe equipment I use is very basic.  The beer I brew is my own recipe\, derived but not copied from 18th Century sources.  Like brewers of the era\, I do all my work without instrumentation\, relying upon my basic senses of sight\, smell\, hearing\, taste\, and touch to do the work modern brewers have instrumentation like clocks\, scales\, hydrometers\, and thermometers for.  My aim is to recreate the methods\, brews\, and experience of a brewer from 1778 while telling stories of the American Revolution.
URL:https://reenactingschedule.org/event/colonial-brewing-with-regimental-brewmeister-5/
LOCATION:Historic Odessa\, 201 Main\, Odessa\, DE\, 19730\, United States
ORGANIZER;CN="Regimental Brewmeister":MAILTO:Colonialbrewer@gmail.com
END:VEVENT
BEGIN:VEVENT
DTSTART;VALUE=DATE:20260810
DTEND;VALUE=DATE:20260814
DTSTAMP:20260424T052327
CREATED:20260423T215530Z
LAST-MODIFIED:20260423T215649Z
UID:10003352-1786320000-1786665599@reenactingschedule.org
SUMMARY:Michilimackinac Reenactment
DESCRIPTION:Reenactment of Pontiac rebellion.  4-day encampment.
URL:https://reenactingschedule.org/event/michilimackinac-reenactment-2/2026-08-10/
CATEGORIES:Encampment,Historic Demonstration,Reenactment
ORGANIZER;CN="Fort Micilimackinaw Renactment Committee":MAILTO:sniderconst@centurylink.net
END:VEVENT
BEGIN:VEVENT
DTSTART;VALUE=DATE:20260811
DTEND;VALUE=DATE:20260815
DTSTAMP:20260424T052327
CREATED:20260423T215530Z
LAST-MODIFIED:20260423T215649Z
UID:10003353-1786406400-1786751999@reenactingschedule.org
SUMMARY:Michilimackinac Reenactment
DESCRIPTION:Reenactment of Pontiac rebellion.  4-day encampment.
URL:https://reenactingschedule.org/event/michilimackinac-reenactment-2/2026-08-11/
CATEGORIES:Encampment,Historic Demonstration,Reenactment
ORGANIZER;CN="Fort Micilimackinaw Renactment Committee":MAILTO:sniderconst@centurylink.net
END:VEVENT
BEGIN:VEVENT
DTSTART;VALUE=DATE:20260812
DTEND;VALUE=DATE:20260816
DTSTAMP:20260424T052327
CREATED:20260423T215530Z
LAST-MODIFIED:20260423T215649Z
UID:10003354-1786492800-1786838399@reenactingschedule.org
SUMMARY:Michilimackinac Reenactment
DESCRIPTION:Reenactment of Pontiac rebellion.  4-day encampment.
URL:https://reenactingschedule.org/event/michilimackinac-reenactment-2/2026-08-12/
CATEGORIES:Encampment,Historic Demonstration,Reenactment
ORGANIZER;CN="Fort Micilimackinaw Renactment Committee":MAILTO:sniderconst@centurylink.net
END:VEVENT
BEGIN:VEVENT
DTSTART;VALUE=DATE:20260813
DTEND;VALUE=DATE:20260817
DTSTAMP:20260424T052327
CREATED:20260423T215530Z
LAST-MODIFIED:20260423T215649Z
UID:10003355-1786579200-1786924799@reenactingschedule.org
SUMMARY:Michilimackinac Reenactment
DESCRIPTION:Reenactment of Pontiac rebellion.  4-day encampment.
URL:https://reenactingschedule.org/event/michilimackinac-reenactment-2/2026-08-13/
CATEGORIES:Encampment,Historic Demonstration,Reenactment
ORGANIZER;CN="Fort Micilimackinaw Renactment Committee":MAILTO:sniderconst@centurylink.net
END:VEVENT
BEGIN:VEVENT
DTSTART;VALUE=DATE:20260814
DTEND;VALUE=DATE:20260818
DTSTAMP:20260424T052327
CREATED:20260423T215530Z
LAST-MODIFIED:20260423T215649Z
UID:10003356-1786665600-1787011199@reenactingschedule.org
SUMMARY:Michilimackinac Reenactment
DESCRIPTION:Reenactment of Pontiac rebellion.  4-day encampment.
URL:https://reenactingschedule.org/event/michilimackinac-reenactment-2/2026-08-14/
CATEGORIES:Encampment,Historic Demonstration,Reenactment
ORGANIZER;CN="Fort Micilimackinaw Renactment Committee":MAILTO:sniderconst@centurylink.net
END:VEVENT
BEGIN:VEVENT
DTSTART;VALUE=DATE:20260815
DTEND;VALUE=DATE:20260817
DTSTAMP:20260424T052327
CREATED:20260115T035403Z
LAST-MODIFIED:20260115T035403Z
UID:10003148-1786752000-1786924799@reenactingschedule.org
SUMMARY:Battle of Dry Creek
DESCRIPTION:The 2026 Battle of Dry Creek Reenactment will be held on August 15 – 16\, 2025 at the Greenbrier State Forest\, located near White Sulphur Springs off of Exit 181 of I-64 which is the second WV exit if you are coming from Virginia.  \nEarly Dry Creek Reenactor registration this year will be $15.00 if post marked on or before JUNE 15TH -After $20. \nhttps://battleofdrycreek.org/battle-of-dry-creek
URL:https://reenactingschedule.org/event/battle-of-dry-creek/
END:VEVENT
BEGIN:VEVENT
DTSTART;VALUE=DATE:20260815
DTEND;VALUE=DATE:20260819
DTSTAMP:20260424T052327
CREATED:20260423T215530Z
LAST-MODIFIED:20260423T215649Z
UID:10003357-1786752000-1787097599@reenactingschedule.org
SUMMARY:Michilimackinac Reenactment
DESCRIPTION:Reenactment of Pontiac rebellion.  4-day encampment.
URL:https://reenactingschedule.org/event/michilimackinac-reenactment-2/2026-08-15/
CATEGORIES:Encampment,Historic Demonstration,Reenactment
ORGANIZER;CN="Fort Micilimackinaw Renactment Committee":MAILTO:sniderconst@centurylink.net
END:VEVENT
BEGIN:VEVENT
DTSTART;TZID=America/Kentucky/Louisville:20260815T110000
DTEND;TZID=America/Kentucky/Louisville:20260815T140000
DTSTAMP:20260424T052327
CREATED:20260118T214611Z
LAST-MODIFIED:20260118T214611Z
UID:10003224-1786791600-1786802400@reenactingschedule.org
SUMMARY:Talk on Importance of Taverns in Colonial America
DESCRIPTION:The Importance of Taverns in America – The Tavern Act ensured that public houses were constructed along England’s (and her colony’s) major highways and at her ports. This was done principally to support commerce but since these were often the largest and most accessible buildings in many communities\, taverns took a major role in keeping communities together\, sharing news\, and ensuring that the government functioned. Taverns hosted militia musters\, court proceedings\, polls\, and post offices. The tavern was where people gathered to share news and engage in trade. These institutions were far more than just bars and hotels\, they were the heart of many communities\, second only to the church. The Admiral of the Blue Apron discusses how the tavern was instrumental in both preventing anarchy and driving revolution in the American colonies.
URL:https://reenactingschedule.org/event/talk-on-importance-of-taverns-in-colonial-america/
LOCATION:Valley Green Inn\, Valley Green Rd.\, Philadelphia\, PA\, 19118\, United States
ORGANIZER;CN="Regimental Brewmeister":MAILTO:Colonialbrewer@gmail.com
END:VEVENT
BEGIN:VEVENT
DTSTART;TZID=America/Kentucky/Louisville:20260815T120000
DTEND;TZID=America/Kentucky/Louisville:20260815T160000
DTSTAMP:20260424T052327
CREATED:20260118T030406Z
LAST-MODIFIED:20260118T030406Z
UID:10003167-1786795200-1786809600@reenactingschedule.org
SUMMARY:History Matters @ INHP
DESCRIPTION:Come to Independence National Historic Park and hear the Philadelphia Tour Guides Association tell the under-emphasized history and the history that the Trump Adminstration hopes to censor.  We are telling the stories of black patriots\, Jewish patriots\, women patriots\, and others who made our nation great.
URL:https://reenactingschedule.org/event/history-matters-inhp/2026-08-15/
ORGANIZER;CN="Regimental Brewmeister":MAILTO:Colonialbrewer@gmail.com
END:VEVENT
BEGIN:VEVENT
DTSTART;VALUE=DATE:20260816
DTEND;VALUE=DATE:20260820
DTSTAMP:20260424T052327
CREATED:20260423T215530Z
LAST-MODIFIED:20260423T215649Z
UID:10003358-1786838400-1787183999@reenactingschedule.org
SUMMARY:Michilimackinac Reenactment
DESCRIPTION:Reenactment of Pontiac rebellion.  4-day encampment.
URL:https://reenactingschedule.org/event/michilimackinac-reenactment-2/2026-08-16/
CATEGORIES:Encampment,Historic Demonstration,Reenactment
ORGANIZER;CN="Fort Micilimackinaw Renactment Committee":MAILTO:sniderconst@centurylink.net
END:VEVENT
BEGIN:VEVENT
DTSTART;VALUE=DATE:20260817
DTEND;VALUE=DATE:20260821
DTSTAMP:20260424T052327
CREATED:20260423T215530Z
LAST-MODIFIED:20260423T215649Z
UID:10003359-1786924800-1787270399@reenactingschedule.org
SUMMARY:Michilimackinac Reenactment
DESCRIPTION:Reenactment of Pontiac rebellion.  4-day encampment.
URL:https://reenactingschedule.org/event/michilimackinac-reenactment-2/2026-08-17/
CATEGORIES:Encampment,Historic Demonstration,Reenactment
ORGANIZER;CN="Fort Micilimackinaw Renactment Committee":MAILTO:sniderconst@centurylink.net
END:VEVENT
BEGIN:VEVENT
DTSTART;VALUE=DATE:20260818
DTEND;VALUE=DATE:20260822
DTSTAMP:20260424T052327
CREATED:20260423T215530Z
LAST-MODIFIED:20260423T215649Z
UID:10003360-1787011200-1787356799@reenactingschedule.org
SUMMARY:Michilimackinac Reenactment
DESCRIPTION:Reenactment of Pontiac rebellion.  4-day encampment.
URL:https://reenactingschedule.org/event/michilimackinac-reenactment-2/2026-08-18/
CATEGORIES:Encampment,Historic Demonstration,Reenactment
ORGANIZER;CN="Fort Micilimackinaw Renactment Committee":MAILTO:sniderconst@centurylink.net
END:VEVENT
BEGIN:VEVENT
DTSTART;VALUE=DATE:20260819
DTEND;VALUE=DATE:20260823
DTSTAMP:20260424T052327
CREATED:20260423T215530Z
LAST-MODIFIED:20260423T215649Z
UID:10003361-1787097600-1787443199@reenactingschedule.org
SUMMARY:Michilimackinac Reenactment
DESCRIPTION:Reenactment of Pontiac rebellion.  4-day encampment.
URL:https://reenactingschedule.org/event/michilimackinac-reenactment-2/2026-08-19/
CATEGORIES:Encampment,Historic Demonstration,Reenactment
ORGANIZER;CN="Fort Micilimackinaw Renactment Committee":MAILTO:sniderconst@centurylink.net
END:VEVENT
BEGIN:VEVENT
DTSTART;VALUE=DATE:20260820
DTEND;VALUE=DATE:20260824
DTSTAMP:20260424T052327
CREATED:20260423T215530Z
LAST-MODIFIED:20260423T215649Z
UID:10003362-1787184000-1787529599@reenactingschedule.org
SUMMARY:Michilimackinac Reenactment
DESCRIPTION:Reenactment of Pontiac rebellion.  4-day encampment.
URL:https://reenactingschedule.org/event/michilimackinac-reenactment-2/2026-08-20/
CATEGORIES:Encampment,Historic Demonstration,Reenactment
ORGANIZER;CN="Fort Micilimackinaw Renactment Committee":MAILTO:sniderconst@centurylink.net
END:VEVENT
BEGIN:VEVENT
DTSTART;VALUE=DATE:20260821
DTEND;VALUE=DATE:20260825
DTSTAMP:20260424T052327
CREATED:20260423T215530Z
LAST-MODIFIED:20260423T215649Z
UID:10003363-1787270400-1787615999@reenactingschedule.org
SUMMARY:Michilimackinac Reenactment
DESCRIPTION:Reenactment of Pontiac rebellion.  4-day encampment.
URL:https://reenactingschedule.org/event/michilimackinac-reenactment-2/2026-08-21/
CATEGORIES:Encampment,Historic Demonstration,Reenactment
ORGANIZER;CN="Fort Micilimackinaw Renactment Committee":MAILTO:sniderconst@centurylink.net
END:VEVENT
BEGIN:VEVENT
DTSTART;VALUE=DATE:20260822
DTEND;VALUE=DATE:20260826
DTSTAMP:20260424T052327
CREATED:20260423T215530Z
LAST-MODIFIED:20260423T215649Z
UID:10003364-1787356800-1787702399@reenactingschedule.org
SUMMARY:Michilimackinac Reenactment
DESCRIPTION:Reenactment of Pontiac rebellion.  4-day encampment.
URL:https://reenactingschedule.org/event/michilimackinac-reenactment-2/2026-08-22/
CATEGORIES:Encampment,Historic Demonstration,Reenactment
ORGANIZER;CN="Fort Micilimackinaw Renactment Committee":MAILTO:sniderconst@centurylink.net
END:VEVENT
BEGIN:VEVENT
DTSTART;TZID=America/Kentucky/Louisville:20260822T093000
DTEND;TZID=America/Kentucky/Louisville:20260823T170000
DTSTAMP:20260424T052327
CREATED:20240322T183011Z
LAST-MODIFIED:20260109T155616Z
UID:10002191-1787391000-1787504400@reenactingschedule.org
SUMMARY:60 Years war for Ohio: American Revolution
DESCRIPTION:Fort Meigs hosts the North West Territory Alliance. Immerse yourself in the sights and sounds of the American Revolution in this exciting living history event featuring; military & battle demonstrations\, an interactive ambush\, live fife and drum concerts\, an 18th century duel\, hands on activities for kids and more!
URL:https://reenactingschedule.org/event/60-years-war-for-ohio-american-revolution-grand-encampment/
LOCATION:Fort Meigs Historic Site\, 29100 West River Road\, Perrysburg\, OH\, 43551\, United States
CATEGORIES:Reenactment
ATTACH;FMTTYPE=image/jpeg:https://reenactingschedule.org/wp-content/uploads/2024/03/Screenshot-2023-03-24-153110.jpg
ORGANIZER;CN="Fort Meigs Historic Site":MAILTO:jthompson@fortmeigs.org
END:VEVENT
BEGIN:VEVENT
DTSTART;VALUE=DATE:20260823
DTEND;VALUE=DATE:20260827
DTSTAMP:20260424T052327
CREATED:20260423T215530Z
LAST-MODIFIED:20260423T215649Z
UID:10003365-1787443200-1787788799@reenactingschedule.org
SUMMARY:Michilimackinac Reenactment
DESCRIPTION:Reenactment of Pontiac rebellion.  4-day encampment.
URL:https://reenactingschedule.org/event/michilimackinac-reenactment-2/2026-08-23/
CATEGORIES:Encampment,Historic Demonstration,Reenactment
ORGANIZER;CN="Fort Micilimackinaw Renactment Committee":MAILTO:sniderconst@centurylink.net
END:VEVENT
END:VCALENDAR