BEGIN:VCALENDAR
VERSION:2.0
PRODID:-//Reenacting Schedule - ECPv6.15.20//NONSGML v1.0//EN
CALSCALE:GREGORIAN
METHOD:PUBLISH
X-WR-CALNAME:Reenacting Schedule
X-ORIGINAL-URL:https://reenactingschedule.org
X-WR-CALDESC:Events for Reenacting Schedule
REFRESH-INTERVAL;VALUE=DURATION:PT1H
X-Robots-Tag:noindex
X-PUBLISHED-TTL:PT1H
BEGIN:VTIMEZONE
TZID:America/Kentucky/Louisville
BEGIN:DAYLIGHT
TZOFFSETFROM:-0500
TZOFFSETTO:-0400
TZNAME:EDT
DTSTART:20250309T070000
END:DAYLIGHT
BEGIN:STANDARD
TZOFFSETFROM:-0400
TZOFFSETTO:-0500
TZNAME:EST
DTSTART:20251102T060000
END:STANDARD
BEGIN:DAYLIGHT
TZOFFSETFROM:-0500
TZOFFSETTO:-0400
TZNAME:EDT
DTSTART:20260308T070000
END:DAYLIGHT
BEGIN:STANDARD
TZOFFSETFROM:-0400
TZOFFSETTO:-0500
TZNAME:EST
DTSTART:20261101T060000
END:STANDARD
BEGIN:DAYLIGHT
TZOFFSETFROM:-0500
TZOFFSETTO:-0400
TZNAME:EDT
DTSTART:20270314T070000
END:DAYLIGHT
BEGIN:STANDARD
TZOFFSETFROM:-0400
TZOFFSETTO:-0500
TZNAME:EST
DTSTART:20271107T060000
END:STANDARD
END:VTIMEZONE
BEGIN:VTIMEZONE
TZID:America/New_York
BEGIN:DAYLIGHT
TZOFFSETFROM:-0500
TZOFFSETTO:-0400
TZNAME:EDT
DTSTART:20250309T070000
END:DAYLIGHT
BEGIN:STANDARD
TZOFFSETFROM:-0400
TZOFFSETTO:-0500
TZNAME:EST
DTSTART:20251102T060000
END:STANDARD
BEGIN:DAYLIGHT
TZOFFSETFROM:-0500
TZOFFSETTO:-0400
TZNAME:EDT
DTSTART:20260308T070000
END:DAYLIGHT
BEGIN:STANDARD
TZOFFSETFROM:-0400
TZOFFSETTO:-0500
TZNAME:EST
DTSTART:20261101T060000
END:STANDARD
BEGIN:DAYLIGHT
TZOFFSETFROM:-0500
TZOFFSETTO:-0400
TZNAME:EDT
DTSTART:20270314T070000
END:DAYLIGHT
BEGIN:STANDARD
TZOFFSETFROM:-0400
TZOFFSETTO:-0500
TZNAME:EST
DTSTART:20271107T060000
END:STANDARD
END:VTIMEZONE
BEGIN:VEVENT
DTSTART;VALUE=DATE:20261016
DTEND;VALUE=DATE:20261019
DTSTAMP:20260424T045842
CREATED:20260316T195310Z
LAST-MODIFIED:20260316T231549Z
UID:10003258-1792108800-1792367999@reenactingschedule.org
SUMMARY:Thunder Creek Long Rifles 54th Annual Rendezvous
DESCRIPTION:Thunder Creek Long Rifles 54th Annual Rendezvous. October 16-18\, 2026.\n\n(Setup any day –  early setup on the 15th.)\nPre-1840 rendezvous; primitive dress preferred. Bring water; firewood furnished. Setup anytime\, with main setup Thursday (15th) and competitions Friday (tentative)\, Saturday\, and Sunday. Location: 8 miles east of Martinsville\, Indiana\, on Bear Creek Rd\, Morgantown\, Indiana. \nCoordinates shown on flyer: 39.326758\, -86.35645. \nPitch-in dinner Saturday night; club supplies meat. Matches include archery\, rifle\, smoothbore\, pistol\, hawk-n-knife\, and prizes awarded. Camp and shooting fee listed as $25.00 per family; Schuetzen $3.00 paid at the match. Walk-in shooting fees: $25.00 for matches and $3.00 Schuetzen. \nParticipants register at cabin Friday morning. Shooter meeting at 9:00 AM. Ranges open 9 AM-5 PM Friday and Saturday\, 9 AM-12 PM Sunday.\nScore cards due at cabin by 12:00 on Sunday. Shooter must wear pre-1840 garb to compete. \nContact email on flyer: thundercreek1972@gmail.com. Club voice mail: 812-785-6166. Website: https://thundercreeklongrifles.org/.
URL:https://reenactingschedule.org/event/thunder-creek-long-rifles-54th-annual-rendezvous/
LOCATION:Thunder Creek Long Rifles Range\, Bear Creek Rd\, Morgantown\, IN\, United States
CATEGORIES:Reenactment,Rendezvous
ATTACH;FMTTYPE=image/jpeg:https://reenactingschedule.org/wp-content/uploads/2026/03/Thunder-Creek.jpg
ORGANIZER;CN="Thunder Creek Long Rifles":MAILTO:thundercreek1972@gmail.com
GEO:39.326758;-86.35645
X-APPLE-STRUCTURED-LOCATION;VALUE=URI;X-ADDRESS=Thunder Creek Long Rifles Range Bear Creek Rd Morgantown IN United States;X-APPLE-RADIUS=500;X-TITLE=Bear Creek Rd:geo:-86.35645,39.326758
END:VEVENT
BEGIN:VEVENT
DTSTART;TZID=America/Kentucky/Louisville:20261015T080000
DTEND;TZID=America/Kentucky/Louisville:20261017T120000
DTSTAMP:20260424T045842
CREATED:20260406T122847Z
LAST-MODIFIED:20260406T122847Z
UID:10003269-1792051200-1792238400@reenactingschedule.org
SUMMARY:(Kansas) Russell Muzzleloaders Club Rendezvous
DESCRIPTION:Russell Muzzleloaders Inc\n42″d Anniversary Annual Fall Shoot and Rendezvous October 15. 16. & 17. 2026 \nRifle ~ Pistol~ Knife & Hawk Walk Novelty Rífle ~ Shotgun Shoot Prímitive Archery ~ Revolver shoot Kíds BB Gun Shoot\nRange Hours Friday Noon – 5:00 PM Saturday 8:00 AM – 4:00 PM\nSunday 9:00 AM ~ Shotgun Shoot All Prizes Awarded Sundav\nShootina and Camping Entrl Fees: $ 20 indívidual $30 Family -ouseholo\nSaturday Niaht Feed 5:15\nHosted By Club – Side Dishes are Appreciated\nNMLRA Rules Will Apply club Range Rules Will Take Precedence Over NMLRA Patched Round Ball s open sights only Shooting from Bag only Prímítive and Modern Camps Separate Above Ground Fire Pits or Fire Boxes Only (Some Fire Rings Provided) Fire Buckets Requtred in each camp No Loaded fire arms in camps Traders and visitors Welcome! Prímitive dress preferred\, but not required All Pets Must Be On A Leash ~ Please!!\nDírections From Russell\, Ks.:\ng Miles North on Highway 281 to Beatty Road at mile marker 153 Turn East and Go about 2 Miles ta the east side of the paradise creek Bridge. Beatty Road is very rough in spots. Please dríve slower on the narrow\, winding\, hilly gravel road\nFire wood avatlable/ Potable water\nFor More Information Contact: sam Schmidt 785-483-7804 Jim Vlcek 785-483-4132
URL:https://reenactingschedule.org/event/kansas-russell-muzzleloaders-club-rendezvous/
ATTACH;FMTTYPE=image/jpeg:https://reenactingschedule.org/wp-content/uploads/2026/04/15860.jpg
END:VEVENT
BEGIN:VEVENT
DTSTART;VALUE=DATE:20261015
DTEND;VALUE=DATE:20261019
DTSTAMP:20260424T045842
CREATED:20260423T215530Z
LAST-MODIFIED:20260423T215649Z
UID:10003418-1792022400-1792367999@reenactingschedule.org
SUMMARY:Michilimackinac Reenactment
DESCRIPTION:Reenactment of Pontiac rebellion.  4-day encampment.
URL:https://reenactingschedule.org/event/michilimackinac-reenactment-2/2026-10-15/
CATEGORIES:Encampment,Historic Demonstration,Reenactment
ORGANIZER;CN="Fort Micilimackinaw Renactment Committee":MAILTO:sniderconst@centurylink.net
END:VEVENT
BEGIN:VEVENT
DTSTART;VALUE=DATE:20261014
DTEND;VALUE=DATE:20261018
DTSTAMP:20260424T045842
CREATED:20260423T215530Z
LAST-MODIFIED:20260423T215649Z
UID:10003417-1791936000-1792281599@reenactingschedule.org
SUMMARY:Michilimackinac Reenactment
DESCRIPTION:Reenactment of Pontiac rebellion.  4-day encampment.
URL:https://reenactingschedule.org/event/michilimackinac-reenactment-2/2026-10-14/
CATEGORIES:Encampment,Historic Demonstration,Reenactment
ORGANIZER;CN="Fort Micilimackinaw Renactment Committee":MAILTO:sniderconst@centurylink.net
END:VEVENT
BEGIN:VEVENT
DTSTART;VALUE=DATE:20261013
DTEND;VALUE=DATE:20261017
DTSTAMP:20260424T045842
CREATED:20260423T215530Z
LAST-MODIFIED:20260423T215649Z
UID:10003416-1791849600-1792195199@reenactingschedule.org
SUMMARY:Michilimackinac Reenactment
DESCRIPTION:Reenactment of Pontiac rebellion.  4-day encampment.
URL:https://reenactingschedule.org/event/michilimackinac-reenactment-2/2026-10-13/
CATEGORIES:Encampment,Historic Demonstration,Reenactment
ORGANIZER;CN="Fort Micilimackinaw Renactment Committee":MAILTO:sniderconst@centurylink.net
END:VEVENT
BEGIN:VEVENT
DTSTART;VALUE=DATE:20261012
DTEND;VALUE=DATE:20261016
DTSTAMP:20260424T045842
CREATED:20260423T215530Z
LAST-MODIFIED:20260423T215649Z
UID:10003415-1791763200-1792108799@reenactingschedule.org
SUMMARY:Michilimackinac Reenactment
DESCRIPTION:Reenactment of Pontiac rebellion.  4-day encampment.
URL:https://reenactingschedule.org/event/michilimackinac-reenactment-2/2026-10-12/
CATEGORIES:Encampment,Historic Demonstration,Reenactment
ORGANIZER;CN="Fort Micilimackinaw Renactment Committee":MAILTO:sniderconst@centurylink.net
END:VEVENT
BEGIN:VEVENT
DTSTART;VALUE=DATE:20261011
DTEND;VALUE=DATE:20261015
DTSTAMP:20260424T045842
CREATED:20260423T215530Z
LAST-MODIFIED:20260423T215649Z
UID:10003414-1791676800-1792022399@reenactingschedule.org
SUMMARY:Michilimackinac Reenactment
DESCRIPTION:Reenactment of Pontiac rebellion.  4-day encampment.
URL:https://reenactingschedule.org/event/michilimackinac-reenactment-2/2026-10-11/
CATEGORIES:Encampment,Historic Demonstration,Reenactment
ORGANIZER;CN="Fort Micilimackinaw Renactment Committee":MAILTO:sniderconst@centurylink.net
END:VEVENT
BEGIN:VEVENT
DTSTART;TZID=America/Kentucky/Louisville:20261010T093000
DTEND;TZID=America/Kentucky/Louisville:20261011T170000
DTSTAMP:20260424T045842
CREATED:20250105T103325Z
LAST-MODIFIED:20260109T153758Z
UID:10002989-1791624600-1791738000@reenactingschedule.org
SUMMARY:Brigade Napoleon
DESCRIPTION:Come behold the re-creation of one of the defining conflicts in European history! The Napoleonic Wars raged for nearly 25 years and featured some of the most colorful soldiers and stories in military history.  This event is set against the backdrop of Fort Meigs\, an American installation of the same period.  Brigade Napoleon displays the fight that engulfed the rest of the world during the American War of 1812.  Tactical demonstrations\, camp life\, tours\, lectures\, etc. will all be featured.
URL:https://reenactingschedule.org/event/brigade-napoleon-grande-tactique/
LOCATION:Fort Meigs Historic Site\, 29100 West River Road\, Perrysburg\, OH\, 43551\, United States
CATEGORIES:Reenactment
ATTACH;FMTTYPE=image/jpeg:https://reenactingschedule.org/wp-content/uploads/2025/01/artillery_pieceBrigade-Napoleon.jpg
ORGANIZER;CN="Fort Meigs Historic Site":MAILTO:jthompson@fortmeigs.org
END:VEVENT
BEGIN:VEVENT
DTSTART;TZID=America/Kentucky/Louisville:20261010T090000
DTEND;TZID=America/Kentucky/Louisville:20261011T170000
DTSTAMP:20260424T045842
CREATED:20260422T185841Z
LAST-MODIFIED:20260422T185841Z
UID:10003271-1791622800-1791738000@reenactingschedule.org
SUMMARY:Log Cabin Shop's 18th Annual Early American Trades Fair
DESCRIPTION:Meet with & learn from skilled artisans as they work\, Many handcrafted items on display for sale and trade. Admission is free and open to the public.
URL:https://reenactingschedule.org/event/log-cabin-shops-18th-annual-early-american-trades-fair/2026-10-10/
LOCATION:Log Cabin Shop\, 8010 Lafayette Road\, Lodi\, 44254\, United States
CATEGORIES:Outdoor Trade Fair
ATTACH;FMTTYPE=image/jpeg:https://reenactingschedule.org/wp-content/uploads/2026/04/postcard2026-1.jpg
ORGANIZER;CN="Log Cabin Shop":MAILTO:logcabin@logcabinshop.com
END:VEVENT
BEGIN:VEVENT
DTSTART;VALUE=DATE:20261010
DTEND;VALUE=DATE:20261014
DTSTAMP:20260424T045842
CREATED:20260423T215530Z
LAST-MODIFIED:20260423T215649Z
UID:10003413-1791590400-1791935999@reenactingschedule.org
SUMMARY:Michilimackinac Reenactment
DESCRIPTION:Reenactment of Pontiac rebellion.  4-day encampment.
URL:https://reenactingschedule.org/event/michilimackinac-reenactment-2/2026-10-10/
CATEGORIES:Encampment,Historic Demonstration,Reenactment
ORGANIZER;CN="Fort Micilimackinaw Renactment Committee":MAILTO:sniderconst@centurylink.net
END:VEVENT
BEGIN:VEVENT
DTSTART;VALUE=DATE:20261010
DTEND;VALUE=DATE:20261012
DTSTAMP:20260424T045842
CREATED:20260115T035448Z
LAST-MODIFIED:20260115T035448Z
UID:10003149-1791590400-1791763199@reenactingschedule.org
SUMMARY:Reenactment At Droop Mountain Battlefield State Park\, October 10th thru 11th\, 2026
DESCRIPTION:Reenactment At Droop Mountain Battlefield State Park\, October 10th thru 11th\, 2026\n\nThe reenactment is held on the actual battlefield of the 1864 Battle of Droop Mountain located at the Droop Mountain Battlefield State Park. The Park is located on US 219 about 29 miles North of I-64 and is several miles South of the Town of Hillsboro\, WV at the top of Droop Mountain. \nEarly Registration (received on or before September 1st) is $15.00 /Late or walk-on registration is $20.00. \nThere will be a skirmish at 1:00 pm on Saturday afternoon and the reenactment of the Battle of Droop Mountain will be held at 1:30 pm on Sunday. THERE IS NO CHARGE FOR SPECTATORS. \nOn Saturday Evening\, there will be an 8:30 pm night firing of the cannons.
URL:https://reenactingschedule.org/event/reenactment-at-droop-mountain-battlefield-state-park-october-10th-thru-11th-2026/
END:VEVENT
BEGIN:VEVENT
DTSTART;TZID=America/Kentucky/Louisville:20261009T120000
DTEND;TZID=America/Kentucky/Louisville:20261009T180000
DTSTAMP:20260424T045842
CREATED:20260422T185841Z
LAST-MODIFIED:20260422T185841Z
UID:10003270-1791547200-1791568800@reenactingschedule.org
SUMMARY:Log Cabin Shop's 18th Annual Early American Trades Fair
DESCRIPTION:Meet with & learn from skilled artisans as they work\, Many handcrafted items on display for sale and trade. Admission is free and open to the public.
URL:https://reenactingschedule.org/event/log-cabin-shops-18th-annual-early-american-trades-fair/2026-10-09/
LOCATION:Log Cabin Shop\, 8010 Lafayette Road\, Lodi\, 44254\, United States
CATEGORIES:Outdoor Trade Fair
ATTACH;FMTTYPE=image/jpeg:https://reenactingschedule.org/wp-content/uploads/2026/04/postcard2026-1.jpg
ORGANIZER;CN="Log Cabin Shop":MAILTO:logcabin@logcabinshop.com
END:VEVENT
BEGIN:VEVENT
DTSTART;VALUE=DATE:20261009
DTEND;VALUE=DATE:20261013
DTSTAMP:20260424T045842
CREATED:20260423T215530Z
LAST-MODIFIED:20260423T215649Z
UID:10003412-1791504000-1791849599@reenactingschedule.org
SUMMARY:Michilimackinac Reenactment
DESCRIPTION:Reenactment of Pontiac rebellion.  4-day encampment.
URL:https://reenactingschedule.org/event/michilimackinac-reenactment-2/2026-10-09/
CATEGORIES:Encampment,Historic Demonstration,Reenactment
ORGANIZER;CN="Fort Micilimackinaw Renactment Committee":MAILTO:sniderconst@centurylink.net
END:VEVENT
BEGIN:VEVENT
DTSTART;VALUE=DATE:20261008
DTEND;VALUE=DATE:20261012
DTSTAMP:20260424T045842
CREATED:20260423T215530Z
LAST-MODIFIED:20260423T215649Z
UID:10003411-1791417600-1791763199@reenactingschedule.org
SUMMARY:Michilimackinac Reenactment
DESCRIPTION:Reenactment of Pontiac rebellion.  4-day encampment.
URL:https://reenactingschedule.org/event/michilimackinac-reenactment-2/2026-10-08/
CATEGORIES:Encampment,Historic Demonstration,Reenactment
ORGANIZER;CN="Fort Micilimackinaw Renactment Committee":MAILTO:sniderconst@centurylink.net
END:VEVENT
BEGIN:VEVENT
DTSTART;VALUE=DATE:20261007
DTEND;VALUE=DATE:20261011
DTSTAMP:20260424T045842
CREATED:20260423T215530Z
LAST-MODIFIED:20260423T215649Z
UID:10003410-1791331200-1791676799@reenactingschedule.org
SUMMARY:Michilimackinac Reenactment
DESCRIPTION:Reenactment of Pontiac rebellion.  4-day encampment.
URL:https://reenactingschedule.org/event/michilimackinac-reenactment-2/2026-10-07/
CATEGORIES:Encampment,Historic Demonstration,Reenactment
ORGANIZER;CN="Fort Micilimackinaw Renactment Committee":MAILTO:sniderconst@centurylink.net
END:VEVENT
BEGIN:VEVENT
DTSTART;VALUE=DATE:20261006
DTEND;VALUE=DATE:20261010
DTSTAMP:20260424T045842
CREATED:20260423T215530Z
LAST-MODIFIED:20260423T215649Z
UID:10003409-1791244800-1791590399@reenactingschedule.org
SUMMARY:Michilimackinac Reenactment
DESCRIPTION:Reenactment of Pontiac rebellion.  4-day encampment.
URL:https://reenactingschedule.org/event/michilimackinac-reenactment-2/2026-10-06/
CATEGORIES:Encampment,Historic Demonstration,Reenactment
ORGANIZER;CN="Fort Micilimackinaw Renactment Committee":MAILTO:sniderconst@centurylink.net
END:VEVENT
BEGIN:VEVENT
DTSTART;VALUE=DATE:20261005
DTEND;VALUE=DATE:20261009
DTSTAMP:20260424T045842
CREATED:20260423T215530Z
LAST-MODIFIED:20260423T215649Z
UID:10003408-1791158400-1791503999@reenactingschedule.org
SUMMARY:Michilimackinac Reenactment
DESCRIPTION:Reenactment of Pontiac rebellion.  4-day encampment.
URL:https://reenactingschedule.org/event/michilimackinac-reenactment-2/2026-10-05/
CATEGORIES:Encampment,Historic Demonstration,Reenactment
ORGANIZER;CN="Fort Micilimackinaw Renactment Committee":MAILTO:sniderconst@centurylink.net
END:VEVENT
BEGIN:VEVENT
DTSTART;VALUE=DATE:20261004
DTEND;VALUE=DATE:20261008
DTSTAMP:20260424T045842
CREATED:20260423T215530Z
LAST-MODIFIED:20260423T215649Z
UID:10003407-1791072000-1791417599@reenactingschedule.org
SUMMARY:Michilimackinac Reenactment
DESCRIPTION:Reenactment of Pontiac rebellion.  4-day encampment.
URL:https://reenactingschedule.org/event/michilimackinac-reenactment-2/2026-10-04/
CATEGORIES:Encampment,Historic Demonstration,Reenactment
ORGANIZER;CN="Fort Micilimackinaw Renactment Committee":MAILTO:sniderconst@centurylink.net
END:VEVENT
BEGIN:VEVENT
DTSTART;VALUE=DATE:20261003
DTEND;VALUE=DATE:20261007
DTSTAMP:20260424T045842
CREATED:20260423T215530Z
LAST-MODIFIED:20260423T215649Z
UID:10003406-1790985600-1791331199@reenactingschedule.org
SUMMARY:Michilimackinac Reenactment
DESCRIPTION:Reenactment of Pontiac rebellion.  4-day encampment.
URL:https://reenactingschedule.org/event/michilimackinac-reenactment-2/2026-10-03/
CATEGORIES:Encampment,Historic Demonstration,Reenactment
ORGANIZER;CN="Fort Micilimackinaw Renactment Committee":MAILTO:sniderconst@centurylink.net
END:VEVENT
BEGIN:VEVENT
DTSTART;VALUE=DATE:20261002
DTEND;VALUE=DATE:20261006
DTSTAMP:20260424T045842
CREATED:20260423T215530Z
LAST-MODIFIED:20260423T215649Z
UID:10003405-1790899200-1791244799@reenactingschedule.org
SUMMARY:Michilimackinac Reenactment
DESCRIPTION:Reenactment of Pontiac rebellion.  4-day encampment.
URL:https://reenactingschedule.org/event/michilimackinac-reenactment-2/2026-10-02/
CATEGORIES:Encampment,Historic Demonstration,Reenactment
ORGANIZER;CN="Fort Micilimackinaw Renactment Committee":MAILTO:sniderconst@centurylink.net
END:VEVENT
BEGIN:VEVENT
DTSTART;VALUE=DATE:20261001
DTEND;VALUE=DATE:20261005
DTSTAMP:20260424T045842
CREATED:20260423T215530Z
LAST-MODIFIED:20260423T215649Z
UID:10003404-1790812800-1791158399@reenactingschedule.org
SUMMARY:Michilimackinac Reenactment
DESCRIPTION:Reenactment of Pontiac rebellion.  4-day encampment.
URL:https://reenactingschedule.org/event/michilimackinac-reenactment-2/2026-10-01/
CATEGORIES:Encampment,Historic Demonstration,Reenactment
ORGANIZER;CN="Fort Micilimackinaw Renactment Committee":MAILTO:sniderconst@centurylink.net
END:VEVENT
BEGIN:VEVENT
DTSTART;VALUE=DATE:20260930
DTEND;VALUE=DATE:20261004
DTSTAMP:20260424T045842
CREATED:20260423T215530Z
LAST-MODIFIED:20260423T215649Z
UID:10003403-1790726400-1791071999@reenactingschedule.org
SUMMARY:Michilimackinac Reenactment
DESCRIPTION:Reenactment of Pontiac rebellion.  4-day encampment.
URL:https://reenactingschedule.org/event/michilimackinac-reenactment-2/2026-09-30/
CATEGORIES:Encampment,Historic Demonstration,Reenactment
ORGANIZER;CN="Fort Micilimackinaw Renactment Committee":MAILTO:sniderconst@centurylink.net
END:VEVENT
BEGIN:VEVENT
DTSTART;VALUE=DATE:20260929
DTEND;VALUE=DATE:20261003
DTSTAMP:20260424T045842
CREATED:20260423T215530Z
LAST-MODIFIED:20260423T215649Z
UID:10003402-1790640000-1790985599@reenactingschedule.org
SUMMARY:Michilimackinac Reenactment
DESCRIPTION:Reenactment of Pontiac rebellion.  4-day encampment.
URL:https://reenactingschedule.org/event/michilimackinac-reenactment-2/2026-09-29/
CATEGORIES:Encampment,Historic Demonstration,Reenactment
ORGANIZER;CN="Fort Micilimackinaw Renactment Committee":MAILTO:sniderconst@centurylink.net
END:VEVENT
BEGIN:VEVENT
DTSTART;VALUE=DATE:20260928
DTEND;VALUE=DATE:20261002
DTSTAMP:20260424T045842
CREATED:20260423T215530Z
LAST-MODIFIED:20260423T215649Z
UID:10003401-1790553600-1790899199@reenactingschedule.org
SUMMARY:Michilimackinac Reenactment
DESCRIPTION:Reenactment of Pontiac rebellion.  4-day encampment.
URL:https://reenactingschedule.org/event/michilimackinac-reenactment-2/2026-09-28/
CATEGORIES:Encampment,Historic Demonstration,Reenactment
ORGANIZER;CN="Fort Micilimackinaw Renactment Committee":MAILTO:sniderconst@centurylink.net
END:VEVENT
BEGIN:VEVENT
DTSTART;VALUE=DATE:20260927
DTEND;VALUE=DATE:20261001
DTSTAMP:20260424T045842
CREATED:20260423T215530Z
LAST-MODIFIED:20260423T215649Z
UID:10003400-1790467200-1790812799@reenactingschedule.org
SUMMARY:Michilimackinac Reenactment
DESCRIPTION:Reenactment of Pontiac rebellion.  4-day encampment.
URL:https://reenactingschedule.org/event/michilimackinac-reenactment-2/2026-09-27/
CATEGORIES:Encampment,Historic Demonstration,Reenactment
ORGANIZER;CN="Fort Micilimackinaw Renactment Committee":MAILTO:sniderconst@centurylink.net
END:VEVENT
BEGIN:VEVENT
DTSTART;TZID=America/Kentucky/Louisville:20260926T080000
DTEND;TZID=America/Kentucky/Louisville:20260927T150000
DTSTAMP:20260424T045842
CREATED:20260318T192928Z
LAST-MODIFIED:20260318T192928Z
UID:10003261-1790409600-1790521200@reenactingschedule.org
SUMMARY:Soldiering Throught the Ages (STA) - "A Military Timeline Event!"
DESCRIPTION:Soldiering Through The Ages (STA) – “A Military Timeline Event!” is living history brought to life at the Maryland Veterans Museum at Patriot Park in Newburg\, Maryland. With living history/reenactors from all periods from early to modern day.
URL:https://reenactingschedule.org/event/soldiering-throught-the-ages-sta-a-military-timeline-event/2026-09-26/
LOCATION:Maryland Veterans Museum\, 11000 Crain Highway\, Newburg\, MD\, 20664\, United States
CATEGORIES:Encampment,Historic Demonstration,Museum Event,Reenactment,Timeline
ATTACH;FMTTYPE=image/jpeg:https://reenactingschedule.org/wp-content/uploads/2026/03/2026-STA-Flyer.jpg
ORGANIZER;CN="Jason Posey":MAILTO:jhposey617@yahoo.com
END:VEVENT
BEGIN:VEVENT
DTSTART;TZID=America/Kentucky/Louisville:20260926T080000
DTEND;TZID=America/Kentucky/Louisville:20260926T080000
DTSTAMP:20260424T045842
CREATED:20260118T220733Z
LAST-MODIFIED:20260118T220733Z
UID:10003234-1790409600-1790409600@reenactingschedule.org
SUMMARY:Colonial brewing with Regimental Brewmeister
DESCRIPTION:Long before the American Revolutionary War\, the British Army in North America learned from the French the importance of spruce beer for treating and preventing scurvy and keeping their soldiers “fit for service.”  John Knox\, an officer in the 43rd Regiment of Foot\, insisted that his troops at Louisburg (1745) be supplied with spruce beer\, “this liquor being thought necessary for the preservation of the health of our men.” When British troops were again involved in a campaign against the French in Nova Scotia in 1757\, their commander\, the Earl of Loudoun\, insisted on an allowance of two quarts of spruce beer per man each day.  General Jeffrey Amherst\, chief of British forces in North America\, insisted that the troops be well supplied with spruce beer\, “for the health and convenience of the troops.” A brewery was set up at the head of Lake George with each regiment donating one man to help with the brewing.  When Amherst’s troops moved north to capture the French Fort Carillon\, subsequently renamed Fort Ticonderoga\, each regiment took with it eight barrels of spruce beer.  Following the British lead\, George Washington quickly adopted the use of spruce beer in order to keep his troops fit for service.  “The following is the Ration of Provisions allowed by the Continental Congress unto each Soldier. …One quart of Spruce Beer per man\, pr diem\,…” \nThe Regimental Brewmeister is my interpretation of what a brewer in HM 43rd would be. It is an amalgamation of Captain Jonathan Gilford from Thomas Fleming’s Liberty Tavern (1976)\, and my portrayal of a Private in HM 43rd Regiment of Foot.  The Regimental Brewmeister presents as a retired British soldier who is now a middle-class journeyman brewer.  I dress well\, and I want to present myself in a manner that shows that while I am not a Gentleman\, I am not a common laborer either. You will find military service has made a distinct impression upon the Regimental Brewmeister\, and he is not apolitical.  Despite his loyalist roots\, he is a stanch supporter of republican ideals but can argue both sides of the conflict. \nThe equipment I use is very basic.  The beer I brew is my own recipe\, derived but not copied from 18th Century sources.  Like brewers of the era\, I do all my work without instrumentation\, relying upon my basic senses of sight\, smell\, hearing\, taste\, and touch to do the work modern brewers have instrumentation like clocks\, scales\, hydrometers\, and thermometers for.  My aim is to recreate the methods\, brews\, and experience of a brewer from 1778 while telling stories of the American Revolution.
URL:https://reenactingschedule.org/event/colonial-brewing-with-regimental-brewmeister-6/
LOCATION:Hermitage Museum\, 335 North Franklin Turnpike\, Ho-Ho-Kus\, 07423\, United States
ORGANIZER;CN="Regimental Brewmeister":MAILTO:Colonialbrewer@gmail.com
END:VEVENT
BEGIN:VEVENT
DTSTART;VALUE=DATE:20260926
DTEND;VALUE=DATE:20260930
DTSTAMP:20260424T045842
CREATED:20260423T215530Z
LAST-MODIFIED:20260423T215649Z
UID:10003399-1790380800-1790726399@reenactingschedule.org
SUMMARY:Michilimackinac Reenactment
DESCRIPTION:Reenactment of Pontiac rebellion.  4-day encampment.
URL:https://reenactingschedule.org/event/michilimackinac-reenactment-2/2026-09-26/
CATEGORIES:Encampment,Historic Demonstration,Reenactment
ORGANIZER;CN="Fort Micilimackinaw Renactment Committee":MAILTO:sniderconst@centurylink.net
END:VEVENT
BEGIN:VEVENT
DTSTART;TZID=America/New_York:20260925T120000
DTEND;TZID=America/New_York:20260927T170000
DTSTAMP:20260424T045842
CREATED:20260313T182523Z
LAST-MODIFIED:20260315T212303Z
UID:10003256-1790337600-1790528400@reenactingschedule.org
SUMMARY:The Battles of Dighton and Encampment
DESCRIPTION:A two-day 250th event hosted by the 13th Continental Regiment and the town of Dighton\, Massachusetts. Battles each day\, along with 18th century craft and skill demos. Set-up begins and opens at noon on 9/25. All participating units must be registered to attend. Walk-ons not permitted. Free and open to the general public Saturday and Sunday. \nPatriot and Crown forces needed! Please contact us at 13thContRegt@gmail.com for more information and details.
URL:https://reenactingschedule.org/event/the-battles-of-dighton-and-encampment/
LOCATION:Wood’s Farm\, 1326 Somerset Ave.\, Dighton\, MA\, 02715\, United States
CATEGORIES:Encampment
ATTACH;FMTTYPE=image/png:https://reenactingschedule.org/wp-content/uploads/2026/03/DightonFBAd-3.png
ORGANIZER;CN="13th Continental Regiment and the town of Dighton%2C MA":MAILTO:13thContRegt@gmail.com
END:VEVENT
BEGIN:VEVENT
DTSTART;VALUE=DATE:20260925
DTEND;VALUE=DATE:20260929
DTSTAMP:20260424T045842
CREATED:20260423T215530Z
LAST-MODIFIED:20260423T215649Z
UID:10003398-1790294400-1790639999@reenactingschedule.org
SUMMARY:Michilimackinac Reenactment
DESCRIPTION:Reenactment of Pontiac rebellion.  4-day encampment.
URL:https://reenactingschedule.org/event/michilimackinac-reenactment-2/2026-09-25/
CATEGORIES:Encampment,Historic Demonstration,Reenactment
ORGANIZER;CN="Fort Micilimackinaw Renactment Committee":MAILTO:sniderconst@centurylink.net
END:VEVENT
END:VCALENDAR