BEGIN:VCALENDAR
VERSION:2.0
PRODID:-//Reenacting Schedule - ECPv6.15.20//NONSGML v1.0//EN
CALSCALE:GREGORIAN
METHOD:PUBLISH
X-WR-CALNAME:Reenacting Schedule
X-ORIGINAL-URL:https://reenactingschedule.org
X-WR-CALDESC:Events for Reenacting Schedule
REFRESH-INTERVAL;VALUE=DURATION:PT1H
X-Robots-Tag:noindex
X-PUBLISHED-TTL:PT1H
BEGIN:VTIMEZONE
TZID:America/Kentucky/Louisville
BEGIN:DAYLIGHT
TZOFFSETFROM:-0500
TZOFFSETTO:-0400
TZNAME:EDT
DTSTART:20250309T070000
END:DAYLIGHT
BEGIN:STANDARD
TZOFFSETFROM:-0400
TZOFFSETTO:-0500
TZNAME:EST
DTSTART:20251102T060000
END:STANDARD
BEGIN:DAYLIGHT
TZOFFSETFROM:-0500
TZOFFSETTO:-0400
TZNAME:EDT
DTSTART:20260308T070000
END:DAYLIGHT
BEGIN:STANDARD
TZOFFSETFROM:-0400
TZOFFSETTO:-0500
TZNAME:EST
DTSTART:20261101T060000
END:STANDARD
BEGIN:DAYLIGHT
TZOFFSETFROM:-0500
TZOFFSETTO:-0400
TZNAME:EDT
DTSTART:20270314T070000
END:DAYLIGHT
BEGIN:STANDARD
TZOFFSETFROM:-0400
TZOFFSETTO:-0500
TZNAME:EST
DTSTART:20271107T060000
END:STANDARD
END:VTIMEZONE
BEGIN:VEVENT
DTSTART;VALUE=DATE:20261111
DTEND;VALUE=DATE:20261115
DTSTAMP:20260424T081313
CREATED:20260423T215530Z
LAST-MODIFIED:20260423T215649Z
UID:10003445-1794355200-1794700799@reenactingschedule.org
SUMMARY:Michilimackinac Reenactment
DESCRIPTION:Reenactment of Pontiac rebellion.  4-day encampment.
URL:https://reenactingschedule.org/event/michilimackinac-reenactment-2/2026-11-11/
CATEGORIES:Encampment,Historic Demonstration,Reenactment
ORGANIZER;CN="Fort Micilimackinaw Renactment Committee":MAILTO:sniderconst@centurylink.net
END:VEVENT
BEGIN:VEVENT
DTSTART;VALUE=DATE:20261110
DTEND;VALUE=DATE:20261114
DTSTAMP:20260424T081313
CREATED:20260423T215530Z
LAST-MODIFIED:20260423T215649Z
UID:10003444-1794268800-1794614399@reenactingschedule.org
SUMMARY:Michilimackinac Reenactment
DESCRIPTION:Reenactment of Pontiac rebellion.  4-day encampment.
URL:https://reenactingschedule.org/event/michilimackinac-reenactment-2/2026-11-10/
CATEGORIES:Encampment,Historic Demonstration,Reenactment
ORGANIZER;CN="Fort Micilimackinaw Renactment Committee":MAILTO:sniderconst@centurylink.net
END:VEVENT
BEGIN:VEVENT
DTSTART;VALUE=DATE:20261109
DTEND;VALUE=DATE:20261113
DTSTAMP:20260424T081313
CREATED:20260423T215530Z
LAST-MODIFIED:20260423T215649Z
UID:10003443-1794182400-1794527999@reenactingschedule.org
SUMMARY:Michilimackinac Reenactment
DESCRIPTION:Reenactment of Pontiac rebellion.  4-day encampment.
URL:https://reenactingschedule.org/event/michilimackinac-reenactment-2/2026-11-09/
CATEGORIES:Encampment,Historic Demonstration,Reenactment
ORGANIZER;CN="Fort Micilimackinaw Renactment Committee":MAILTO:sniderconst@centurylink.net
END:VEVENT
BEGIN:VEVENT
DTSTART;VALUE=DATE:20261108
DTEND;VALUE=DATE:20261112
DTSTAMP:20260424T081313
CREATED:20260423T215530Z
LAST-MODIFIED:20260423T215649Z
UID:10003442-1794096000-1794441599@reenactingschedule.org
SUMMARY:Michilimackinac Reenactment
DESCRIPTION:Reenactment of Pontiac rebellion.  4-day encampment.
URL:https://reenactingschedule.org/event/michilimackinac-reenactment-2/2026-11-08/
CATEGORIES:Encampment,Historic Demonstration,Reenactment
ORGANIZER;CN="Fort Micilimackinaw Renactment Committee":MAILTO:sniderconst@centurylink.net
END:VEVENT
BEGIN:VEVENT
DTSTART;TZID=America/Kentucky/Louisville:20261107T093000
DTEND;TZID=America/Kentucky/Louisville:20261107T160000
DTSTAMP:20260424T081313
CREATED:20250104T051010Z
LAST-MODIFIED:20260109T153415Z
UID:10002988-1794043800-1794067200@reenactingschedule.org
SUMMARY:The World at War: Historical Miniatures Wargaming Conference
DESCRIPTION:Join us for a day of historical miniatures gaming offered to promote the history of The Old Northwest and the hobby of tabletop war gaming. The games are included with regular admission and many of the games are suitable for all members of the family. No experience with this type of gaming is necessary and all of the rules will be taught.
URL:https://reenactingschedule.org/event/the-world-at-war-historical-miniatures-wargaming-conference/
LOCATION:Fort Meigs Historic Site\, 29100 West River Road\, Perrysburg\, OH\, 43551\, United States
CATEGORIES:Museum Event
ATTACH;FMTTYPE=image/jpeg:https://reenactingschedule.org/wp-content/uploads/2025/01/3238BFF6-6E0D-4D52-ABFF-6FD8C00D8064.jpeg
ORGANIZER;CN="Fort Meigs Historic Site":MAILTO:jthompson@fortmeigs.org
END:VEVENT
BEGIN:VEVENT
DTSTART;VALUE=DATE:20261107
DTEND;VALUE=DATE:20261111
DTSTAMP:20260424T081313
CREATED:20260423T215530Z
LAST-MODIFIED:20260423T215649Z
UID:10003441-1794009600-1794355199@reenactingschedule.org
SUMMARY:Michilimackinac Reenactment
DESCRIPTION:Reenactment of Pontiac rebellion.  4-day encampment.
URL:https://reenactingschedule.org/event/michilimackinac-reenactment-2/2026-11-07/
CATEGORIES:Encampment,Historic Demonstration,Reenactment
ORGANIZER;CN="Fort Micilimackinaw Renactment Committee":MAILTO:sniderconst@centurylink.net
END:VEVENT
BEGIN:VEVENT
DTSTART;VALUE=DATE:20261106
DTEND;VALUE=DATE:20261110
DTSTAMP:20260424T081313
CREATED:20260423T215530Z
LAST-MODIFIED:20260423T215649Z
UID:10003440-1793923200-1794268799@reenactingschedule.org
SUMMARY:Michilimackinac Reenactment
DESCRIPTION:Reenactment of Pontiac rebellion.  4-day encampment.
URL:https://reenactingschedule.org/event/michilimackinac-reenactment-2/2026-11-06/
CATEGORIES:Encampment,Historic Demonstration,Reenactment
ORGANIZER;CN="Fort Micilimackinaw Renactment Committee":MAILTO:sniderconst@centurylink.net
END:VEVENT
BEGIN:VEVENT
DTSTART;VALUE=DATE:20261105
DTEND;VALUE=DATE:20261109
DTSTAMP:20260424T081313
CREATED:20260423T215530Z
LAST-MODIFIED:20260423T215649Z
UID:10003439-1793836800-1794182399@reenactingschedule.org
SUMMARY:Michilimackinac Reenactment
DESCRIPTION:Reenactment of Pontiac rebellion.  4-day encampment.
URL:https://reenactingschedule.org/event/michilimackinac-reenactment-2/2026-11-05/
CATEGORIES:Encampment,Historic Demonstration,Reenactment
ORGANIZER;CN="Fort Micilimackinaw Renactment Committee":MAILTO:sniderconst@centurylink.net
END:VEVENT
BEGIN:VEVENT
DTSTART;VALUE=DATE:20261104
DTEND;VALUE=DATE:20261108
DTSTAMP:20260424T081313
CREATED:20260423T215530Z
LAST-MODIFIED:20260423T215649Z
UID:10003438-1793750400-1794095999@reenactingschedule.org
SUMMARY:Michilimackinac Reenactment
DESCRIPTION:Reenactment of Pontiac rebellion.  4-day encampment.
URL:https://reenactingschedule.org/event/michilimackinac-reenactment-2/2026-11-04/
CATEGORIES:Encampment,Historic Demonstration,Reenactment
ORGANIZER;CN="Fort Micilimackinaw Renactment Committee":MAILTO:sniderconst@centurylink.net
END:VEVENT
BEGIN:VEVENT
DTSTART;VALUE=DATE:20261103
DTEND;VALUE=DATE:20261107
DTSTAMP:20260424T081313
CREATED:20260423T215530Z
LAST-MODIFIED:20260423T215649Z
UID:10003437-1793664000-1794009599@reenactingschedule.org
SUMMARY:Michilimackinac Reenactment
DESCRIPTION:Reenactment of Pontiac rebellion.  4-day encampment.
URL:https://reenactingschedule.org/event/michilimackinac-reenactment-2/2026-11-03/
CATEGORIES:Encampment,Historic Demonstration,Reenactment
ORGANIZER;CN="Fort Micilimackinaw Renactment Committee":MAILTO:sniderconst@centurylink.net
END:VEVENT
BEGIN:VEVENT
DTSTART;VALUE=DATE:20261102
DTEND;VALUE=DATE:20261106
DTSTAMP:20260424T081313
CREATED:20260423T215530Z
LAST-MODIFIED:20260423T215649Z
UID:10003436-1793577600-1793923199@reenactingschedule.org
SUMMARY:Michilimackinac Reenactment
DESCRIPTION:Reenactment of Pontiac rebellion.  4-day encampment.
URL:https://reenactingschedule.org/event/michilimackinac-reenactment-2/2026-11-02/
CATEGORIES:Encampment,Historic Demonstration,Reenactment
ORGANIZER;CN="Fort Micilimackinaw Renactment Committee":MAILTO:sniderconst@centurylink.net
END:VEVENT
BEGIN:VEVENT
DTSTART;VALUE=DATE:20261101
DTEND;VALUE=DATE:20261105
DTSTAMP:20260424T081313
CREATED:20260423T215530Z
LAST-MODIFIED:20260423T215649Z
UID:10003435-1793491200-1793833199@reenactingschedule.org
SUMMARY:Michilimackinac Reenactment
DESCRIPTION:Reenactment of Pontiac rebellion.  4-day encampment.
URL:https://reenactingschedule.org/event/michilimackinac-reenactment-2/2026-11-01/
CATEGORIES:Encampment,Historic Demonstration,Reenactment
ORGANIZER;CN="Fort Micilimackinaw Renactment Committee":MAILTO:sniderconst@centurylink.net
END:VEVENT
BEGIN:VEVENT
DTSTART;VALUE=DATE:20261031
DTEND;VALUE=DATE:20261104
DTSTAMP:20260424T081313
CREATED:20260423T215530Z
LAST-MODIFIED:20260423T215649Z
UID:10003434-1793404800-1793746799@reenactingschedule.org
SUMMARY:Michilimackinac Reenactment
DESCRIPTION:Reenactment of Pontiac rebellion.  4-day encampment.
URL:https://reenactingschedule.org/event/michilimackinac-reenactment-2/2026-10-31/
CATEGORIES:Encampment,Historic Demonstration,Reenactment
ORGANIZER;CN="Fort Micilimackinaw Renactment Committee":MAILTO:sniderconst@centurylink.net
END:VEVENT
BEGIN:VEVENT
DTSTART;VALUE=DATE:20261030
DTEND;VALUE=DATE:20261103
DTSTAMP:20260424T081313
CREATED:20260423T215530Z
LAST-MODIFIED:20260423T215649Z
UID:10003433-1793318400-1793660399@reenactingschedule.org
SUMMARY:Michilimackinac Reenactment
DESCRIPTION:Reenactment of Pontiac rebellion.  4-day encampment.
URL:https://reenactingschedule.org/event/michilimackinac-reenactment-2/2026-10-30/
CATEGORIES:Encampment,Historic Demonstration,Reenactment
ORGANIZER;CN="Fort Micilimackinaw Renactment Committee":MAILTO:sniderconst@centurylink.net
END:VEVENT
BEGIN:VEVENT
DTSTART;VALUE=DATE:20261029
DTEND;VALUE=DATE:20261102
DTSTAMP:20260424T081313
CREATED:20260423T215530Z
LAST-MODIFIED:20260423T215649Z
UID:10003432-1793232000-1793573999@reenactingschedule.org
SUMMARY:Michilimackinac Reenactment
DESCRIPTION:Reenactment of Pontiac rebellion.  4-day encampment.
URL:https://reenactingschedule.org/event/michilimackinac-reenactment-2/2026-10-29/
CATEGORIES:Encampment,Historic Demonstration,Reenactment
ORGANIZER;CN="Fort Micilimackinaw Renactment Committee":MAILTO:sniderconst@centurylink.net
END:VEVENT
BEGIN:VEVENT
DTSTART;VALUE=DATE:20261028
DTEND;VALUE=DATE:20261101
DTSTAMP:20260424T081313
CREATED:20260423T215530Z
LAST-MODIFIED:20260423T215649Z
UID:10003431-1793145600-1793491199@reenactingschedule.org
SUMMARY:Michilimackinac Reenactment
DESCRIPTION:Reenactment of Pontiac rebellion.  4-day encampment.
URL:https://reenactingschedule.org/event/michilimackinac-reenactment-2/2026-10-28/
CATEGORIES:Encampment,Historic Demonstration,Reenactment
ORGANIZER;CN="Fort Micilimackinaw Renactment Committee":MAILTO:sniderconst@centurylink.net
END:VEVENT
BEGIN:VEVENT
DTSTART;VALUE=DATE:20261027
DTEND;VALUE=DATE:20261031
DTSTAMP:20260424T081313
CREATED:20260423T215530Z
LAST-MODIFIED:20260423T215649Z
UID:10003430-1793059200-1793404799@reenactingschedule.org
SUMMARY:Michilimackinac Reenactment
DESCRIPTION:Reenactment of Pontiac rebellion.  4-day encampment.
URL:https://reenactingschedule.org/event/michilimackinac-reenactment-2/2026-10-27/
CATEGORIES:Encampment,Historic Demonstration,Reenactment
ORGANIZER;CN="Fort Micilimackinaw Renactment Committee":MAILTO:sniderconst@centurylink.net
END:VEVENT
BEGIN:VEVENT
DTSTART;VALUE=DATE:20261026
DTEND;VALUE=DATE:20261030
DTSTAMP:20260424T081313
CREATED:20260423T215530Z
LAST-MODIFIED:20260423T215649Z
UID:10003429-1792972800-1793318399@reenactingschedule.org
SUMMARY:Michilimackinac Reenactment
DESCRIPTION:Reenactment of Pontiac rebellion.  4-day encampment.
URL:https://reenactingschedule.org/event/michilimackinac-reenactment-2/2026-10-26/
CATEGORIES:Encampment,Historic Demonstration,Reenactment
ORGANIZER;CN="Fort Micilimackinaw Renactment Committee":MAILTO:sniderconst@centurylink.net
END:VEVENT
BEGIN:VEVENT
DTSTART;TZID=America/Kentucky/Louisville:20261025T100000
DTEND;TZID=America/Kentucky/Louisville:20261025T170000
DTSTAMP:20260424T081313
CREATED:20250115T173036Z
LAST-MODIFIED:20260204T210256Z
UID:10003244-1792922400-1792947600@reenactingschedule.org
SUMMARY:Feast of the Hunters’ Moon
DESCRIPTION:The Tippecanoe County Historical Association of Lafayette\, Indiana\, in cooperation with the Tippecanoe County Park and Recreation Department\, will be sponsoring the 59th annual Feast of the Hunters’ Moon festival on October 24 & 25. Hours are Saturday 9am to 5pm E.D.T. and Sunday 9am to 4pm E.D.T. The Feast represents the time of homecoming\, feasting\, dancing and celebrating from the earliest days of historic Fort Ouiatenon (1717-1791)\, the first fortified European settlement in Indiana. Advance ticket information will be posted by 7/1/26 at www.feastofthehuntersmoon.org\nOver 40 different recreated period foods will put the “feast” in the Feast! Food booths are run by area non-profit organizations as fundraisers for their worthy community projects. Seven different arenas and stages plus numerous locations on the 30 acres of festival grounds feature outstanding performances by musicians\, interpreters\, military re-enactors and Native American groups.
URL:https://reenactingschedule.org/event/feast-of-the-hunters-moon-4/2026-10-25/
LOCATION:Fort Ouiatenon Historic Park\, 3129 South River Road\, West Lafayette\, IN\, 47906\, United States
CATEGORIES:Encampment,Festival,Outdoor Trade Fair,Reenactment
ATTACH;FMTTYPE=image/jpeg:https://reenactingschedule.org/wp-content/uploads/2025/01/Feast2026.jpg
ORGANIZER;CN="Tippecanoe County Historical Association":MAILTO:feast@tippecanoehistory.org
END:VEVENT
BEGIN:VEVENT
DTSTART;VALUE=DATE:20261025
DTEND;VALUE=DATE:20261029
DTSTAMP:20260424T081313
CREATED:20260423T215530Z
LAST-MODIFIED:20260423T215649Z
UID:10003428-1792886400-1793231999@reenactingschedule.org
SUMMARY:Michilimackinac Reenactment
DESCRIPTION:Reenactment of Pontiac rebellion.  4-day encampment.
URL:https://reenactingschedule.org/event/michilimackinac-reenactment-2/2026-10-25/
CATEGORIES:Encampment,Historic Demonstration,Reenactment
ORGANIZER;CN="Fort Micilimackinaw Renactment Committee":MAILTO:sniderconst@centurylink.net
END:VEVENT
BEGIN:VEVENT
DTSTART;TZID=America/Kentucky/Louisville:20261024T100000
DTEND;TZID=America/Kentucky/Louisville:20261024T170000
DTSTAMP:20260424T081313
CREATED:20250115T173036Z
LAST-MODIFIED:20260204T210256Z
UID:10003243-1792836000-1792861200@reenactingschedule.org
SUMMARY:Feast of the Hunters’ Moon
DESCRIPTION:The Tippecanoe County Historical Association of Lafayette\, Indiana\, in cooperation with the Tippecanoe County Park and Recreation Department\, will be sponsoring the 59th annual Feast of the Hunters’ Moon festival on October 24 & 25. Hours are Saturday 9am to 5pm E.D.T. and Sunday 9am to 4pm E.D.T. The Feast represents the time of homecoming\, feasting\, dancing and celebrating from the earliest days of historic Fort Ouiatenon (1717-1791)\, the first fortified European settlement in Indiana. Advance ticket information will be posted by 7/1/26 at www.feastofthehuntersmoon.org\nOver 40 different recreated period foods will put the “feast” in the Feast! Food booths are run by area non-profit organizations as fundraisers for their worthy community projects. Seven different arenas and stages plus numerous locations on the 30 acres of festival grounds feature outstanding performances by musicians\, interpreters\, military re-enactors and Native American groups.
URL:https://reenactingschedule.org/event/feast-of-the-hunters-moon-4/2026-10-24/2/
LOCATION:Fort Ouiatenon Historic Park\, 3129 South River Road\, West Lafayette\, IN\, 47906\, United States
CATEGORIES:Encampment,Festival,Outdoor Trade Fair,Reenactment
ATTACH;FMTTYPE=image/jpeg:https://reenactingschedule.org/wp-content/uploads/2025/01/Feast2026.jpg
ORGANIZER;CN="Tippecanoe County Historical Association":MAILTO:feast@tippecanoehistory.org
END:VEVENT
BEGIN:VEVENT
DTSTART;TZID=America/Kentucky/Louisville:20261024T080000
DTEND;TZID=America/Kentucky/Louisville:20261024T170000
DTSTAMP:20260424T081313
CREATED:20250115T173036Z
LAST-MODIFIED:20260204T210256Z
UID:10003242-1792828800-1792861200@reenactingschedule.org
SUMMARY:Feast of the Hunters’ Moon
DESCRIPTION:The Tippecanoe County Historical Association of Lafayette\, Indiana\, in cooperation with the Tippecanoe County Park and Recreation Department\, will be sponsoring the 59th annual Feast of the Hunters’ Moon festival on October 24 & 25. Hours are Saturday 9am to 5pm E.D.T. and Sunday 9am to 4pm E.D.T. The Feast represents the time of homecoming\, feasting\, dancing and celebrating from the earliest days of historic Fort Ouiatenon (1717-1791)\, the first fortified European settlement in Indiana. Advance ticket information will be posted by 7/1/26 at www.feastofthehuntersmoon.org\nOver 40 different recreated period foods will put the “feast” in the Feast! Food booths are run by area non-profit organizations as fundraisers for their worthy community projects. Seven different arenas and stages plus numerous locations on the 30 acres of festival grounds feature outstanding performances by musicians\, interpreters\, military re-enactors and Native American groups.
URL:https://reenactingschedule.org/event/feast-of-the-hunters-moon-4/2026-10-24/1/
LOCATION:Fort Ouiatenon Historic Park\, 3129 South River Road\, West Lafayette\, IN\, 47906\, United States
CATEGORIES:Encampment,Festival,Outdoor Trade Fair,Reenactment
ATTACH;FMTTYPE=image/jpeg:https://reenactingschedule.org/wp-content/uploads/2025/01/Feast2026.jpg
ORGANIZER;CN="Tippecanoe County Historical Association":MAILTO:feast@tippecanoehistory.org
END:VEVENT
BEGIN:VEVENT
DTSTART;VALUE=DATE:20261024
DTEND;VALUE=DATE:20261028
DTSTAMP:20260424T081313
CREATED:20260423T215530Z
LAST-MODIFIED:20260423T215649Z
UID:10003427-1792800000-1793145599@reenactingschedule.org
SUMMARY:Michilimackinac Reenactment
DESCRIPTION:Reenactment of Pontiac rebellion.  4-day encampment.
URL:https://reenactingschedule.org/event/michilimackinac-reenactment-2/2026-10-24/
CATEGORIES:Encampment,Historic Demonstration,Reenactment
ORGANIZER;CN="Fort Micilimackinaw Renactment Committee":MAILTO:sniderconst@centurylink.net
END:VEVENT
BEGIN:VEVENT
DTSTART;TZID=America/Kentucky/Louisville:20261023T190000
DTEND;TZID=America/Kentucky/Louisville:20261024T210000
DTSTAMP:20260424T081313
CREATED:20250105T103522Z
LAST-MODIFIED:20260109T153606Z
UID:10002987-1792782000-1792875600@reenactingschedule.org
SUMMARY:Garrison Ghost Walk Oct. 23 & 24
DESCRIPTION:Guided by lantern light\, experience ghostly tales around glowing campfires within the eerie walls of Fort Meigs. This event is a fundraiser for the Old Northwest Military History Association\, the non-profit organization that supports Fort Meigs through volunteering\, donations\, reenactments\, and more.\n\n\n\n\n\n\n\nAdditional Notes: \n\nAdvanced tickets to this event are required. Tickets will be available online at\, the  Fort Meigs Association Store.\n\n\n\n\n\n\nTours time start at 7:00 p.m. and leave every 15min. Last tour leaves at 9:00 p.m.\nThis event is not appropriate for children age 5 and under.\nDoors open at 6:30pm. Please arrive 10-15 minutes prior to your tour time. Tours leave promptly every 15 minutes.\nTour lasts approximately 90 minutes\nDress for the weather! Ghost Walk takes place outdoors\, rain or shine\, and over varying terrain. If severe weather develops\, the event may be postponed or cancelled. Those affected by any changes will be notified the day of the event and issued a refund.\nYour guides’ lanterns are all you will need. Flashlights and other illuminating devices are not permitted.\nNo refunds (unless the event is cancelled) or exchanges
URL:https://reenactingschedule.org/event/garrison-ghost-walk-oct-24-25/
LOCATION:Fort Meigs Historic Site\, 29100 West River Road\, Perrysburg\, OH\, 43551\, United States
CATEGORIES:Museum Event
ATTACH;FMTTYPE=image/jpeg:https://reenactingschedule.org/wp-content/uploads/2025/01/ghostwalk-1-1.jpg
ORGANIZER;CN="Fort Meigs Historic Site":MAILTO:jthompson@fortmeigs.org
END:VEVENT
BEGIN:VEVENT
DTSTART;VALUE=DATE:20261023
DTEND;VALUE=DATE:20261027
DTSTAMP:20260424T081313
CREATED:20260423T215530Z
LAST-MODIFIED:20260423T215649Z
UID:10003426-1792713600-1793059199@reenactingschedule.org
SUMMARY:Michilimackinac Reenactment
DESCRIPTION:Reenactment of Pontiac rebellion.  4-day encampment.
URL:https://reenactingschedule.org/event/michilimackinac-reenactment-2/2026-10-23/
CATEGORIES:Encampment,Historic Demonstration,Reenactment
ORGANIZER;CN="Fort Micilimackinaw Renactment Committee":MAILTO:sniderconst@centurylink.net
END:VEVENT
BEGIN:VEVENT
DTSTART;VALUE=DATE:20261022
DTEND;VALUE=DATE:20261026
DTSTAMP:20260424T081313
CREATED:20260423T215530Z
LAST-MODIFIED:20260423T215649Z
UID:10003425-1792627200-1792972799@reenactingschedule.org
SUMMARY:Michilimackinac Reenactment
DESCRIPTION:Reenactment of Pontiac rebellion.  4-day encampment.
URL:https://reenactingschedule.org/event/michilimackinac-reenactment-2/2026-10-22/
CATEGORIES:Encampment,Historic Demonstration,Reenactment
ORGANIZER;CN="Fort Micilimackinaw Renactment Committee":MAILTO:sniderconst@centurylink.net
END:VEVENT
BEGIN:VEVENT
DTSTART;VALUE=DATE:20261021
DTEND;VALUE=DATE:20261025
DTSTAMP:20260424T081313
CREATED:20260423T215530Z
LAST-MODIFIED:20260423T215649Z
UID:10003424-1792540800-1792886399@reenactingschedule.org
SUMMARY:Michilimackinac Reenactment
DESCRIPTION:Reenactment of Pontiac rebellion.  4-day encampment.
URL:https://reenactingschedule.org/event/michilimackinac-reenactment-2/2026-10-21/
CATEGORIES:Encampment,Historic Demonstration,Reenactment
ORGANIZER;CN="Fort Micilimackinaw Renactment Committee":MAILTO:sniderconst@centurylink.net
END:VEVENT
BEGIN:VEVENT
DTSTART;VALUE=DATE:20261020
DTEND;VALUE=DATE:20261024
DTSTAMP:20260424T081313
CREATED:20260423T215530Z
LAST-MODIFIED:20260423T215649Z
UID:10003423-1792454400-1792799999@reenactingschedule.org
SUMMARY:Michilimackinac Reenactment
DESCRIPTION:Reenactment of Pontiac rebellion.  4-day encampment.
URL:https://reenactingschedule.org/event/michilimackinac-reenactment-2/2026-10-20/
CATEGORIES:Encampment,Historic Demonstration,Reenactment
ORGANIZER;CN="Fort Micilimackinaw Renactment Committee":MAILTO:sniderconst@centurylink.net
END:VEVENT
BEGIN:VEVENT
DTSTART;VALUE=DATE:20261019
DTEND;VALUE=DATE:20261023
DTSTAMP:20260424T081313
CREATED:20260423T215530Z
LAST-MODIFIED:20260423T215649Z
UID:10003422-1792368000-1792713599@reenactingschedule.org
SUMMARY:Michilimackinac Reenactment
DESCRIPTION:Reenactment of Pontiac rebellion.  4-day encampment.
URL:https://reenactingschedule.org/event/michilimackinac-reenactment-2/2026-10-19/
CATEGORIES:Encampment,Historic Demonstration,Reenactment
ORGANIZER;CN="Fort Micilimackinaw Renactment Committee":MAILTO:sniderconst@centurylink.net
END:VEVENT
BEGIN:VEVENT
DTSTART;TZID=America/Kentucky/Louisville:20261018T110000
DTEND;TZID=America/Kentucky/Louisville:20261018T140000
DTSTAMP:20260424T081313
CREATED:20260118T214721Z
LAST-MODIFIED:20260118T214721Z
UID:10003225-1792321200-1792332000@reenactingschedule.org
SUMMARY:Talk on Importance of Taverns in Colonial America
DESCRIPTION:The Importance of Taverns in America – The Tavern Act ensured that public houses were constructed along England’s (and her colony’s) major highways and at her ports. This was done principally to support commerce but since these were often the largest and most accessible buildings in many communities\, taverns took a major role in keeping communities together\, sharing news\, and ensuring that the government functioned. Taverns hosted militia musters\, court proceedings\, polls\, and post offices. The tavern was where people gathered to share news and engage in trade. These institutions were far more than just bars and hotels\, they were the heart of many communities\, second only to the church. The Admiral of the Blue Apron discusses how the tavern was instrumental in both preventing anarchy and driving revolution in the American colonies.
URL:https://reenactingschedule.org/event/talk-on-importance-of-taverns-in-colonial-america-2/
LOCATION:Historic Doylestown\, Doylestown\, United States
ORGANIZER;CN="Regimental Brewmeister":MAILTO:Colonialbrewer@gmail.com
END:VEVENT
END:VCALENDAR