BEGIN:VCALENDAR
VERSION:2.0
PRODID:-//Reenacting Schedule - ECPv6.15.20//NONSGML v1.0//EN
CALSCALE:GREGORIAN
METHOD:PUBLISH
X-ORIGINAL-URL:https://reenactingschedule.org
X-WR-CALDESC:Events for Reenacting Schedule
REFRESH-INTERVAL;VALUE=DURATION:PT1H
X-Robots-Tag:noindex
X-PUBLISHED-TTL:PT1H
BEGIN:VTIMEZONE
TZID:America/Kentucky/Louisville
BEGIN:DAYLIGHT
TZOFFSETFROM:-0500
TZOFFSETTO:-0400
TZNAME:EDT
DTSTART:20260308T070000
END:DAYLIGHT
BEGIN:STANDARD
TZOFFSETFROM:-0400
TZOFFSETTO:-0500
TZNAME:EST
DTSTART:20261101T060000
END:STANDARD
BEGIN:DAYLIGHT
TZOFFSETFROM:-0500
TZOFFSETTO:-0400
TZNAME:EDT
DTSTART:20270314T070000
END:DAYLIGHT
BEGIN:STANDARD
TZOFFSETFROM:-0400
TZOFFSETTO:-0500
TZNAME:EST
DTSTART:20271107T060000
END:STANDARD
BEGIN:DAYLIGHT
TZOFFSETFROM:-0500
TZOFFSETTO:-0400
TZNAME:EDT
DTSTART:20280312T070000
END:DAYLIGHT
BEGIN:STANDARD
TZOFFSETFROM:-0400
TZOFFSETTO:-0500
TZNAME:EST
DTSTART:20281105T060000
END:STANDARD
END:VTIMEZONE
BEGIN:VEVENT
DTSTART;VALUE=DATE:20270414
DTEND;VALUE=DATE:20270418
DTSTAMP:20260424T105520
CREATED:20260423T215530Z
LAST-MODIFIED:20260423T215649Z
UID:10003599-1807660800-1808006399@reenactingschedule.org
SUMMARY:Michilimackinac Reenactment
DESCRIPTION:Reenactment of Pontiac rebellion.  4-day encampment.
URL:https://reenactingschedule.org/event/michilimackinac-reenactment-2/2027-04-14/
CATEGORIES:Encampment,Historic Demonstration,Reenactment
ORGANIZER;CN="Fort Micilimackinaw Renactment Committee":MAILTO:sniderconst@centurylink.net
END:VEVENT
BEGIN:VEVENT
DTSTART;VALUE=DATE:20270415
DTEND;VALUE=DATE:20270419
DTSTAMP:20260424T105520
CREATED:20260423T215530Z
LAST-MODIFIED:20260423T215649Z
UID:10003600-1807747200-1808092799@reenactingschedule.org
SUMMARY:Michilimackinac Reenactment
DESCRIPTION:Reenactment of Pontiac rebellion.  4-day encampment.
URL:https://reenactingschedule.org/event/michilimackinac-reenactment-2/2027-04-15/
CATEGORIES:Encampment,Historic Demonstration,Reenactment
ORGANIZER;CN="Fort Micilimackinaw Renactment Committee":MAILTO:sniderconst@centurylink.net
END:VEVENT
BEGIN:VEVENT
DTSTART;VALUE=DATE:20270416
DTEND;VALUE=DATE:20270420
DTSTAMP:20260424T105520
CREATED:20260423T215530Z
LAST-MODIFIED:20260423T215649Z
UID:10003601-1807833600-1808179199@reenactingschedule.org
SUMMARY:Michilimackinac Reenactment
DESCRIPTION:Reenactment of Pontiac rebellion.  4-day encampment.
URL:https://reenactingschedule.org/event/michilimackinac-reenactment-2/2027-04-16/
CATEGORIES:Encampment,Historic Demonstration,Reenactment
ORGANIZER;CN="Fort Micilimackinaw Renactment Committee":MAILTO:sniderconst@centurylink.net
END:VEVENT
BEGIN:VEVENT
DTSTART;VALUE=DATE:20270417
DTEND;VALUE=DATE:20270421
DTSTAMP:20260424T105520
CREATED:20260423T215530Z
LAST-MODIFIED:20260423T215649Z
UID:10003602-1807920000-1808265599@reenactingschedule.org
SUMMARY:Michilimackinac Reenactment
DESCRIPTION:Reenactment of Pontiac rebellion.  4-day encampment.
URL:https://reenactingschedule.org/event/michilimackinac-reenactment-2/2027-04-17/
CATEGORIES:Encampment,Historic Demonstration,Reenactment
ORGANIZER;CN="Fort Micilimackinaw Renactment Committee":MAILTO:sniderconst@centurylink.net
END:VEVENT
BEGIN:VEVENT
DTSTART;TZID=America/Kentucky/Louisville:20270417T120000
DTEND;TZID=America/Kentucky/Louisville:20270417T160000
DTSTAMP:20260424T105520
CREATED:20260118T030406Z
LAST-MODIFIED:20260118T030406Z
UID:10003175-1807963200-1807977600@reenactingschedule.org
SUMMARY:History Matters @ INHP
DESCRIPTION:Come to Independence National Historic Park and hear the Philadelphia Tour Guides Association tell the under-emphasized history and the history that the Trump Adminstration hopes to censor.  We are telling the stories of black patriots\, Jewish patriots\, women patriots\, and others who made our nation great.
URL:https://reenactingschedule.org/event/history-matters-inhp/2027-04-17/
ORGANIZER;CN="Regimental Brewmeister":MAILTO:Colonialbrewer@gmail.com
END:VEVENT
END:VCALENDAR