BEGIN:VCALENDAR
VERSION:2.0
PRODID:-//Reenacting Schedule - ECPv6.15.20//NONSGML v1.0//EN
CALSCALE:GREGORIAN
METHOD:PUBLISH
X-WR-CALNAME:Reenacting Schedule
X-ORIGINAL-URL:https://reenactingschedule.org
X-WR-CALDESC:Events for Reenacting Schedule
REFRESH-INTERVAL;VALUE=DURATION:PT1H
X-Robots-Tag:noindex
X-PUBLISHED-TTL:PT1H
BEGIN:VTIMEZONE
TZID:America/Kentucky/Louisville
BEGIN:DAYLIGHT
TZOFFSETFROM:-0500
TZOFFSETTO:-0400
TZNAME:EDT
DTSTART:20260308T070000
END:DAYLIGHT
BEGIN:STANDARD
TZOFFSETFROM:-0400
TZOFFSETTO:-0500
TZNAME:EST
DTSTART:20261101T060000
END:STANDARD
BEGIN:DAYLIGHT
TZOFFSETFROM:-0500
TZOFFSETTO:-0400
TZNAME:EDT
DTSTART:20270314T070000
END:DAYLIGHT
BEGIN:STANDARD
TZOFFSETFROM:-0400
TZOFFSETTO:-0500
TZNAME:EST
DTSTART:20271107T060000
END:STANDARD
BEGIN:DAYLIGHT
TZOFFSETFROM:-0500
TZOFFSETTO:-0400
TZNAME:EDT
DTSTART:20280312T070000
END:DAYLIGHT
BEGIN:STANDARD
TZOFFSETFROM:-0400
TZOFFSETTO:-0500
TZNAME:EST
DTSTART:20281105T060000
END:STANDARD
END:VTIMEZONE
BEGIN:VEVENT
DTSTART;VALUE=DATE:20270108
DTEND;VALUE=DATE:20270112
DTSTAMP:20260424T045001
CREATED:20260423T215530Z
LAST-MODIFIED:20260423T215649Z
UID:10003503-1799366400-1799711999@reenactingschedule.org
SUMMARY:Michilimackinac Reenactment
DESCRIPTION:Reenactment of Pontiac rebellion.  4-day encampment.
URL:https://reenactingschedule.org/event/michilimackinac-reenactment-2/2027-01-08/
CATEGORIES:Encampment,Historic Demonstration,Reenactment
ORGANIZER;CN="Fort Micilimackinaw Renactment Committee":MAILTO:sniderconst@centurylink.net
END:VEVENT
BEGIN:VEVENT
DTSTART;VALUE=DATE:20270109
DTEND;VALUE=DATE:20270113
DTSTAMP:20260424T045001
CREATED:20260423T215530Z
LAST-MODIFIED:20260423T215649Z
UID:10003504-1799452800-1799798399@reenactingschedule.org
SUMMARY:Michilimackinac Reenactment
DESCRIPTION:Reenactment of Pontiac rebellion.  4-day encampment.
URL:https://reenactingschedule.org/event/michilimackinac-reenactment-2/2027-01-09/
CATEGORIES:Encampment,Historic Demonstration,Reenactment
ORGANIZER;CN="Fort Micilimackinaw Renactment Committee":MAILTO:sniderconst@centurylink.net
END:VEVENT
BEGIN:VEVENT
DTSTART;VALUE=DATE:20270110
DTEND;VALUE=DATE:20270114
DTSTAMP:20260424T045001
CREATED:20260423T215530Z
LAST-MODIFIED:20260423T215649Z
UID:10003505-1799539200-1799884799@reenactingschedule.org
SUMMARY:Michilimackinac Reenactment
DESCRIPTION:Reenactment of Pontiac rebellion.  4-day encampment.
URL:https://reenactingschedule.org/event/michilimackinac-reenactment-2/2027-01-10/
CATEGORIES:Encampment,Historic Demonstration,Reenactment
ORGANIZER;CN="Fort Micilimackinaw Renactment Committee":MAILTO:sniderconst@centurylink.net
END:VEVENT
BEGIN:VEVENT
DTSTART;VALUE=DATE:20270111
DTEND;VALUE=DATE:20270115
DTSTAMP:20260424T045001
CREATED:20260423T215530Z
LAST-MODIFIED:20260423T215649Z
UID:10003506-1799625600-1799971199@reenactingschedule.org
SUMMARY:Michilimackinac Reenactment
DESCRIPTION:Reenactment of Pontiac rebellion.  4-day encampment.
URL:https://reenactingschedule.org/event/michilimackinac-reenactment-2/2027-01-11/
CATEGORIES:Encampment,Historic Demonstration,Reenactment
ORGANIZER;CN="Fort Micilimackinaw Renactment Committee":MAILTO:sniderconst@centurylink.net
END:VEVENT
END:VCALENDAR