BEGIN:VCALENDAR
VERSION:2.0
PRODID:-//Reenacting Schedule - ECPv6.15.20//NONSGML v1.0//EN
CALSCALE:GREGORIAN
METHOD:PUBLISH
X-WR-CALNAME:Reenacting Schedule
X-ORIGINAL-URL:https://reenactingschedule.org
X-WR-CALDESC:Events for Reenacting Schedule
REFRESH-INTERVAL;VALUE=DURATION:PT1H
X-Robots-Tag:noindex
X-PUBLISHED-TTL:PT1H
BEGIN:VTIMEZONE
TZID:America/Kentucky/Louisville
BEGIN:DAYLIGHT
TZOFFSETFROM:-0500
TZOFFSETTO:-0400
TZNAME:EDT
DTSTART:20240310T070000
END:DAYLIGHT
BEGIN:STANDARD
TZOFFSETFROM:-0400
TZOFFSETTO:-0500
TZNAME:EST
DTSTART:20241103T060000
END:STANDARD
BEGIN:DAYLIGHT
TZOFFSETFROM:-0500
TZOFFSETTO:-0400
TZNAME:EDT
DTSTART:20250309T070000
END:DAYLIGHT
BEGIN:STANDARD
TZOFFSETFROM:-0400
TZOFFSETTO:-0500
TZNAME:EST
DTSTART:20251102T060000
END:STANDARD
BEGIN:DAYLIGHT
TZOFFSETFROM:-0500
TZOFFSETTO:-0400
TZNAME:EDT
DTSTART:20260308T070000
END:DAYLIGHT
BEGIN:STANDARD
TZOFFSETFROM:-0400
TZOFFSETTO:-0500
TZNAME:EST
DTSTART:20261101T060000
END:STANDARD
END:VTIMEZONE
BEGIN:VEVENT
DTSTART;VALUE=DATE:20250215
DTEND;VALUE=DATE:20250217
DTSTAMP:20260425T001200
CREATED:20240805T092243Z
LAST-MODIFIED:20250106T232738Z
UID:10002944-1739577600-1739750399@reenactingschedule.org
SUMMARY:The American Heritage Festival
DESCRIPTION:Graham’s Historic Farm is where Francis Marion staged attacks against the British in 1780 when all other Continental forces in the southern army were either dead or captured after the Siege of  Savannah\, the Siege of Charles Town\, and the Battle of Camden. Additionally\, British prisoners were brought to the farm after the Battle of Tearcoat Swamp. In celebration of Marion and his men being credited as the catalyst for changing the course of the war\, Graham’s Historic Farm and the 2nd South Carolina Revolutionary Regiment host a weekend of encampments\, displays\, presentations\, historical speakers\, and battle reenactments. Regiments that participate often include\, the Kingsbury Artillery\, 3rd Continental Dragoons\, New Jersey Light Infantry\, SC Militia\, Queen’s Rangers\, the Royal 33 of Foot\, and the 23 Royal Fusiliers.  In 2025 the American Heritage Festival  will also be highlighting the Scotch- Irish Games in honor of those Scot- Irish men from the former Williamsburg area who fought under Marion.  Additionally\, WWII encampments\, displays\, and speakers can be seen along with daily battle reenactments.  The festival highlights speakers such as Durant Ashmore\, on South Carolina Militia; Ron Brown\, USAF Special Operations Museum Curator\, on comparative operations today with the tactics of Francis Marion; and General George Patton’s grandson\, Pat Waters \nGraham’s Historic Farm is also inviting French and Indian War reenactors this year.  The farm is divided into fields surrounded by forest\, which makes each place look like the period being displayed. \nLee Marion – Descendant of Francis Marion’s half brother will be taking part in the festivities.  Music\, food\,  beer & wine will be available. \nGo to www.theamericanheritagefestival.com for more information and to register. \n 
URL:https://reenactingschedule.org/event/the-american-heritage-festival/
LOCATION:Graham’s Historic Farm\, 843 McCutcheon Rd.\, Lake City\, SC\, 29560\, United States
END:VEVENT
END:VCALENDAR