BEGIN:VCALENDAR
VERSION:2.0
PRODID:-//Reenacting Schedule - ECPv6.15.20//NONSGML v1.0//EN
CALSCALE:GREGORIAN
METHOD:PUBLISH
X-ORIGINAL-URL:https://reenactingschedule.org
X-WR-CALDESC:Events for Reenacting Schedule
REFRESH-INTERVAL;VALUE=DURATION:PT1H
X-Robots-Tag:noindex
X-PUBLISHED-TTL:PT1H
BEGIN:VTIMEZONE
TZID:America/Kentucky/Louisville
BEGIN:DAYLIGHT
TZOFFSETFROM:-0500
TZOFFSETTO:-0400
TZNAME:EDT
DTSTART:20230312T070000
END:DAYLIGHT
BEGIN:STANDARD
TZOFFSETFROM:-0400
TZOFFSETTO:-0500
TZNAME:EST
DTSTART:20231105T060000
END:STANDARD
BEGIN:DAYLIGHT
TZOFFSETFROM:-0500
TZOFFSETTO:-0400
TZNAME:EDT
DTSTART:20240310T070000
END:DAYLIGHT
BEGIN:STANDARD
TZOFFSETFROM:-0400
TZOFFSETTO:-0500
TZNAME:EST
DTSTART:20241103T060000
END:STANDARD
BEGIN:DAYLIGHT
TZOFFSETFROM:-0500
TZOFFSETTO:-0400
TZNAME:EDT
DTSTART:20250309T070000
END:DAYLIGHT
BEGIN:STANDARD
TZOFFSETFROM:-0400
TZOFFSETTO:-0500
TZNAME:EST
DTSTART:20251102T060000
END:STANDARD
END:VTIMEZONE
BEGIN:VTIMEZONE
TZID:America/Indiana/Indianapolis
BEGIN:DAYLIGHT
TZOFFSETFROM:-0500
TZOFFSETTO:-0400
TZNAME:EDT
DTSTART:20230312T070000
END:DAYLIGHT
BEGIN:STANDARD
TZOFFSETFROM:-0400
TZOFFSETTO:-0500
TZNAME:EST
DTSTART:20231105T060000
END:STANDARD
BEGIN:DAYLIGHT
TZOFFSETFROM:-0500
TZOFFSETTO:-0400
TZNAME:EDT
DTSTART:20240310T070000
END:DAYLIGHT
BEGIN:STANDARD
TZOFFSETFROM:-0400
TZOFFSETTO:-0500
TZNAME:EST
DTSTART:20241103T060000
END:STANDARD
BEGIN:DAYLIGHT
TZOFFSETFROM:-0500
TZOFFSETTO:-0400
TZNAME:EDT
DTSTART:20250309T070000
END:DAYLIGHT
BEGIN:STANDARD
TZOFFSETFROM:-0400
TZOFFSETTO:-0500
TZNAME:EST
DTSTART:20251102T060000
END:STANDARD
END:VTIMEZONE
BEGIN:VEVENT
DTSTART;TZID=America/Kentucky/Louisville:20241102T080000
DTEND;TZID=America/Kentucky/Louisville:20241103T150000
DTSTAMP:20260425T085220
CREATED:20240917T212227Z
LAST-MODIFIED:20241004T235845Z
UID:10002950-1730534400-1730646000@reenactingschedule.org
SUMMARY:Annual Fort De Chartres Rendezvous
DESCRIPTION:There are 3 events held at this fort each year. This is a large\, reconstructed stone fort that was the seat of French power in the Illinois Country (1723-1763). It was recently listed as a National Park. \nhttps://www.nps.gov/places/fort-de-chartres.htm \nhttps://www.fortdechartres.us/ \nhttps://dnrhistoric.illinois.gov/experience/sites/site.fort-de-chartres.html \n\nFort de Chartres Colonial Market and Trade Fair (Juried event) held every year on the 1st weekend in April (5&6 2025). Link: https://www.fortdechartres.us/les-amis-du-fort-de-chartres/\nAnnual Fort de Chartres Rendezvous – Typical public event held every year on the 1st full weekend in June (7&8 2025) Link: https://www.fortdechartres.us/fort-de-chartres-54th-rendezvous-2024/\nFort de Chartres Winter Rendezvous & Woods Walk held every year first weekend in November (4&5 2024) . A muzzle loading competition with teams of 5  https://www.fortdechartres.us/fort-de-chartres-winter-rendezvous/\n\n  \n 
URL:https://reenactingschedule.org/event/annual-fort-de-chartres-rendezvous/
LOCATION:Fort De Chartres\, 1350 State Route 155\, Prairie du Rocher\, IL\, 62277\, United States
CATEGORIES:Outdoor Trade Fair,Pre 1840 Rendezvous,Reenactment
END:VEVENT
BEGIN:VEVENT
DTSTART;TZID=America/Indiana/Indianapolis:20241103T100000
DTEND;TZID=America/Indiana/Indianapolis:20241103T140000
DTSTAMP:20260425T085220
CREATED:20221211T153610Z
LAST-MODIFIED:20221211T163424Z
UID:10000302-1730628000-1730642400@reenactingschedule.org
SUMMARY:Thunder Creek Long Rifles Monthly Open Shoot
DESCRIPTION:Traditional Black powder shoot.\nMatches consist of Paper and Metal targets but are open to the range officer discretion.\nNMLRA rules.\n$5.00 entry.\nPre1840 attire is appreciated\, but not necessary\nCaplock or Flintlock Muzzleloaders only \nhttp://thundercreeklongrifles.org/About-us/ \nLocation: 8 miles East of Martinsville\, IN\, off of Bear Wallow Rd. Range in Valley off main road\, Cabin and other ranges at the top of the hill.\n23.2”W : 39.326758\, -86.356454 Top of Hill\n39.32960382829761\, -86.35846639894663 Lower Range\nAccess to both areas for members only except for monthly shoots.\nthundercreek1972@gmail.com
URL:https://reenactingschedule.org/event/monthly-open-shoot/2024-11-03/
ATTACH;FMTTYPE=image/jpeg:https://reenactingschedule.org/wp-content/uploads/2022/12/range-summer.jpg
END:VEVENT
END:VCALENDAR